| Back to Multiple platform build/check report for BioC 3.12 |
|
This page was generated on 2021-05-06 12:33:48 -0400 (Thu, 06 May 2021).
|
To the developers/maintainers of the staRank package: Please make sure to use the following settings in order to reproduce any error or warning you see on this page. |
| Package 1797/1974 | Hostname | OS / Arch | INSTALL | BUILD | CHECK | BUILD BIN | ||||||||
| staRank 1.32.0 (landing page) Juliane Siebourg
| malbec1 | Linux (Ubuntu 18.04.5 LTS) / x86_64 | OK | OK | OK | |||||||||
| tokay1 | Windows Server 2012 R2 Standard / x64 | OK | OK | OK | OK | |||||||||
| merida1 | macOS 10.14.6 Mojave / x86_64 | OK | OK | OK | OK | |||||||||
| Package: staRank |
| Version: 1.32.0 |
| Command: rm -rf staRank.buildbin-libdir && mkdir staRank.buildbin-libdir && C:\Users\biocbuild\bbs-3.12-bioc\R\bin\R.exe CMD INSTALL --merge-multiarch --build --library=staRank.buildbin-libdir staRank_1.32.0.tar.gz |
| StartedAt: 2021-05-06 10:12:31 -0400 (Thu, 06 May 2021) |
| EndedAt: 2021-05-06 10:13:16 -0400 (Thu, 06 May 2021) |
| EllapsedTime: 45.5 seconds |
| RetCode: 0 |
| Status: OK |
| PackageFile: staRank_1.32.0.zip |
| PackageFileSize: 1.094 MiB |
##############################################################################
##############################################################################
###
### Running command:
###
### rm -rf staRank.buildbin-libdir && mkdir staRank.buildbin-libdir && C:\Users\biocbuild\bbs-3.12-bioc\R\bin\R.exe CMD INSTALL --merge-multiarch --build --library=staRank.buildbin-libdir staRank_1.32.0.tar.gz
###
##############################################################################
##############################################################################
install for i386
* installing *source* package 'staRank' ...
** using staged installation
** R
** data
** inst
** byte-compile and prepare package for lazy loading
** help
*** installing help indices
converting help for package 'staRank'
finding HTML links ... done
Pi-methods html
RankSummary-class html
aggregRank html
avrgRank-methods html
baseRank-methods html
dataFormatRSA html
getRankmatrix html
getSampleScores-methods html
getStability html
method-methods html
mwTest2samp html
rankCor-methods html
runRSA html
salmonellaInfection html
salmonellaStability html
show-methods html
staRank-package html
stabRank-methods html
stabilityRanking-methods html
stableSetSize-methods html
summary-methods html
summaryStats-methods html
uniqueRSARanking html
** building package indices
** installing vignettes
** testing if installed package can be loaded from temporary location
** testing if installed package can be loaded from final location
** testing if installed package keeps a record of temporary installation path
install for x64
* installing *source* package 'staRank' ...
** testing if installed package can be loaded
* MD5 sums
packaged installation of 'staRank' as staRank_1.32.0.zip
* DONE (staRank)