| Back to Multiple platform build/check report for BioC 3.12 |
|
This page was generated on 2021-05-06 12:33:47 -0400 (Thu, 06 May 2021).
|
To the developers/maintainers of the ssviz package: Please make sure to use the following settings in order to reproduce any error or warning you see on this page. |
| Package 1794/1974 | Hostname | OS / Arch | INSTALL | BUILD | CHECK | BUILD BIN | ||||||||
| ssviz 1.24.0 (landing page) Diana Low
| malbec1 | Linux (Ubuntu 18.04.5 LTS) / x86_64 | OK | OK | OK | |||||||||
| tokay1 | Windows Server 2012 R2 Standard / x64 | OK | OK | OK | OK | |||||||||
| merida1 | macOS 10.14.6 Mojave / x86_64 | OK | OK | OK | OK | |||||||||
| Package: ssviz |
| Version: 1.24.0 |
| Command: C:\cygwin\bin\curl.exe -O http://172.29.0.3/BBS/3.12/bioc/src/contrib/ssviz_1.24.0.tar.gz && rm -rf ssviz.buildbin-libdir && mkdir ssviz.buildbin-libdir && C:\Users\biocbuild\bbs-3.12-bioc\R\bin\R.exe CMD INSTALL --merge-multiarch --build --library=ssviz.buildbin-libdir ssviz_1.24.0.tar.gz && C:\Users\biocbuild\bbs-3.12-bioc\R\bin\R.exe CMD INSTALL ssviz_1.24.0.zip && rm ssviz_1.24.0.tar.gz ssviz_1.24.0.zip |
| StartedAt: 2021-05-05 17:29:26 -0400 (Wed, 05 May 2021) |
| EndedAt: 2021-05-05 17:30:08 -0400 (Wed, 05 May 2021) |
| EllapsedTime: 42.4 seconds |
| RetCode: 0 |
| Status: OK |
##############################################################################
##############################################################################
###
### Running command:
###
### C:\cygwin\bin\curl.exe -O http://172.29.0.3/BBS/3.12/bioc/src/contrib/ssviz_1.24.0.tar.gz && rm -rf ssviz.buildbin-libdir && mkdir ssviz.buildbin-libdir && C:\Users\biocbuild\bbs-3.12-bioc\R\bin\R.exe CMD INSTALL --merge-multiarch --build --library=ssviz.buildbin-libdir ssviz_1.24.0.tar.gz && C:\Users\biocbuild\bbs-3.12-bioc\R\bin\R.exe CMD INSTALL ssviz_1.24.0.zip && rm ssviz_1.24.0.tar.gz ssviz_1.24.0.zip
###
##############################################################################
##############################################################################
% Total % Received % Xferd Average Speed Time Time Time Current
Dload Upload Total Spent Left Speed
0 0 0 0 0 0 0 0 --:--:-- --:--:-- --:--:-- 0
100 823k 100 823k 0 0 6522k 0 --:--:-- --:--:-- --:--:-- 6584k
install for i386
* installing *source* package 'ssviz' ...
** using staged installation
** R
** data
** inst
** byte-compile and prepare package for lazy loading
** help
*** installing help indices
converting help for package 'ssviz'
finding HTML links ... done
counts html
ctrlbam html
getCountMatrix-methods html
getCountMatrix html
logicalORmissing-class html
ntfreq-methods html
ntfreq html
pctrlbam html
pingpong-methods html
pingpong html
plotDistro-methods html
plotDistro html
plotFreq-methods html
plotFreq html
plotPP-methods html
plotPP html
plotRegion-methods html
plotRegion html
ptreatbam html
readBam-methods html
readBam html
ssviz-package html
treatbam html
** building package indices
** installing vignettes
** testing if installed package can be loaded from temporary location
** testing if installed package can be loaded from final location
** testing if installed package keeps a record of temporary installation path
install for x64
* installing *source* package 'ssviz' ...
** testing if installed package can be loaded
* MD5 sums
packaged installation of 'ssviz' as ssviz_1.24.0.zip
* DONE (ssviz)
* installing to library 'C:/Users/biocbuild/bbs-3.12-bioc/R/library'
package 'ssviz' successfully unpacked and MD5 sums checked