| Back to Multiple platform build/check report for BioC 3.12 |
|
This page was generated on 2021-05-06 12:33:47 -0400 (Thu, 06 May 2021).
|
To the developers/maintainers of the srnadiff package: Please make sure to use the following settings in order to reproduce any error or warning you see on this page. |
| Package 1786/1974 | Hostname | OS / Arch | INSTALL | BUILD | CHECK | BUILD BIN | ||||||||
| srnadiff 1.10.1 (landing page) Zytnicki Matthias
| malbec1 | Linux (Ubuntu 18.04.5 LTS) / x86_64 | OK | OK | OK | |||||||||
| tokay1 | Windows Server 2012 R2 Standard / x64 | OK | OK | TIMEOUT | OK | |||||||||
| merida1 | macOS 10.14.6 Mojave / x86_64 | OK | OK | OK | OK | |||||||||
| Package: srnadiff |
| Version: 1.10.1 |
| Command: rm -rf srnadiff.buildbin-libdir && mkdir srnadiff.buildbin-libdir && C:\Users\biocbuild\bbs-3.12-bioc\R\bin\R.exe CMD INSTALL --merge-multiarch --build --library=srnadiff.buildbin-libdir srnadiff_1.10.1.tar.gz |
| StartedAt: 2021-05-06 10:11:52 -0400 (Thu, 06 May 2021) |
| EndedAt: 2021-05-06 10:14:02 -0400 (Thu, 06 May 2021) |
| EllapsedTime: 129.6 seconds |
| RetCode: 0 |
| Status: OK |
| PackageFile: srnadiff_1.10.1.zip |
| PackageFileSize: 3.338 MiB |
##############################################################################
##############################################################################
###
### Running command:
###
### rm -rf srnadiff.buildbin-libdir && mkdir srnadiff.buildbin-libdir && C:\Users\biocbuild\bbs-3.12-bioc\R\bin\R.exe CMD INSTALL --merge-multiarch --build --library=srnadiff.buildbin-libdir srnadiff_1.10.1.tar.gz
###
##############################################################################
##############################################################################
install for i386
* installing *source* package 'srnadiff' ...
** using staged installation
** libs
"C:/rtools40/mingw32/bin/"g++ -std=gnu++11 -I"C:/Users/BIOCBU~1/BBS-3~1.12-/R/include" -DNDEBUG -I'C:/Users/biocbuild/bbs-3.12-bioc/R/library/Rcpp/include' -I"C:/extsoft/include" -O2 -Wall -mfpmath=sse -msse2 -mstackrealign -c RcppExports.cpp -o RcppExports.o
"C:/rtools40/mingw32/bin/"g++ -std=gnu++11 -I"C:/Users/BIOCBU~1/BBS-3~1.12-/R/include" -DNDEBUG -I'C:/Users/biocbuild/bbs-3.12-bioc/R/library/Rcpp/include' -I"C:/extsoft/include" -O2 -Wall -mfpmath=sse -msse2 -mstackrealign -c rcpp_hmm.cpp -o rcpp_hmm.o
"C:/rtools40/mingw32/bin/"g++ -std=gnu++11 -I"C:/Users/BIOCBU~1/BBS-3~1.12-/R/include" -DNDEBUG -I'C:/Users/biocbuild/bbs-3.12-bioc/R/library/Rcpp/include' -I"C:/extsoft/include" -O2 -Wall -mfpmath=sse -msse2 -mstackrealign -c rcpp_ir.cpp -o rcpp_ir.o
"C:/rtools40/mingw32/bin/"g++ -std=gnu++11 -I"C:/Users/BIOCBU~1/BBS-3~1.12-/R/include" -DNDEBUG -I'C:/Users/biocbuild/bbs-3.12-bioc/R/library/Rcpp/include' -I"C:/extsoft/include" -O2 -Wall -mfpmath=sse -msse2 -mstackrealign -c rcpp_main.cpp -o rcpp_main.o
"C:/rtools40/mingw32/bin/"g++ -std=gnu++11 -I"C:/Users/BIOCBU~1/BBS-3~1.12-/R/include" -DNDEBUG -I'C:/Users/biocbuild/bbs-3.12-bioc/R/library/Rcpp/include' -I"C:/extsoft/include" -O2 -Wall -mfpmath=sse -msse2 -mstackrealign -c rcpp_utils.cpp -o rcpp_utils.o
"C:/rtools40/mingw32/bin/"gcc -I"C:/Users/BIOCBU~1/BBS-3~1.12-/R/include" -DNDEBUG -I'C:/Users/biocbuild/bbs-3.12-bioc/R/library/Rcpp/include' -I"C:/extsoft/include" -O2 -Wall -std=gnu99 -mfpmath=sse -msse2 -mstackrealign -c srnadiff_init.c -o srnadiff_init.o
C:/rtools40/mingw32/bin/g++ -shared -s -static-libgcc -o srnadiff.dll tmp.def RcppExports.o rcpp_hmm.o rcpp_ir.o rcpp_main.o rcpp_utils.o srnadiff_init.o -LC:/extsoft/lib/i386 -LC:/extsoft/lib -LC:/Users/BIOCBU~1/BBS-3~1.12-/R/bin/i386 -lR
installing to C:/Users/biocbuild/bbs-3.12-bioc/meat/srnadiff.buildbin-libdir/00LOCK-srnadiff/00new/srnadiff/libs/i386
** R
** inst
** byte-compile and prepare package for lazy loading
** help
*** installing help indices
converting help for package 'srnadiff'
finding HTML links ... done
annotReg html
bamFiles html
Rd warning: C:/Users/biocbuild/bbs-3.12-bioc/tmpdir/RtmpusiepZ/R.INSTALL4380668a48b6/srnadiff/man/bamFiles.Rd:19: file link 'BamFileList' in package 'Rsamtools' does not exist and so has been treated as a topic
chromosomeSizes html
countMatrix html
coverages html
Rd warning: C:/Users/biocbuild/bbs-3.12-bioc/tmpdir/RtmpusiepZ/R.INSTALL4380668a48b6/srnadiff/man/coverages.Rd:19: file link 'RleList' in package 'IRanges' does not exist and so has been treated as a topic
normFactors html
parameters html
plotRegions html
finding level-2 HTML links ... done
Rd warning: C:/Users/biocbuild/bbs-3.12-bioc/tmpdir/RtmpusiepZ/R.INSTALL4380668a48b6/srnadiff/man/plotRegions.Rd:87: file link 'GenomeAxisTrack' in package 'Gviz' does not exist and so has been treated as a topic
Rd warning: C:/Users/biocbuild/bbs-3.12-bioc/tmpdir/RtmpusiepZ/R.INSTALL4380668a48b6/srnadiff/man/plotRegions.Rd:90: file link 'GeneRegionTrack' in package 'Gviz' does not exist and so has been treated as a topic
Rd warning: C:/Users/biocbuild/bbs-3.12-bioc/tmpdir/RtmpusiepZ/R.INSTALL4380668a48b6/srnadiff/man/plotRegions.Rd:93: file link 'AnnotationTrack' in package 'Gviz' does not exist and so has been treated as a topic
Rd warning: C:/Users/biocbuild/bbs-3.12-bioc/tmpdir/RtmpusiepZ/R.INSTALL4380668a48b6/srnadiff/man/plotRegions.Rd:96: file link 'DataTrack' in package 'Gviz' does not exist and so has been treated as a topic
readAnnotation html
regions html
sampleInfo html
srnadiff html
Rd warning: C:/Users/biocbuild/bbs-3.12-bioc/tmpdir/RtmpusiepZ/R.INSTALL4380668a48b6/srnadiff/man/srnadiff.Rd:28: file link 'multicoreWorkers' in package 'BiocParallel' does not exist and so has been treated as a topic
srnadiffDefaultParameters html
srnadiffExample html
srnadiffExp html
Rd warning: C:/Users/biocbuild/bbs-3.12-bioc/tmpdir/RtmpusiepZ/R.INSTALL4380668a48b6/srnadiff/man/srnadiffExp.Rd:59: file link 'BamFileList' in package 'Rsamtools' does not exist and so has been treated as a topic
Rd warning: C:/Users/biocbuild/bbs-3.12-bioc/tmpdir/RtmpusiepZ/R.INSTALL4380668a48b6/srnadiff/man/srnadiffExp.Rd:70: file link 'RleList' in package 'IRanges' does not exist and so has been treated as a topic
** building package indices
** installing vignettes
** testing if installed package can be loaded from temporary location
** testing if installed package can be loaded from final location
** testing if installed package keeps a record of temporary installation path
install for x64
* installing *source* package 'srnadiff' ...
** libs
"C:/rtools40/mingw64/bin/"g++ -std=gnu++11 -I"C:/Users/BIOCBU~1/BBS-3~1.12-/R/include" -DNDEBUG -I'C:/Users/biocbuild/bbs-3.12-bioc/R/library/Rcpp/include' -I"C:/extsoft/include" -O2 -Wall -mfpmath=sse -msse2 -mstackrealign -c RcppExports.cpp -o RcppExports.o
"C:/rtools40/mingw64/bin/"g++ -std=gnu++11 -I"C:/Users/BIOCBU~1/BBS-3~1.12-/R/include" -DNDEBUG -I'C:/Users/biocbuild/bbs-3.12-bioc/R/library/Rcpp/include' -I"C:/extsoft/include" -O2 -Wall -mfpmath=sse -msse2 -mstackrealign -c rcpp_hmm.cpp -o rcpp_hmm.o
"C:/rtools40/mingw64/bin/"g++ -std=gnu++11 -I"C:/Users/BIOCBU~1/BBS-3~1.12-/R/include" -DNDEBUG -I'C:/Users/biocbuild/bbs-3.12-bioc/R/library/Rcpp/include' -I"C:/extsoft/include" -O2 -Wall -mfpmath=sse -msse2 -mstackrealign -c rcpp_ir.cpp -o rcpp_ir.o
"C:/rtools40/mingw64/bin/"g++ -std=gnu++11 -I"C:/Users/BIOCBU~1/BBS-3~1.12-/R/include" -DNDEBUG -I'C:/Users/biocbuild/bbs-3.12-bioc/R/library/Rcpp/include' -I"C:/extsoft/include" -O2 -Wall -mfpmath=sse -msse2 -mstackrealign -c rcpp_main.cpp -o rcpp_main.o
"C:/rtools40/mingw64/bin/"g++ -std=gnu++11 -I"C:/Users/BIOCBU~1/BBS-3~1.12-/R/include" -DNDEBUG -I'C:/Users/biocbuild/bbs-3.12-bioc/R/library/Rcpp/include' -I"C:/extsoft/include" -O2 -Wall -mfpmath=sse -msse2 -mstackrealign -c rcpp_utils.cpp -o rcpp_utils.o
"C:/rtools40/mingw64/bin/"gcc -I"C:/Users/BIOCBU~1/BBS-3~1.12-/R/include" -DNDEBUG -I'C:/Users/biocbuild/bbs-3.12-bioc/R/library/Rcpp/include' -I"C:/extsoft/include" -O2 -Wall -std=gnu99 -mfpmath=sse -msse2 -mstackrealign -c srnadiff_init.c -o srnadiff_init.o
C:/rtools40/mingw64/bin/g++ -shared -s -static-libgcc -o srnadiff.dll tmp.def RcppExports.o rcpp_hmm.o rcpp_ir.o rcpp_main.o rcpp_utils.o srnadiff_init.o -LC:/extsoft/lib/x64 -LC:/extsoft/lib -LC:/Users/BIOCBU~1/BBS-3~1.12-/R/bin/x64 -lR
installing to C:/Users/biocbuild/bbs-3.12-bioc/meat/srnadiff.buildbin-libdir/srnadiff/libs/x64
** testing if installed package can be loaded
* MD5 sums
packaged installation of 'srnadiff' as srnadiff_1.10.1.zip
* DONE (srnadiff)