| Back to Multiple platform build/check report for BioC 3.12 |
|
This page was generated on 2021-05-06 12:29:17 -0400 (Thu, 06 May 2021).
|
To the developers/maintainers of the spkTools package: Please make sure to use the following settings in order to reproduce any error or warning you see on this page. |
| Package 1771/1974 | Hostname | OS / Arch | INSTALL | BUILD | CHECK | BUILD BIN | ||||||||
| spkTools 1.46.0 (landing page) Matthew N McCall
| malbec1 | Linux (Ubuntu 18.04.5 LTS) / x86_64 | OK | OK | OK | |||||||||
| tokay1 | Windows Server 2012 R2 Standard / x64 | OK | OK | OK | OK | |||||||||
| merida1 | macOS 10.14.6 Mojave / x86_64 | OK | OK | OK | OK | |||||||||
| Package: spkTools |
| Version: 1.46.0 |
| Command: /home/biocbuild/bbs-3.12-bioc/R/bin/R CMD check --install=check:spkTools.install-out.txt --library=/home/biocbuild/bbs-3.12-bioc/R/library --no-vignettes --timings spkTools_1.46.0.tar.gz |
| StartedAt: 2021-05-06 06:18:26 -0400 (Thu, 06 May 2021) |
| EndedAt: 2021-05-06 06:20:17 -0400 (Thu, 06 May 2021) |
| EllapsedTime: 111.4 seconds |
| RetCode: 0 |
| Status: OK |
| CheckDir: spkTools.Rcheck |
| Warnings: 0 |
##############################################################################
##############################################################################
###
### Running command:
###
### /home/biocbuild/bbs-3.12-bioc/R/bin/R CMD check --install=check:spkTools.install-out.txt --library=/home/biocbuild/bbs-3.12-bioc/R/library --no-vignettes --timings spkTools_1.46.0.tar.gz
###
##############################################################################
##############################################################################
* using log directory ‘/home/biocbuild/bbs-3.12-bioc/meat/spkTools.Rcheck’
* using R version 4.0.5 (2021-03-31)
* using platform: x86_64-pc-linux-gnu (64-bit)
* using session charset: UTF-8
* using option ‘--no-vignettes’
* checking for file ‘spkTools/DESCRIPTION’ ... OK
* this is package ‘spkTools’ version ‘1.46.0’
* checking package namespace information ... OK
* checking package dependencies ... OK
* checking if this is a source package ... OK
* checking if there is a namespace ... OK
* checking for hidden files and directories ... OK
* checking for portable file names ... OK
* checking for sufficient/correct file permissions ... OK
* checking whether package ‘spkTools’ can be installed ... OK
* checking installed package size ... OK
* checking package directory ... OK
* checking ‘build’ directory ... OK
* checking DESCRIPTION meta-information ... NOTE
Package listed in more than one of Depends, Imports, Suggests, Enhances:
‘Biobase’
A package should be listed in only one of these fields.
* checking top-level files ... OK
* checking for left-over files ... OK
* checking index information ... OK
* checking package subdirectories ... OK
* checking R files for non-ASCII characters ... OK
* checking R files for syntax errors ... OK
* checking whether the package can be loaded ... OK
* checking whether the package can be loaded with stated dependencies ... OK
* checking whether the package can be unloaded cleanly ... OK
* checking whether the namespace can be loaded with stated dependencies ... OK
* checking whether the namespace can be unloaded cleanly ... OK
* checking dependencies in R code ... OK
* checking S3 generic/method consistency ... OK
* checking replacement functions ... OK
* checking foreign function calls ... OK
* checking R code for possible problems ... OK
* checking Rd files ... OK
* checking Rd metadata ... OK
* checking Rd cross-references ... OK
* checking for missing documentation entries ... OK
* checking for code/documentation mismatches ... OK
* checking Rd \usage sections ... OK
* checking Rd contents ... OK
* checking for unstated dependencies in examples ... OK
* checking contents of ‘data’ directory ... OK
* checking data for non-ASCII characters ... OK
* checking data for ASCII and uncompressed saves ... OK
* checking files in ‘vignettes’ ... OK
* checking examples ... OK
Examples with CPU (user + system) or elapsed time > 5s
user system elapsed
spkAll 31.372 0.008 31.444
spkTools 29.760 0.048 29.853
spkGNN 9.228 0.020 9.260
* checking for unstated dependencies in vignettes ... OK
* checking package vignettes in ‘inst/doc’ ... OK
* checking running R code from vignettes ... SKIPPED
* checking re-building of vignette outputs ... SKIPPED
* checking PDF version of manual ... OK
* DONE
Status: 1 NOTE
See
‘/home/biocbuild/bbs-3.12-bioc/meat/spkTools.Rcheck/00check.log’
for details.
spkTools.Rcheck/00install.out
############################################################################## ############################################################################## ### ### Running command: ### ### /home/biocbuild/bbs-3.12-bioc/R/bin/R CMD INSTALL spkTools ### ############################################################################## ############################################################################## * installing to library ‘/home/biocbuild/bbs-3.12-bioc/R/library’ * installing *source* package ‘spkTools’ ... ** using staged installation ** R ** data ** byte-compile and prepare package for lazy loading ** help *** installing help indices ** building package indices ** installing vignettes ** testing if installed package can be loaded from temporary location ** testing if installed package can be loaded from final location ** testing if installed package keeps a record of temporary installation path * DONE (spkTools)
spkTools.Rcheck/spkTools-Ex.timings
| name | user | system | elapsed | |
| SpikeInExpressSet-class | 0.224 | 0.012 | 0.236 | |
| plotSpkBox | 0.920 | 0.020 | 0.941 | |
| spkAccSD | 0.256 | 0.000 | 0.256 | |
| spkAll | 31.372 | 0.008 | 31.444 | |
| spkAnova | 0.112 | 0.000 | 0.112 | |
| spkBal | 0.072 | 0.000 | 0.073 | |
| spkBox | 0.712 | 0.092 | 0.803 | |
| spkDensity | 0.208 | 0.004 | 0.212 | |
| spkGNN | 9.228 | 0.020 | 9.260 | |
| spkMA | 1.612 | 0.016 | 1.635 | |
| spkPair | 0.068 | 0.000 | 0.069 | |
| spkPairNS | 0.056 | 0.004 | 0.061 | |
| spkPot | 0.888 | 0.000 | 0.892 | |
| spkQuantile | 0.108 | 0.000 | 0.109 | |
| spkSlope | 0.112 | 0.000 | 0.112 | |
| spkTools | 29.760 | 0.048 | 29.853 | |
| spkVar | 0.080 | 0.000 | 0.082 | |
| summarySpkBox | 0.920 | 0.000 | 0.921 | |