| Back to Multiple platform build/check report for BioC 3.12 |
|
This page was generated on 2021-05-06 12:33:44 -0400 (Thu, 06 May 2021).
|
To the developers/maintainers of the specL package: Please make sure to use the following settings in order to reproduce any error or warning you see on this page. |
| Package 1762/1974 | Hostname | OS / Arch | INSTALL | BUILD | CHECK | BUILD BIN | ||||||||
| specL 1.24.0 (landing page) Christian Panse
| malbec1 | Linux (Ubuntu 18.04.5 LTS) / x86_64 | OK | OK | OK | |||||||||
| tokay1 | Windows Server 2012 R2 Standard / x64 | OK | OK | OK | OK | |||||||||
| merida1 | macOS 10.14.6 Mojave / x86_64 | OK | OK | OK | OK | |||||||||
| Package: specL |
| Version: 1.24.0 |
| Command: rm -rf specL.buildbin-libdir && mkdir specL.buildbin-libdir && C:\Users\biocbuild\bbs-3.12-bioc\R\bin\R.exe CMD INSTALL --merge-multiarch --build --library=specL.buildbin-libdir specL_1.24.0.tar.gz |
| StartedAt: 2021-05-06 10:10:32 -0400 (Thu, 06 May 2021) |
| EndedAt: 2021-05-06 10:10:53 -0400 (Thu, 06 May 2021) |
| EllapsedTime: 21.5 seconds |
| RetCode: 0 |
| Status: OK |
| PackageFile: specL_1.24.0.zip |
| PackageFileSize: 1.384 MiB |
##############################################################################
##############################################################################
###
### Running command:
###
### rm -rf specL.buildbin-libdir && mkdir specL.buildbin-libdir && C:\Users\biocbuild\bbs-3.12-bioc\R\bin\R.exe CMD INSTALL --merge-multiarch --build --library=specL.buildbin-libdir specL_1.24.0.tar.gz
###
##############################################################################
##############################################################################
install for i386
* installing *source* package 'specL' ...
** using staged installation
** R
** data
*** moving datasets to lazyload DB
** inst
** byte-compile and prepare package for lazy loading
** help
*** installing help indices
converting help for package 'specL'
finding HTML links ... done
annotate.protein_id html
cdsw html
genSwathIonLib html
iRTpeptides html
ms1.p2069 html
peptideStd html
plot-methods html
read.bibliospec html
show-methods html
specL-class html
specLSet-class html
write.spectronaut-methods html
** building package indices
** installing vignettes
** testing if installed package can be loaded from temporary location
** testing if installed package can be loaded from final location
** testing if installed package keeps a record of temporary installation path
install for x64
* installing *source* package 'specL' ...
** testing if installed package can be loaded
* MD5 sums
packaged installation of 'specL' as specL_1.24.0.zip
* DONE (specL)