| Back to Multiple platform build/check report for BioC 3.12 |
|
This page was generated on 2021-05-06 12:33:39 -0400 (Thu, 06 May 2021).
|
To the developers/maintainers of the singscore package: Please make sure to use the following settings in order to reproduce any error or warning you see on this page. |
| Package 1727/1974 | Hostname | OS / Arch | INSTALL | BUILD | CHECK | BUILD BIN | ||||||||
| singscore 1.10.0 (landing page) Dharmesh D. Bhuva
| malbec1 | Linux (Ubuntu 18.04.5 LTS) / x86_64 | OK | OK | OK | |||||||||
| tokay1 | Windows Server 2012 R2 Standard / x64 | OK | OK | OK | OK | |||||||||
| merida1 | macOS 10.14.6 Mojave / x86_64 | OK | OK | OK | OK | |||||||||
| Package: singscore |
| Version: 1.10.0 |
| Command: rm -rf singscore.buildbin-libdir && mkdir singscore.buildbin-libdir && C:\Users\biocbuild\bbs-3.12-bioc\R\bin\R.exe CMD INSTALL --merge-multiarch --build --library=singscore.buildbin-libdir singscore_1.10.0.tar.gz |
| StartedAt: 2021-05-06 10:08:37 -0400 (Thu, 06 May 2021) |
| EndedAt: 2021-05-06 10:09:29 -0400 (Thu, 06 May 2021) |
| EllapsedTime: 52.0 seconds |
| RetCode: 0 |
| Status: OK |
| PackageFile: singscore_1.10.0.zip |
| PackageFileSize: 3.868 MiB |
##############################################################################
##############################################################################
###
### Running command:
###
### rm -rf singscore.buildbin-libdir && mkdir singscore.buildbin-libdir && C:\Users\biocbuild\bbs-3.12-bioc\R\bin\R.exe CMD INSTALL --merge-multiarch --build --library=singscore.buildbin-libdir singscore_1.10.0.tar.gz
###
##############################################################################
##############################################################################
install for i386
* installing *source* package 'singscore' ...
** using staged installation
It is recommended to use 'given' instead of 'middle'.
** R
** data
*** moving datasets to lazyload DB
** inst
** byte-compile and prepare package for lazy loading
** help
*** installing help indices
converting help for package 'singscore'
finding HTML links ... done
generateNull html
generateNull_intl html
getPvals html
getStableGenes html
multiScore html
finding level-2 HTML links ... done
plotDispersion html
plotNull html
plotRankDensity html
plotRankDensity_intl html
plotScoreLandscape html
projectScoreLandscape html
rankGenes html
scoredf_ccle_epi html
scoredf_ccle_mes html
scoredf_tcga_epi html
scoredf_tcga_mes html
simpleScore html
singscore html
tgfb_expr_10_se html
tgfb_gs_dn html
tgfb_gs_up html
toy_expr_se html
toy_gs_dn html
toy_gs_up html
*** copying figures
** building package indices
** installing vignettes
** testing if installed package can be loaded from temporary location
** testing if installed package can be loaded from final location
** testing if installed package keeps a record of temporary installation path
install for x64
* installing *source* package 'singscore' ...
** testing if installed package can be loaded
* MD5 sums
packaged installation of 'singscore' as singscore_1.10.0.zip
* DONE (singscore)