| Back to Multiple platform build/check report for BioC 3.12 |
|
This page was generated on 2021-05-06 12:33:38 -0400 (Thu, 06 May 2021).
|
To the developers/maintainers of the simplifyEnrichment package: Please make sure to use the following settings in order to reproduce any error or warning you see on this page. |
| Package 1720/1974 | Hostname | OS / Arch | INSTALL | BUILD | CHECK | BUILD BIN | ||||||||
| simplifyEnrichment 1.0.0 (landing page) Zuguang Gu
| malbec1 | Linux (Ubuntu 18.04.5 LTS) / x86_64 | OK | OK | OK | |||||||||
| tokay1 | Windows Server 2012 R2 Standard / x64 | OK | OK | OK | OK | |||||||||
| merida1 | macOS 10.14.6 Mojave / x86_64 | OK | OK | OK | OK | |||||||||
| Package: simplifyEnrichment |
| Version: 1.0.0 |
| Command: C:\cygwin\bin\curl.exe -O http://172.29.0.3/BBS/3.12/bioc/src/contrib/simplifyEnrichment_1.0.0.tar.gz && rm -rf simplifyEnrichment.buildbin-libdir && mkdir simplifyEnrichment.buildbin-libdir && C:\Users\biocbuild\bbs-3.12-bioc\R\bin\R.exe CMD INSTALL --merge-multiarch --build --library=simplifyEnrichment.buildbin-libdir simplifyEnrichment_1.0.0.tar.gz && C:\Users\biocbuild\bbs-3.12-bioc\R\bin\R.exe CMD INSTALL simplifyEnrichment_1.0.0.zip && rm simplifyEnrichment_1.0.0.tar.gz simplifyEnrichment_1.0.0.zip |
| StartedAt: 2021-05-05 17:32:41 -0400 (Wed, 05 May 2021) |
| EndedAt: 2021-05-05 17:34:23 -0400 (Wed, 05 May 2021) |
| EllapsedTime: 102.3 seconds |
| RetCode: 0 |
| Status: OK |
##############################################################################
##############################################################################
###
### Running command:
###
### C:\cygwin\bin\curl.exe -O http://172.29.0.3/BBS/3.12/bioc/src/contrib/simplifyEnrichment_1.0.0.tar.gz && rm -rf simplifyEnrichment.buildbin-libdir && mkdir simplifyEnrichment.buildbin-libdir && C:\Users\biocbuild\bbs-3.12-bioc\R\bin\R.exe CMD INSTALL --merge-multiarch --build --library=simplifyEnrichment.buildbin-libdir simplifyEnrichment_1.0.0.tar.gz && C:\Users\biocbuild\bbs-3.12-bioc\R\bin\R.exe CMD INSTALL simplifyEnrichment_1.0.0.zip && rm simplifyEnrichment_1.0.0.tar.gz simplifyEnrichment_1.0.0.zip
###
##############################################################################
##############################################################################
% Total % Received % Xferd Average Speed Time Time Time Current
Dload Upload Total Spent Left Speed
0 0 0 0 0 0 0 0 --:--:-- --:--:-- --:--:-- 0
100 14.6M 100 14.6M 0 0 99.4M 0 --:--:-- --:--:-- --:--:-- 99.9M
install for i386
* installing *source* package 'simplifyEnrichment' ...
** using staged installation
** R
** inst
** byte-compile and prepare package for lazy loading
** help
*** installing help indices
converting help for package 'simplifyEnrichment'
finding HTML links ... done
DO_similarity html
GO_similarity html
all_clustering_methods html
binary_cut html
cluster_by_MCL html
cluster_by_apcluster html
cluster_by_dynamicTreeCut html
cluster_by_hdbscan html
cluster_by_igraph html
cluster_by_kmeans html
cluster_by_mclust html
cluster_terms html
cmp_make_clusters html
cmp_make_plot html
compare_clustering_methods html
count_word html
dend_node_apply html
difference_score html
edit_node html
guess_ont html
heightDetails.word_cloud html
ht_clusters html
partition_by_hclust html
partition_by_kmeans html
partition_by_kmeanspp html
partition_by_pam html
plot_binary_cut html
random_DO html
random_GO html
register_clustering_methods html
remove_clustering_methods html
reset_clustering_methods html
scale_fontsize html
select_cutoff html
simplifyEnrichment html
simplifyGO html
subset_enrichResult html
term_similarity html
term_similarity_from_KEGG html
term_similarity_from_MSigDB html
term_similarity_from_Reactome html
term_similarity_from_enrichResult html
term_similarity_from_gmt html
widthDetails.word_cloud html
word_cloud_grob html
** building package indices
** installing vignettes
** testing if installed package can be loaded from temporary location
** testing if installed package can be loaded from final location
** testing if installed package keeps a record of temporary installation path
install for x64
* installing *source* package 'simplifyEnrichment' ...
** testing if installed package can be loaded
* MD5 sums
packaged installation of 'simplifyEnrichment' as simplifyEnrichment_1.0.0.zip
* DONE (simplifyEnrichment)
* installing to library 'C:/Users/biocbuild/bbs-3.12-bioc/R/library'
package 'simplifyEnrichment' successfully unpacked and MD5 sums checked