| Back to Multiple platform build/check report for BioC 3.12 |
|
This page was generated on 2021-05-06 12:33:38 -0400 (Thu, 06 May 2021).
|
To the developers/maintainers of the simpleaffy package: Please make sure to use the following settings in order to reproduce any error or warning you see on this page. |
| Package 1719/1974 | Hostname | OS / Arch | INSTALL | BUILD | CHECK | BUILD BIN | ||||||||
Crispin Miller
| malbec1 | Linux (Ubuntu 18.04.5 LTS) / x86_64 | OK | OK | WARNINGS | |||||||||
| tokay1 | Windows Server 2012 R2 Standard / x64 | OK | OK | WARNINGS | OK | |||||||||
| merida1 | macOS 10.14.6 Mojave / x86_64 | OK | OK | WARNINGS | OK | |||||||||
| Package: simpleaffy |
| Version: 2.66.0 |
| Command: rm -rf simpleaffy.buildbin-libdir && mkdir simpleaffy.buildbin-libdir && C:\Users\biocbuild\bbs-3.12-bioc\R\bin\R.exe CMD INSTALL --merge-multiarch --build --library=simpleaffy.buildbin-libdir simpleaffy_2.66.0.tar.gz |
| StartedAt: 2021-05-06 10:08:13 -0400 (Thu, 06 May 2021) |
| EndedAt: 2021-05-06 10:08:58 -0400 (Thu, 06 May 2021) |
| EllapsedTime: 44.9 seconds |
| RetCode: 0 |
| Status: OK |
| PackageFile: simpleaffy_2.66.0.zip |
| PackageFileSize: 806.9 KiB |
##############################################################################
##############################################################################
###
### Running command:
###
### rm -rf simpleaffy.buildbin-libdir && mkdir simpleaffy.buildbin-libdir && C:\Users\biocbuild\bbs-3.12-bioc\R\bin\R.exe CMD INSTALL --merge-multiarch --build --library=simpleaffy.buildbin-libdir simpleaffy_2.66.0.tar.gz
###
##############################################################################
##############################################################################
install for i386
* installing *source* package 'simpleaffy' ...
** using staged installation
** libs
"C:/rtools40/mingw32/bin/"gcc -I"C:/Users/BIOCBU~1/BBS-3~1.12-/R/include" -DNDEBUG -I"C:/extsoft/include" -O2 -Wall -std=gnu99 -mfpmath=sse -msse2 -mstackrealign -c simpleaffy.c -o simpleaffy.o
simpleaffy.c: In function 'bgmas':
simpleaffy.c:440:30: warning: passing argument 1 of 'REprintf' from incompatible pointer type [-Wincompatible-pointer-types]
if(gn >= ngrid) REprintf(stderr,"Really ouch! %d %d\n",gn,ends[gn]);
^~~~~~
In file included from C:/Users/BIOCBU~1/BBS-3~1.12-/R/include/R.h:88,
from simpleaffy.c:5:
C:/Users/BIOCBU~1/BBS-3~1.12-/R/include/R_ext/Print.h:46:15: note: expected 'const char *' but argument is of type 'FILE *' {aka 'struct _iobuf *'}
void REprintf(const char *, ...);
^~~~~~~~~~~~
C:/rtools40/mingw32/bin/gcc -shared -s -static-libgcc -o simpleaffy.dll tmp.def simpleaffy.o -LC:/extsoft/lib/i386 -LC:/extsoft/lib -LC:/Users/BIOCBU~1/BBS-3~1.12-/R/bin/i386 -lR
installing to C:/Users/biocbuild/bbs-3.12-bioc/meat/simpleaffy.buildbin-libdir/00LOCK-simpleaffy/00new/simpleaffy/libs/i386
** R
** data
** inst
** byte-compile and prepare package for lazy loading
** help
*** installing help indices
converting help for package 'simpleaffy'
finding HTML links ... done
PairComp-class html
QCStats-class html
all.present html
all.present.in.group html
bg.correct.sa html
call.exprs html
detection.p.val html
get.annotation html
get.array.indices html
get.array.subset html
get.array.subset.affy html
get.fold.change.and.t.test html
hmap.colors html
hmap.eset html
hmap.pc html
journalpng html
justMAS html
pairwise.comparison html
pairwise.filter html
plot.pairwise.comparison html
plot.qc.stats html
qc html
qc.affy html
qc.get.alpha1 html
qc.get.array html
qc.get.probes html
qc.get.ratios html
qc.get.spikes html
qc.have.params html
qc.ok html
qc.read.file html
qc.stats html
read.affy html
read.affy.mixed html
setQCEnvironment html
simpleaffy-deprecated html
standard.pearson html
trad.scatter.plot html
** building package indices
** installing vignettes
** testing if installed package can be loaded from temporary location
Warning: Package 'simpleaffy' is deprecated and will be removed from
Bioconductor version 3.13
** testing if installed package can be loaded from final location
Warning: Package 'simpleaffy' is deprecated and will be removed from
Bioconductor version 3.13
** testing if installed package keeps a record of temporary installation path
install for x64
* installing *source* package 'simpleaffy' ...
** libs
"C:/rtools40/mingw64/bin/"gcc -I"C:/Users/BIOCBU~1/BBS-3~1.12-/R/include" -DNDEBUG -I"C:/extsoft/include" -O2 -Wall -std=gnu99 -mfpmath=sse -msse2 -mstackrealign -c simpleaffy.c -o simpleaffy.o
simpleaffy.c: In function 'bgmas':
simpleaffy.c:440:30: warning: passing argument 1 of 'REprintf' from incompatible pointer type [-Wincompatible-pointer-types]
if(gn >= ngrid) REprintf(stderr,"Really ouch! %d %d\n",gn,ends[gn]);
^~~~~~
In file included from C:/Users/BIOCBU~1/BBS-3~1.12-/R/include/R.h:88,
from simpleaffy.c:5:
C:/Users/BIOCBU~1/BBS-3~1.12-/R/include/R_ext/Print.h:46:15: note: expected 'const char *' but argument is of type 'FILE *' {aka 'struct _iobuf *'}
void REprintf(const char *, ...);
^~~~~~~~~~~~
C:/rtools40/mingw64/bin/gcc -shared -s -static-libgcc -o simpleaffy.dll tmp.def simpleaffy.o -LC:/extsoft/lib/x64 -LC:/extsoft/lib -LC:/Users/BIOCBU~1/BBS-3~1.12-/R/bin/x64 -lR
installing to C:/Users/biocbuild/bbs-3.12-bioc/meat/simpleaffy.buildbin-libdir/simpleaffy/libs/x64
** testing if installed package can be loaded
Warning: Package 'simpleaffy' is deprecated and will be removed from
Bioconductor version 3.13
* MD5 sums
packaged installation of 'simpleaffy' as simpleaffy_2.66.0.zip
* DONE (simpleaffy)