| Back to Multiple platform build/check report for BioC 3.12 |
|
This page was generated on 2021-05-06 12:29:08 -0400 (Thu, 06 May 2021).
|
To the developers/maintainers of the signatureSearch package: Please make sure to use the following settings in order to reproduce any error or warning you see on this page. |
| Package 1706/1974 | Hostname | OS / Arch | INSTALL | BUILD | CHECK | BUILD BIN | ||||||||
| signatureSearch 1.4.6 (landing page) Yuzhu Duan
| malbec1 | Linux (Ubuntu 18.04.5 LTS) / x86_64 | OK | OK | OK | |||||||||
| tokay1 | Windows Server 2012 R2 Standard / x64 | OK | OK | OK | OK | |||||||||
| merida1 | macOS 10.14.6 Mojave / x86_64 | OK | OK | OK | OK | |||||||||
| Package: signatureSearch |
| Version: 1.4.6 |
| Command: /home/biocbuild/bbs-3.12-bioc/R/bin/R CMD check --install=check:signatureSearch.install-out.txt --library=/home/biocbuild/bbs-3.12-bioc/R/library --no-vignettes --timings signatureSearch_1.4.6.tar.gz |
| StartedAt: 2021-05-06 06:03:22 -0400 (Thu, 06 May 2021) |
| EndedAt: 2021-05-06 06:10:27 -0400 (Thu, 06 May 2021) |
| EllapsedTime: 425.7 seconds |
| RetCode: 0 |
| Status: OK |
| CheckDir: signatureSearch.Rcheck |
| Warnings: 0 |
##############################################################################
##############################################################################
###
### Running command:
###
### /home/biocbuild/bbs-3.12-bioc/R/bin/R CMD check --install=check:signatureSearch.install-out.txt --library=/home/biocbuild/bbs-3.12-bioc/R/library --no-vignettes --timings signatureSearch_1.4.6.tar.gz
###
##############################################################################
##############################################################################
* using log directory ‘/home/biocbuild/bbs-3.12-bioc/meat/signatureSearch.Rcheck’
* using R version 4.0.5 (2021-03-31)
* using platform: x86_64-pc-linux-gnu (64-bit)
* using session charset: UTF-8
* using option ‘--no-vignettes’
* checking for file ‘signatureSearch/DESCRIPTION’ ... OK
* this is package ‘signatureSearch’ version ‘1.4.6’
* package encoding: UTF-8
* checking package namespace information ... OK
* checking package dependencies ... OK
* checking if this is a source package ... OK
* checking if there is a namespace ... OK
* checking for hidden files and directories ... NOTE
Found the following hidden files and directories:
inst/extdata/.batchtools.conf.R
These were most likely included in error. See section ‘Package
structure’ in the ‘Writing R Extensions’ manual.
* checking for portable file names ... OK
* checking for sufficient/correct file permissions ... OK
* checking whether package ‘signatureSearch’ can be installed ... OK
* checking installed package size ... OK
* checking package directory ... OK
* checking ‘build’ directory ... OK
* checking DESCRIPTION meta-information ... OK
* checking top-level files ... OK
* checking for left-over files ... OK
* checking index information ... OK
* checking package subdirectories ... OK
* checking R files for non-ASCII characters ... OK
* checking R files for syntax errors ... OK
* checking whether the package can be loaded ... OK
* checking whether the package can be loaded with stated dependencies ... OK
* checking whether the package can be unloaded cleanly ... OK
* checking whether the namespace can be loaded with stated dependencies ... OK
* checking whether the namespace can be unloaded cleanly ... OK
* checking dependencies in R code ... OK
* checking S3 generic/method consistency ... OK
* checking replacement functions ... OK
* checking foreign function calls ... OK
* checking R code for possible problems ... OK
* checking Rd files ... OK
* checking Rd metadata ... OK
* checking Rd cross-references ... OK
* checking for missing documentation entries ... OK
* checking for code/documentation mismatches ... OK
* checking Rd \usage sections ... OK
* checking Rd contents ... OK
* checking for unstated dependencies in examples ... OK
* checking contents of ‘data’ directory ... OK
* checking data for non-ASCII characters ... OK
* checking data for ASCII and uncompressed saves ... OK
* checking R/sysdata.rda ... OK
* checking line endings in C/C++/Fortran sources/headers ... OK
* checking compiled code ... NOTE
Note: information on .o files is not available
* checking files in ‘vignettes’ ... OK
* checking examples ... OK
Examples with CPU (user + system) or elapsed time > 5s
user system elapsed
runWF 64.016 1.164 74.436
set_readable 36.660 0.500 37.709
dtnetplot 6.904 0.172 7.624
get_targets 5.072 0.060 5.559
getSig 4.900 0.040 5.612
* checking for unstated dependencies in ‘tests’ ... OK
* checking tests ...
Running ‘testthat.R’
OK
* checking for unstated dependencies in vignettes ... OK
* checking package vignettes in ‘inst/doc’ ... OK
* checking running R code from vignettes ... SKIPPED
* checking re-building of vignette outputs ... SKIPPED
* checking PDF version of manual ... OK
* DONE
Status: 2 NOTEs
See
‘/home/biocbuild/bbs-3.12-bioc/meat/signatureSearch.Rcheck/00check.log’
for details.
signatureSearch.Rcheck/00install.out
##############################################################################
##############################################################################
###
### Running command:
###
### /home/biocbuild/bbs-3.12-bioc/R/bin/R CMD INSTALL signatureSearch
###
##############################################################################
##############################################################################
* installing to library ‘/home/biocbuild/bbs-3.12-bioc/R/library’
* installing *source* package ‘signatureSearch’ ...
** using staged installation
** libs
g++ -std=gnu++11 -I"/home/biocbuild/bbs-3.12-bioc/R/include" -DNDEBUG -I'/home/biocbuild/bbs-3.12-bioc/R/library/Rcpp/include' -I/usr/local/include -fpic -g -O2 -Wall -c RcppExports.cpp -o RcppExports.o
g++ -std=gnu++11 -I"/home/biocbuild/bbs-3.12-bioc/R/include" -DNDEBUG -I'/home/biocbuild/bbs-3.12-bioc/R/library/Rcpp/include' -I/usr/local/include -fpic -g -O2 -Wall -c fastGSEA.cpp -o fastGSEA.o
fastGSEA.cpp: In function ‘Rcpp::NumericVector calcGseaStatBatchCpp(const NumericVector&, const List&, const IntegerVector&)’:
fastGSEA.cpp:444:27: warning: comparison between signed and unsigned integer expressions [-Wsign-compare]
for (int j = 0; j < S.size(); ++j) {
~~^~~~~~~~~~
gcc -I"/home/biocbuild/bbs-3.12-bioc/R/include" -DNDEBUG -I'/home/biocbuild/bbs-3.12-bioc/R/library/Rcpp/include' -I/usr/local/include -fpic -g -O2 -Wall -c fgsea_init.c -o fgsea_init.o
g++ -std=gnu++11 -shared -L/home/biocbuild/bbs-3.12-bioc/R/lib -L/usr/local/lib -o signatureSearch.so RcppExports.o fastGSEA.o fgsea_init.o -L/home/biocbuild/bbs-3.12-bioc/R/lib -lR
installing to /home/biocbuild/bbs-3.12-bioc/R/library/00LOCK-signatureSearch/00new/signatureSearch/libs
** R
** data
*** moving datasets to lazyload DB
** inst
** byte-compile and prepare package for lazy loading
** help
*** installing help indices
** building package indices
** installing vignettes
** testing if installed package can be loaded from temporary location
** checking absolute paths in shared objects and dynamic libraries
** testing if installed package can be loaded from final location
** testing if installed package keeps a record of temporary installation path
* DONE (signatureSearch)
signatureSearch.Rcheck/tests/testthat.Rout
R version 4.0.5 (2021-03-31) -- "Shake and Throw"
Copyright (C) 2021 The R Foundation for Statistical Computing
Platform: x86_64-pc-linux-gnu (64-bit)
R is free software and comes with ABSOLUTELY NO WARRANTY.
You are welcome to redistribute it under certain conditions.
Type 'license()' or 'licence()' for distribution details.
R is a collaborative project with many contributors.
Type 'contributors()' for more information and
'citation()' on how to cite R or R packages in publications.
Type 'demo()' for some demos, 'help()' for on-line help, or
'help.start()' for an HTML browser interface to help.
Type 'q()' to quit R.
> # library(testthat)
> # library(signatureSearch)
> #
> # test_check("signatureSearch")
>
> proc.time()
user system elapsed
0.236 0.044 0.280
signatureSearch.Rcheck/signatureSearch-Ex.timings
| name | user | system | elapsed | |
| add_pcid | 0.004 | 0.000 | 0.003 | |
| append2H5 | 0.104 | 0.000 | 0.103 | |
| build_custom_db | 0.400 | 0.004 | 0.402 | |
| cellNtestPlot | 2.900 | 0.124 | 3.439 | |
| cell_info | 0.076 | 0.016 | 0.091 | |
| chembl_moa_list | 0.000 | 0.004 | 0.004 | |
| clue_moa_list | 0.000 | 0.000 | 0.004 | |
| comp_fea_res | 0.136 | 0.008 | 0.145 | |
| create_empty_h5 | 0.024 | 0.000 | 0.021 | |
| dim-methods | 0.008 | 0.000 | 0.009 | |
| drug_cell_ranks | 0.008 | 0.000 | 0.009 | |
| drugs-methods | 0.000 | 0.000 | 0.002 | |
| drugs10 | 0.000 | 0.004 | 0.001 | |
| dsea_GSEA | 0.000 | 0.000 | 0.002 | |
| dsea_hyperG | 0.000 | 0.000 | 0.002 | |
| dtnetplot | 6.904 | 0.172 | 7.624 | |
| enrichGO2 | 0 | 0 | 0 | |
| enrichKEGG2 | 0 | 0 | 0 | |
| enrichMOA | 0.064 | 0.000 | 0.094 | |
| enrichReactome | 0 | 0 | 0 | |
| feaResult | 0.004 | 0.000 | 0.003 | |
| gctx2h5 | 0.624 | 0.092 | 0.762 | |
| gessResult | 0.000 | 0.004 | 0.003 | |
| gess_cmap | 0.000 | 0.000 | 0.001 | |
| gess_cor | 0.004 | 0.000 | 0.000 | |
| gess_fisher | 0 | 0 | 0 | |
| gess_gcmap | 0.000 | 0.000 | 0.001 | |
| gess_lincs | 0.004 | 0.000 | 0.000 | |
| gess_res_vis | 0.240 | 0.008 | 0.248 | |
| getSig | 4.900 | 0.040 | 5.612 | |
| get_targets | 5.072 | 0.060 | 5.559 | |
| get_treat_info | 1.876 | 0.028 | 2.172 | |
| gmt2h5 | 0.144 | 0.092 | 0.244 | |
| gseGO2 | 0.000 | 0.000 | 0.002 | |
| gseKEGG2 | 0.016 | 0.004 | 0.018 | |
| gseReactome | 0.012 | 0.004 | 0.014 | |
| head-methods | 0.012 | 0.000 | 0.011 | |
| lincs_expr_inst_info | 0.056 | 0.000 | 0.057 | |
| lincs_pert_info | 0.092 | 0.008 | 0.103 | |
| lincs_sig_info | 0.060 | 0.000 | 0.062 | |
| mabsGO | 0.004 | 0.000 | 0.002 | |
| mabsKEGG | 0.012 | 0.000 | 0.013 | |
| mabsReactome | 0.012 | 0.000 | 0.014 | |
| matrix2h5 | 0.076 | 0.012 | 0.088 | |
| moa_conn | 0.048 | 0.000 | 0.049 | |
| parse_gctx | 0.128 | 0.000 | 0.127 | |
| qSig | 4.208 | 0.128 | 4.872 | |
| rand_query_ES | 4.020 | 0.128 | 4.208 | |
| read_gmt | 0 | 0 | 0 | |
| result-methods | 0.024 | 0.000 | 0.027 | |
| runWF | 64.016 | 1.164 | 74.436 | |
| set_readable | 36.660 | 0.500 | 37.709 | |
| show-methods | 0.024 | 0.004 | 0.029 | |
| sim_score_grp | 0.016 | 0.000 | 0.016 | |
| tail-methods | 0.008 | 0.000 | 0.007 | |
| tarReduce | 0 | 0 | 0 | |
| targetList | 0.004 | 0.000 | 0.003 | |
| tsea_dup_hyperG | 0.000 | 0.000 | 0.002 | |
| tsea_mGSEA | 0.000 | 0.000 | 0.001 | |
| tsea_mabs | 0.000 | 0.000 | 0.001 | |
| vec_char_redu | 0.000 | 0.000 | 0.001 | |