| Back to Multiple platform build/check report for BioC 3.12 |
|
This page was generated on 2021-05-06 12:33:37 -0400 (Thu, 06 May 2021).
|
To the developers/maintainers of the sights package: Please make sure to use the following settings in order to reproduce any error or warning you see on this page. |
| Package 1705/1974 | Hostname | OS / Arch | INSTALL | BUILD | CHECK | BUILD BIN | ||||||||
| sights 1.16.0 (landing page) Elika Garg
| malbec1 | Linux (Ubuntu 18.04.5 LTS) / x86_64 | OK | OK | OK | |||||||||
| tokay1 | Windows Server 2012 R2 Standard / x64 | OK | OK | WARNINGS | OK | |||||||||
| merida1 | macOS 10.14.6 Mojave / x86_64 | OK | OK | OK | OK | |||||||||
| Package: sights |
| Version: 1.16.0 |
| Command: rm -rf sights.buildbin-libdir && mkdir sights.buildbin-libdir && C:\Users\biocbuild\bbs-3.12-bioc\R\bin\R.exe CMD INSTALL --merge-multiarch --build --library=sights.buildbin-libdir sights_1.16.0.tar.gz |
| StartedAt: 2021-05-06 10:07:25 -0400 (Thu, 06 May 2021) |
| EndedAt: 2021-05-06 10:07:58 -0400 (Thu, 06 May 2021) |
| EllapsedTime: 33.4 seconds |
| RetCode: 0 |
| Status: OK |
| PackageFile: sights_1.16.0.zip |
| PackageFileSize: 1.206 MiB |
##############################################################################
##############################################################################
###
### Running command:
###
### rm -rf sights.buildbin-libdir && mkdir sights.buildbin-libdir && C:\Users\biocbuild\bbs-3.12-bioc\R\bin\R.exe CMD INSTALL --merge-multiarch --build --library=sights.buildbin-libdir sights_1.16.0.tar.gz
###
##############################################################################
##############################################################################
install for i386
* installing *source* package 'sights' ...
** using staged installation
** R
** data
*** moving datasets to lazyload DB
** inst
** byte-compile and prepare package for lazy loading
** help
*** installing help indices
converting help for package 'sights'
finding HTML links ... done
ex_dataMatrix html
inglese html
normLoess html
normMedFil html
normR html
normRobZ html
normSPAWN html
normSights html
normZ html
plot3d html
plotAutoco html
plotBox html
plotHeatmap html
plotHist html
plotIGFit html
Rd warning: C:/Users/biocbuild/bbs-3.12-bioc/tmpdir/Rtmp0qTWvL/R.INSTALL3cb8c756fdf/sights/man/plotIGFit.Rd:19: file link 'geom_step' in package 'ggplot2' does not exist and so has been treated as a topic
plotScatter html
plotSights html
statFDR html
statRVM html
statSights html
statT html
** building package indices
** installing vignettes
** testing if installed package can be loaded from temporary location
** testing if installed package can be loaded from final location
** testing if installed package keeps a record of temporary installation path
install for x64
* installing *source* package 'sights' ...
** testing if installed package can be loaded
* MD5 sums
packaged installation of 'sights' as sights_1.16.0.zip
* DONE (sights)