| Back to Multiple platform build/check report for BioC 3.12 |
|
This page was generated on 2021-05-06 12:33:34 -0400 (Thu, 06 May 2021).
|
To the developers/maintainers of the seqPattern package: Please make sure to use the following settings in order to reproduce any error or warning you see on this page. |
| Package 1683/1974 | Hostname | OS / Arch | INSTALL | BUILD | CHECK | BUILD BIN | ||||||||
| seqPattern 1.22.0 (landing page) Vanja Haberle
| malbec1 | Linux (Ubuntu 18.04.5 LTS) / x86_64 | OK | OK | OK | |||||||||
| tokay1 | Windows Server 2012 R2 Standard / x64 | OK | OK | OK | OK | |||||||||
| merida1 | macOS 10.14.6 Mojave / x86_64 | OK | OK | OK | OK | |||||||||
| Package: seqPattern |
| Version: 1.22.0 |
| Command: C:\cygwin\bin\curl.exe -O http://172.29.0.3/BBS/3.12/bioc/src/contrib/seqPattern_1.22.0.tar.gz && rm -rf seqPattern.buildbin-libdir && mkdir seqPattern.buildbin-libdir && C:\Users\biocbuild\bbs-3.12-bioc\R\bin\R.exe CMD INSTALL --merge-multiarch --build --library=seqPattern.buildbin-libdir seqPattern_1.22.0.tar.gz && C:\Users\biocbuild\bbs-3.12-bioc\R\bin\R.exe CMD INSTALL seqPattern_1.22.0.zip && rm seqPattern_1.22.0.tar.gz seqPattern_1.22.0.zip |
| StartedAt: 2021-05-05 17:19:47 -0400 (Wed, 05 May 2021) |
| EndedAt: 2021-05-05 17:20:36 -0400 (Wed, 05 May 2021) |
| EllapsedTime: 48.5 seconds |
| RetCode: 0 |
| Status: OK |
##############################################################################
##############################################################################
###
### Running command:
###
### C:\cygwin\bin\curl.exe -O http://172.29.0.3/BBS/3.12/bioc/src/contrib/seqPattern_1.22.0.tar.gz && rm -rf seqPattern.buildbin-libdir && mkdir seqPattern.buildbin-libdir && C:\Users\biocbuild\bbs-3.12-bioc\R\bin\R.exe CMD INSTALL --merge-multiarch --build --library=seqPattern.buildbin-libdir seqPattern_1.22.0.tar.gz && C:\Users\biocbuild\bbs-3.12-bioc\R\bin\R.exe CMD INSTALL seqPattern_1.22.0.zip && rm seqPattern_1.22.0.tar.gz seqPattern_1.22.0.zip
###
##############################################################################
##############################################################################
% Total % Received % Xferd Average Speed Time Time Time Current
Dload Upload Total Spent Left Speed
0 0 0 0 0 0 0 0 --:--:-- --:--:-- --:--:-- 0
100 3308k 100 3308k 0 0 63.0M 0 --:--:-- --:--:-- --:--:-- 64.6M
install for i386
* installing *source* package 'seqPattern' ...
** using staged installation
** R
** data
** inst
** byte-compile and prepare package for lazy loading
** help
*** installing help indices
converting help for package 'seqPattern'
finding HTML links ... done
TBPpwm html
getPatternOccurrenceList html
finding level-2 HTML links ... done
motifScanHits html
motifScanScores html
plotMotifDensityMap html
plotMotifOccurrenceAverage html
plotMotifScanScores html
plotPatternDensityMap html
plotPatternOccurrenceAverage html
seqPattern-package html
zebrafisPromoters html
zebrafisPromoters24h html
** building package indices
** installing vignettes
** testing if installed package can be loaded from temporary location
** testing if installed package can be loaded from final location
** testing if installed package keeps a record of temporary installation path
install for x64
* installing *source* package 'seqPattern' ...
** testing if installed package can be loaded
* MD5 sums
packaged installation of 'seqPattern' as seqPattern_1.22.0.zip
* DONE (seqPattern)
* installing to library 'C:/Users/biocbuild/bbs-3.12-bioc/R/library'
package 'seqPattern' successfully unpacked and MD5 sums checked