| Back to Multiple platform build/check report for BioC 3.12 |
|
This page was generated on 2021-05-06 12:33:33 -0400 (Thu, 06 May 2021).
|
To the developers/maintainers of the seqCAT package: Please make sure to use the following settings in order to reproduce any error or warning you see on this page. |
| Package 1677/1974 | Hostname | OS / Arch | INSTALL | BUILD | CHECK | BUILD BIN | ||||||||
| seqCAT 1.12.0 (landing page) Erik Fasterius
| malbec1 | Linux (Ubuntu 18.04.5 LTS) / x86_64 | OK | OK | OK | |||||||||
| tokay1 | Windows Server 2012 R2 Standard / x64 | OK | OK | OK | OK | |||||||||
| merida1 | macOS 10.14.6 Mojave / x86_64 | OK | OK | OK | OK | |||||||||
| Package: seqCAT |
| Version: 1.12.0 |
| Command: rm -rf seqCAT.buildbin-libdir && mkdir seqCAT.buildbin-libdir && C:\Users\biocbuild\bbs-3.12-bioc\R\bin\R.exe CMD INSTALL --merge-multiarch --build --library=seqCAT.buildbin-libdir seqCAT_1.12.0.tar.gz |
| StartedAt: 2021-05-06 10:05:48 -0400 (Thu, 06 May 2021) |
| EndedAt: 2021-05-06 10:06:43 -0400 (Thu, 06 May 2021) |
| EllapsedTime: 55.5 seconds |
| RetCode: 0 |
| Status: OK |
| PackageFile: seqCAT_1.12.0.zip |
| PackageFileSize: 1.877 MiB |
##############################################################################
##############################################################################
###
### Running command:
###
### rm -rf seqCAT.buildbin-libdir && mkdir seqCAT.buildbin-libdir && C:\Users\biocbuild\bbs-3.12-bioc\R\bin\R.exe CMD INSTALL --merge-multiarch --build --library=seqCAT.buildbin-libdir seqCAT_1.12.0.tar.gz
###
##############################################################################
##############################################################################
install for i386
* installing *source* package 'seqCAT' ...
** using staged installation
** R
** data
*** moving datasets to lazyload DB
** inst
** byte-compile and prepare package for lazy loading
** help
*** installing help indices
converting help for package 'seqCAT'
finding HTML links ... done
calculate_similarity html
compare_many html
compare_profiles html
create_profile html
create_profiles html
filter_duplicates html
filter_variants html
list_cosmic html
list_variants html
plot_heatmap html
plot_impacts html
plot_variant_list html
read_cosmic html
read_profile html
read_profiles html
seqCAT html
test_comparison html
test_profile_1 html
test_profile_2 html
test_profile_3 html
test_similarities html
test_variant_list html
write_profile html
write_profiles html
** building package indices
** installing vignettes
** testing if installed package can be loaded from temporary location
** testing if installed package can be loaded from final location
** testing if installed package keeps a record of temporary installation path
install for x64
* installing *source* package 'seqCAT' ...
** testing if installed package can be loaded
* MD5 sums
packaged installation of 'seqCAT' as seqCAT_1.12.0.zip
* DONE (seqCAT)