| Back to Multiple platform build/check report for BioC 3.12 |
|
This page was generated on 2021-05-06 12:33:32 -0400 (Thu, 06 May 2021).
|
To the developers/maintainers of the scsR package: Please make sure to use the following settings in order to reproduce any error or warning you see on this page. |
| Package 1662/1974 | Hostname | OS / Arch | INSTALL | BUILD | CHECK | BUILD BIN | ||||||||
Andrea Franceschini
| malbec1 | Linux (Ubuntu 18.04.5 LTS) / x86_64 | OK | OK | ERROR | |||||||||
| tokay1 | Windows Server 2012 R2 Standard / x64 | OK | OK | ERROR | OK | |||||||||
| merida1 | macOS 10.14.6 Mojave / x86_64 | OK | OK | ERROR | OK | |||||||||
| Package: scsR |
| Version: 1.26.0 |
| Command: rm -rf scsR.buildbin-libdir && mkdir scsR.buildbin-libdir && C:\Users\biocbuild\bbs-3.12-bioc\R\bin\R.exe CMD INSTALL --merge-multiarch --build --library=scsR.buildbin-libdir scsR_1.26.0.tar.gz |
| StartedAt: 2021-05-06 10:04:48 -0400 (Thu, 06 May 2021) |
| EndedAt: 2021-05-06 10:05:15 -0400 (Thu, 06 May 2021) |
| EllapsedTime: 26.7 seconds |
| RetCode: 0 |
| Status: OK |
| PackageFile: scsR_1.26.0.zip |
| PackageFileSize: 2.048 MiB |
##############################################################################
##############################################################################
###
### Running command:
###
### rm -rf scsR.buildbin-libdir && mkdir scsR.buildbin-libdir && C:\Users\biocbuild\bbs-3.12-bioc\R\bin\R.exe CMD INSTALL --merge-multiarch --build --library=scsR.buildbin-libdir scsR_1.26.0.tar.gz
###
##############################################################################
##############################################################################
install for i386
* installing *source* package 'scsR' ...
** using staged installation
** R
** data
** inst
** byte-compile and prepare package for lazy loading
** help
*** installing help indices
converting help for package 'scsR'
finding HTML links ... done
OPIrsa html
OPIrsaScore html
add_rank_col html
add_seed html
benchmark_shared_hits html
bydf html
check_consistency html
compare_sorted_geneSets html
create_sd_matrix html
delColDf html
delete_undefined_rows html
enrichment_geneSet html
enrichment_heatmap html
get_sd_quant html
get_seed_oligos_df html
intersectAll html
launch_RSA html
median_replicates html
miRBase_20 html
plot_screen_hits html
plot_seeds_methods html
randomSortOnVal html
randomizeInner html
removeSharedOffTargets html
renameColDf html
replace_non_null_elements html
seed_correction html
seed_correction_pooled html
seed_removal html
seeds_analysis html
sortInner html
split_df html
transcribe_seqs html
uuk_screen html
uuk_screen_dh html
** building package indices
** installing vignettes
** testing if installed package can be loaded from temporary location
Warning: Package 'scsR' is deprecated and will be removed from Bioconductor
version 3.13
** testing if installed package can be loaded from final location
Warning: Package 'scsR' is deprecated and will be removed from Bioconductor
version 3.13
** testing if installed package keeps a record of temporary installation path
install for x64
* installing *source* package 'scsR' ...
** testing if installed package can be loaded
Warning: Package 'scsR' is deprecated and will be removed from Bioconductor
version 3.13
* MD5 sums
packaged installation of 'scsR' as scsR_1.26.0.zip
* DONE (scsR)