| Back to Multiple platform build/check report for BioC 3.12 |
|
This page was generated on 2021-05-06 12:33:31 -0400 (Thu, 06 May 2021).
|
To the developers/maintainers of the scruff package: Please make sure to use the following settings in order to reproduce any error or warning you see on this page. |
| Package 1660/1974 | Hostname | OS / Arch | INSTALL | BUILD | CHECK | BUILD BIN | ||||||||
| scruff 1.8.3 (landing page) Zhe Wang
| malbec1 | Linux (Ubuntu 18.04.5 LTS) / x86_64 | OK | OK | OK | |||||||||
| tokay1 | Windows Server 2012 R2 Standard / x64 | OK | OK | OK | OK | |||||||||
| merida1 | macOS 10.14.6 Mojave / x86_64 | OK | OK | OK | OK | |||||||||
| Package: scruff |
| Version: 1.8.3 |
| Command: rm -rf scruff.buildbin-libdir && mkdir scruff.buildbin-libdir && C:\Users\biocbuild\bbs-3.12-bioc\R\bin\R.exe CMD INSTALL --merge-multiarch --build --library=scruff.buildbin-libdir scruff_1.8.3.tar.gz |
| StartedAt: 2021-05-06 10:04:41 -0400 (Thu, 06 May 2021) |
| EndedAt: 2021-05-06 10:05:58 -0400 (Thu, 06 May 2021) |
| EllapsedTime: 77.3 seconds |
| RetCode: 0 |
| Status: OK |
| PackageFile: scruff_1.8.3.zip |
| PackageFileSize: 1.202 MiB |
##############################################################################
##############################################################################
###
### Running command:
###
### rm -rf scruff.buildbin-libdir && mkdir scruff.buildbin-libdir && C:\Users\biocbuild\bbs-3.12-bioc\R\bin\R.exe CMD INSTALL --merge-multiarch --build --library=scruff.buildbin-libdir scruff_1.8.3.tar.gz
###
##############################################################################
##############################################################################
install for i386
* installing *source* package 'scruff' ...
** using staged installation
** R
** data
** inst
** byte-compile and prepare package for lazy loading
** help
*** installing help indices
converting help for package 'scruff'
finding HTML links ... done
alignRsubread html
bamExample html
barcodeExample html
cbtop10000 html
countUMI html
demultiplex html
gview html
qcplots html
rview html
sceExample html
scruff html
tenxBamqc html
validCb html
** building package indices
** installing vignettes
** testing if installed package can be loaded from temporary location
** testing if installed package can be loaded from final location
** testing if installed package keeps a record of temporary installation path
install for x64
* installing *source* package 'scruff' ...
** testing if installed package can be loaded
* MD5 sums
packaged installation of 'scruff' as scruff_1.8.3.zip
* DONE (scruff)