| Back to Multiple platform build/check report for BioC 3.12 |
|
This page was generated on 2021-05-06 12:33:27 -0400 (Thu, 06 May 2021).
|
To the developers/maintainers of the schex package: Please make sure to use the following settings in order to reproduce any error or warning you see on this page. |
| Package 1642/1974 | Hostname | OS / Arch | INSTALL | BUILD | CHECK | BUILD BIN | ||||||||
| schex 1.4.0 (landing page) Saskia Freytag
| malbec1 | Linux (Ubuntu 18.04.5 LTS) / x86_64 | OK | OK | OK | |||||||||
| tokay1 | Windows Server 2012 R2 Standard / x64 | OK | OK | OK | OK | |||||||||
| merida1 | macOS 10.14.6 Mojave / x86_64 | OK | OK | OK | OK | |||||||||
| Package: schex |
| Version: 1.4.0 |
| Command: C:\cygwin\bin\curl.exe -O http://172.29.0.3/BBS/3.12/bioc/src/contrib/schex_1.4.0.tar.gz && rm -rf schex.buildbin-libdir && mkdir schex.buildbin-libdir && C:\Users\biocbuild\bbs-3.12-bioc\R\bin\R.exe CMD INSTALL --merge-multiarch --build --library=schex.buildbin-libdir schex_1.4.0.tar.gz && C:\Users\biocbuild\bbs-3.12-bioc\R\bin\R.exe CMD INSTALL schex_1.4.0.zip && rm schex_1.4.0.tar.gz schex_1.4.0.zip |
| StartedAt: 2021-05-05 19:00:19 -0400 (Wed, 05 May 2021) |
| EndedAt: 2021-05-05 19:01:34 -0400 (Wed, 05 May 2021) |
| EllapsedTime: 74.8 seconds |
| RetCode: 0 |
| Status: OK |
##############################################################################
##############################################################################
###
### Running command:
###
### C:\cygwin\bin\curl.exe -O http://172.29.0.3/BBS/3.12/bioc/src/contrib/schex_1.4.0.tar.gz && rm -rf schex.buildbin-libdir && mkdir schex.buildbin-libdir && C:\Users\biocbuild\bbs-3.12-bioc\R\bin\R.exe CMD INSTALL --merge-multiarch --build --library=schex.buildbin-libdir schex_1.4.0.tar.gz && C:\Users\biocbuild\bbs-3.12-bioc\R\bin\R.exe CMD INSTALL schex_1.4.0.zip && rm schex_1.4.0.tar.gz schex_1.4.0.zip
###
##############################################################################
##############################################################################
% Total % Received % Xferd Average Speed Time Time Time Current
Dload Upload Total Spent Left Speed
0 0 0 0 0 0 0 0 --:--:-- --:--:-- --:--:-- 0
100 2720k 100 2720k 0 0 33.5M 0 --:--:-- --:--:-- --:--:-- 34.0M
install for i386
* installing *source* package 'schex' ...
** using staged installation
** R
** byte-compile and prepare package for lazy loading
** help
*** installing help indices
converting help for package 'schex'
finding HTML links ... done
make_hexbin html
make_hexbin_label html
plot_hexbin_bivariate html
finding level-2 HTML links ... done
plot_hexbin_density html
plot_hexbin_fc html
plot_hexbin_feature html
plot_hexbin_feature_plus html
plot_hexbin_feature_shiny html
plot_hexbin_gene html
plot_hexbin_interact html
plot_hexbin_meta html
plot_hexbin_meta_plus html
plot_hexbin_meta_shiny html
schex html
*** copying figures
** building package indices
** installing vignettes
** testing if installed package can be loaded from temporary location
** testing if installed package can be loaded from final location
** testing if installed package keeps a record of temporary installation path
install for x64
* installing *source* package 'schex' ...
** testing if installed package can be loaded
* MD5 sums
packaged installation of 'schex' as schex_1.4.0.zip
* DONE (schex)
* installing to library 'C:/Users/biocbuild/bbs-3.12-bioc/R/library'
package 'schex' successfully unpacked and MD5 sums checked