| Back to Multiple platform build/check report for BioC 3.12 |
|
This page was generated on 2021-05-06 12:33:28 -0400 (Thu, 06 May 2021).
|
To the developers/maintainers of the scMAGeCK package: Please make sure to use the following settings in order to reproduce any error or warning you see on this page. |
| Package 1645/1974 | Hostname | OS / Arch | INSTALL | BUILD | CHECK | BUILD BIN | ||||||||
| scMAGeCK 1.2.0 (landing page) Xiaolong Cheng
| malbec1 | Linux (Ubuntu 18.04.5 LTS) / x86_64 | OK | OK | OK | |||||||||
| tokay1 | Windows Server 2012 R2 Standard / x64 | OK | OK | OK | OK | |||||||||
| merida1 | macOS 10.14.6 Mojave / x86_64 | OK | OK | OK | OK | |||||||||
| Package: scMAGeCK |
| Version: 1.2.0 |
| Command: rm -rf scMAGeCK.buildbin-libdir && mkdir scMAGeCK.buildbin-libdir && C:\Users\biocbuild\bbs-3.12-bioc\R\bin\R.exe CMD INSTALL --merge-multiarch --build --library=scMAGeCK.buildbin-libdir scMAGeCK_1.2.0.tar.gz |
| StartedAt: 2021-05-06 10:03:53 -0400 (Thu, 06 May 2021) |
| EndedAt: 2021-05-06 10:04:13 -0400 (Thu, 06 May 2021) |
| EllapsedTime: 20.7 seconds |
| RetCode: 0 |
| Status: OK |
| PackageFile: scMAGeCK_1.2.0.zip |
| PackageFileSize: 3.02 MiB |
##############################################################################
##############################################################################
###
### Running command:
###
### rm -rf scMAGeCK.buildbin-libdir && mkdir scMAGeCK.buildbin-libdir && C:\Users\biocbuild\bbs-3.12-bioc\R\bin\R.exe CMD INSTALL --merge-multiarch --build --library=scMAGeCK.buildbin-libdir scMAGeCK_1.2.0.tar.gz
###
##############################################################################
##############################################################################
install for i386
* installing *source* package 'scMAGeCK' ...
** using staged installation
** R
** inst
** byte-compile and prepare package for lazy loading
** help
*** installing help indices
converting help for package 'scMAGeCK'
finding HTML links ... done
scMAGeCK-package html
scMAGeCK_LR html
scMAGeCK_RRA html
** building package indices
** installing vignettes
** testing if installed package can be loaded from temporary location
** testing if installed package can be loaded from final location
** testing if installed package keeps a record of temporary installation path
install for x64
* installing *source* package 'scMAGeCK' ...
** testing if installed package can be loaded
* MD5 sums
packaged installation of 'scMAGeCK' as scMAGeCK_1.2.0.zip
* DONE (scMAGeCK)