| Back to Multiple platform build/check report for BioC 3.12 |
|
This page was generated on 2021-05-06 12:29:02 -0400 (Thu, 06 May 2021).
|
To the developers/maintainers of the scHOT package: Please make sure to use the following settings in order to reproduce any error or warning you see on this page. |
| Package 1643/1974 | Hostname | OS / Arch | INSTALL | BUILD | CHECK | BUILD BIN | ||||||||
| scHOT 1.2.0 (landing page) Shila Ghazanfar
| malbec1 | Linux (Ubuntu 18.04.5 LTS) / x86_64 | OK | OK | OK | |||||||||
| tokay1 | Windows Server 2012 R2 Standard / x64 | OK | OK | OK | OK | |||||||||
| merida1 | macOS 10.14.6 Mojave / x86_64 | OK | OK | OK | OK | |||||||||
| Package: scHOT |
| Version: 1.2.0 |
| Command: /home/biocbuild/bbs-3.12-bioc/R/bin/R CMD check --install=check:scHOT.install-out.txt --library=/home/biocbuild/bbs-3.12-bioc/R/library --no-vignettes --timings scHOT_1.2.0.tar.gz |
| StartedAt: 2021-05-06 05:45:42 -0400 (Thu, 06 May 2021) |
| EndedAt: 2021-05-06 05:55:41 -0400 (Thu, 06 May 2021) |
| EllapsedTime: 598.4 seconds |
| RetCode: 0 |
| Status: OK |
| CheckDir: scHOT.Rcheck |
| Warnings: 0 |
##############################################################################
##############################################################################
###
### Running command:
###
### /home/biocbuild/bbs-3.12-bioc/R/bin/R CMD check --install=check:scHOT.install-out.txt --library=/home/biocbuild/bbs-3.12-bioc/R/library --no-vignettes --timings scHOT_1.2.0.tar.gz
###
##############################################################################
##############################################################################
* using log directory ‘/home/biocbuild/bbs-3.12-bioc/meat/scHOT.Rcheck’
* using R version 4.0.5 (2021-03-31)
* using platform: x86_64-pc-linux-gnu (64-bit)
* using session charset: UTF-8
* using option ‘--no-vignettes’
* checking for file ‘scHOT/DESCRIPTION’ ... OK
* checking extension type ... Package
* this is package ‘scHOT’ version ‘1.2.0’
* package encoding: UTF-8
* checking package namespace information ... OK
* checking package dependencies ... OK
* checking if this is a source package ... OK
* checking if there is a namespace ... OK
* checking for hidden files and directories ... OK
* checking for portable file names ... OK
* checking for sufficient/correct file permissions ... OK
* checking whether package ‘scHOT’ can be installed ... OK
* checking installed package size ... OK
* checking package directory ... OK
* checking ‘build’ directory ... OK
* checking DESCRIPTION meta-information ... OK
* checking top-level files ... OK
* checking for left-over files ... OK
* checking index information ... OK
* checking package subdirectories ... OK
* checking R files for non-ASCII characters ... OK
* checking R files for syntax errors ... OK
* checking whether the package can be loaded ... OK
* checking whether the package can be loaded with stated dependencies ... OK
* checking whether the package can be unloaded cleanly ... OK
* checking whether the namespace can be loaded with stated dependencies ... OK
* checking whether the namespace can be unloaded cleanly ... OK
* checking dependencies in R code ... OK
* checking S3 generic/method consistency ... OK
* checking replacement functions ... OK
* checking foreign function calls ... OK
* checking R code for possible problems ... OK
* checking Rd files ... OK
* checking Rd metadata ... OK
* checking Rd cross-references ... OK
* checking for missing documentation entries ... OK
* checking for code/documentation mismatches ... OK
* checking Rd \usage sections ... OK
* checking Rd contents ... OK
* checking for unstated dependencies in examples ... OK
* checking contents of ‘data’ directory ... OK
* checking data for non-ASCII characters ... OK
* checking data for ASCII and uncompressed saves ... OK
* checking files in ‘vignettes’ ... OK
* checking examples ... OK
Examples with CPU (user + system) or elapsed time > 5s
user system elapsed
scHOT 129.120 0.008 129.850
scHOT_estimatePvalues 123.708 0.000 124.170
scHOT_performPermutationTest 121.280 0.028 121.557
* checking for unstated dependencies in vignettes ... OK
* checking package vignettes in ‘inst/doc’ ... OK
* checking running R code from vignettes ... SKIPPED
* checking re-building of vignette outputs ... SKIPPED
* checking PDF version of manual ... OK
* DONE
Status: OK
scHOT.Rcheck/00install.out
############################################################################## ############################################################################## ### ### Running command: ### ### /home/biocbuild/bbs-3.12-bioc/R/bin/R CMD INSTALL scHOT ### ############################################################################## ############################################################################## * installing to library ‘/home/biocbuild/bbs-3.12-bioc/R/library’ * installing *source* package ‘scHOT’ ... ** using staged installation ** R ** data *** moving datasets to lazyload DB ** byte-compile and prepare package for lazy loading ** help *** installing help indices ** building package indices ** installing vignettes ** testing if installed package can be loaded from temporary location ** testing if installed package can be loaded from final location ** testing if installed package keeps a record of temporary installation path * DONE (scHOT)
scHOT.Rcheck/scHOT-Ex.timings
| name | user | system | elapsed | |
| params-set | 0.456 | 0.012 | 0.466 | |
| plotColouredExpression | 2.032 | 0.020 | 2.052 | |
| plotHigherOrderSequence | 2.412 | 0.112 | 2.535 | |
| positionColData-set | 0.108 | 0.000 | 0.108 | |
| positionType-set | 0.12 | 0.00 | 0.12 | |
| scHOT | 129.120 | 0.008 | 129.850 | |
| scHOT_addTestingScaffold | 0.196 | 0.000 | 0.196 | |
| scHOT_buildFromMatrix | 0.160 | 0.004 | 0.164 | |
| scHOT_buildFromSCE | 0.492 | 0.000 | 0.495 | |
| scHOT_calculateGlobalHigherOrderFunction | 0.176 | 0.000 | 0.178 | |
| scHOT_calculateHigherOrderTestStatistics | 1.512 | 0.044 | 1.558 | |
| scHOT_estimatePvalues | 123.708 | 0.000 | 124.170 | |
| scHOT_output-set | 0.120 | 0.000 | 0.118 | |
| scHOT_performPermutationTest | 121.280 | 0.028 | 121.557 | |
| scHOT_setPermutationScaffold | 0.300 | 0.000 | 0.304 | |
| scHOT_setWeightMatrix | 0.224 | 0.000 | 0.232 | |
| scHOT_stripOutput | 0.184 | 0.000 | 0.186 | |
| spatialWeightMatrix | 0.008 | 0.000 | 0.006 | |
| testingScaffold-set | 0.192 | 0.000 | 0.193 | |
| thin | 0.012 | 0.000 | 0.012 | |
| trajectoryWeightMatrix | 0.004 | 0.000 | 0.004 | |
| weightMatrix-set | 0.480 | 0.008 | 0.490 | |
| weightedPearson | 0 | 0 | 0 | |
| weightedSpearman | 0.000 | 0.000 | 0.001 | |
| weightedVariance | 0.004 | 0.000 | 0.000 | |
| weightedZIKendall | 0.000 | 0.000 | 0.001 | |
| weightedZISpearman | 0.004 | 0.000 | 0.001 | |