| Back to Multiple platform build/check report for BioC 3.12 |
|
This page was generated on 2021-05-06 12:33:27 -0400 (Thu, 06 May 2021).
|
To the developers/maintainers of the scDblFinder package: Please make sure to use the following settings in order to reproduce any error or warning you see on this page. |
| Package 1635/1974 | Hostname | OS / Arch | INSTALL | BUILD | CHECK | BUILD BIN | ||||||||
| scDblFinder 1.4.0 (landing page) Pierre-Luc Germain
| malbec1 | Linux (Ubuntu 18.04.5 LTS) / x86_64 | OK | OK | WARNINGS | |||||||||
| tokay1 | Windows Server 2012 R2 Standard / x64 | OK | OK | WARNINGS | OK | |||||||||
| merida1 | macOS 10.14.6 Mojave / x86_64 | OK | OK | WARNINGS | OK | |||||||||
| Package: scDblFinder |
| Version: 1.4.0 |
| Command: rm -rf scDblFinder.buildbin-libdir && mkdir scDblFinder.buildbin-libdir && C:\Users\biocbuild\bbs-3.12-bioc\R\bin\R.exe CMD INSTALL --merge-multiarch --build --library=scDblFinder.buildbin-libdir scDblFinder_1.4.0.tar.gz |
| StartedAt: 2021-05-06 10:03:18 -0400 (Thu, 06 May 2021) |
| EndedAt: 2021-05-06 10:04:20 -0400 (Thu, 06 May 2021) |
| EllapsedTime: 62.5 seconds |
| RetCode: 0 |
| Status: OK |
| PackageFile: scDblFinder_1.4.0.zip |
| PackageFileSize: 1.864 MiB |
##############################################################################
##############################################################################
###
### Running command:
###
### rm -rf scDblFinder.buildbin-libdir && mkdir scDblFinder.buildbin-libdir && C:\Users\biocbuild\bbs-3.12-bioc\R\bin\R.exe CMD INSTALL --merge-multiarch --build --library=scDblFinder.buildbin-libdir scDblFinder_1.4.0.tar.gz
###
##############################################################################
##############################################################################
install for i386
* installing *source* package 'scDblFinder' ...
** using staged installation
** R
** data
** inst
** byte-compile and prepare package for lazy loading
** help
*** installing help indices
converting help for package 'scDblFinder'
finding HTML links ... done
addDoublets html
computeDoubletDensity html
finding level-2 HTML links ... done
createDoublets html
cxds2 html
data html
doubletThresholding html
fastcluster html
findDoubletClusters html
getArtificialDoublets html
getCellPairs html
getExpectedDoublets html
mockDoubletSCE html
plotDoubletMap html
recoverDoublets html
scDblFinder html
Rd warning: C:/Users/biocbuild/bbs-3.12-bioc/tmpdir/RtmpK2FyQv/R.INSTALLdb434bb28c0/scDblFinder/man/scDblFinder.Rd:37: file link 'SingleCellExperiment-class' in package 'SingleCellExperiment' does not exist and so has been treated as a topic
selFeatures html
Rd warning: C:/Users/biocbuild/bbs-3.12-bioc/tmpdir/RtmpK2FyQv/R.INSTALLdb434bb28c0/scDblFinder/man/selFeatures.Rd:17: file link 'SingleCellExperiment-class' in package 'SingleCellExperiment' does not exist and so has been treated as a topic
** building package indices
** installing vignettes
** testing if installed package can be loaded from temporary location
** testing if installed package can be loaded from final location
** testing if installed package keeps a record of temporary installation path
install for x64
* installing *source* package 'scDblFinder' ...
** testing if installed package can be loaded
* MD5 sums
packaged installation of 'scDblFinder' as scDblFinder_1.4.0.zip
* DONE (scDblFinder)