| Back to Multiple platform build/check report for BioC 3.12 |
|
This page was generated on 2021-05-06 12:33:27 -0400 (Thu, 06 May 2021).
|
To the developers/maintainers of the scDataviz package: Please make sure to use the following settings in order to reproduce any error or warning you see on this page. |
| Package 1634/1974 | Hostname | OS / Arch | INSTALL | BUILD | CHECK | BUILD BIN | ||||||||
| scDataviz 1.0.0 (landing page) Kevin Blighe
| malbec1 | Linux (Ubuntu 18.04.5 LTS) / x86_64 | OK | OK | OK | |||||||||
| tokay1 | Windows Server 2012 R2 Standard / x64 | OK | OK | OK | OK | |||||||||
| merida1 | macOS 10.14.6 Mojave / x86_64 | OK | OK | OK | OK | |||||||||
| Package: scDataviz |
| Version: 1.0.0 |
| Command: rm -rf scDataviz.buildbin-libdir && mkdir scDataviz.buildbin-libdir && C:\Users\biocbuild\bbs-3.12-bioc\R\bin\R.exe CMD INSTALL --merge-multiarch --build --library=scDataviz.buildbin-libdir scDataviz_1.0.0.tar.gz |
| StartedAt: 2021-05-06 10:03:14 -0400 (Thu, 06 May 2021) |
| EndedAt: 2021-05-06 10:04:17 -0400 (Thu, 06 May 2021) |
| EllapsedTime: 62.5 seconds |
| RetCode: 0 |
| Status: OK |
| PackageFile: scDataviz_1.0.0.zip |
| PackageFileSize: 2.826 MiB |
##############################################################################
##############################################################################
###
### Running command:
###
### rm -rf scDataviz.buildbin-libdir && mkdir scDataviz.buildbin-libdir && C:\Users\biocbuild\bbs-3.12-bioc\R\bin\R.exe CMD INSTALL --merge-multiarch --build --library=scDataviz.buildbin-libdir scDataviz_1.0.0.tar.gz
###
##############################################################################
##############################################################################
install for i386
* installing *source* package 'scDataviz' ...
** using staged installation
** R
** inst
** byte-compile and prepare package for lazy loading
** help
*** installing help indices
converting help for package 'scDataviz'
finding HTML links ... done
basetheme html
clusKNN html
contourPlot html
downsampleByVar html
importData html
markerEnrichment html
markerExpression html
markerExpressionPerCluster html
metadataPlot html
performUMAP html
plotClusters html
plotSignatures html
processFCS html
** building package indices
** installing vignettes
** testing if installed package can be loaded from temporary location
** testing if installed package can be loaded from final location
** testing if installed package keeps a record of temporary installation path
install for x64
* installing *source* package 'scDataviz' ...
** testing if installed package can be loaded
* MD5 sums
packaged installation of 'scDataviz' as scDataviz_1.0.0.zip
* DONE (scDataviz)