| Back to Multiple platform build/check report for BioC 3.12 |
|
This page was generated on 2021-05-06 12:33:26 -0400 (Thu, 06 May 2021).
|
To the developers/maintainers of the scAlign package: Please make sure to use the following settings in order to reproduce any error or warning you see on this page. |
| Package 1625/1974 | Hostname | OS / Arch | INSTALL | BUILD | CHECK | BUILD BIN | ||||||||
| scAlign 1.4.0 (landing page) Nelson Johansen
| malbec1 | Linux (Ubuntu 18.04.5 LTS) / x86_64 | OK | OK | WARNINGS | |||||||||
| tokay1 | Windows Server 2012 R2 Standard / x64 | OK | ERROR | skipped | skipped | |||||||||
| merida1 | macOS 10.14.6 Mojave / x86_64 | ... NOT SUPPORTED ... | ||||||||||||
| Package: scAlign |
| Version: 1.4.0 |
| Command: C:\cygwin\bin\curl.exe -O http://172.29.0.3/BBS/3.12/bioc/src/contrib/scAlign_1.4.0.tar.gz && rm -rf scAlign.buildbin-libdir && mkdir scAlign.buildbin-libdir && C:\Users\biocbuild\bbs-3.12-bioc\R\bin\R.exe CMD INSTALL --merge-multiarch --build --library=scAlign.buildbin-libdir scAlign_1.4.0.tar.gz && C:\Users\biocbuild\bbs-3.12-bioc\R\bin\R.exe CMD INSTALL scAlign_1.4.0.zip && rm scAlign_1.4.0.tar.gz scAlign_1.4.0.zip |
| StartedAt: 2021-05-05 18:38:27 -0400 (Wed, 05 May 2021) |
| EndedAt: 2021-05-05 18:39:54 -0400 (Wed, 05 May 2021) |
| EllapsedTime: 87.5 seconds |
| RetCode: 0 |
| Status: OK |
##############################################################################
##############################################################################
###
### Running command:
###
### C:\cygwin\bin\curl.exe -O http://172.29.0.3/BBS/3.12/bioc/src/contrib/scAlign_1.4.0.tar.gz && rm -rf scAlign.buildbin-libdir && mkdir scAlign.buildbin-libdir && C:\Users\biocbuild\bbs-3.12-bioc\R\bin\R.exe CMD INSTALL --merge-multiarch --build --library=scAlign.buildbin-libdir scAlign_1.4.0.tar.gz && C:\Users\biocbuild\bbs-3.12-bioc\R\bin\R.exe CMD INSTALL scAlign_1.4.0.zip && rm scAlign_1.4.0.tar.gz scAlign_1.4.0.zip
###
##############################################################################
##############################################################################
% Total % Received % Xferd Average Speed Time Time Time Current
Dload Upload Total Spent Left Speed
0 0 0 0 0 0 0 0 --:--:-- --:--:-- --:--:-- 0
100 648k 100 648k 0 0 23.2M 0 --:--:-- --:--:-- --:--:-- 24.3M
install for i386
* installing *source* package 'scAlign' ...
** using staged installation
** R
** data
** byte-compile and prepare package for lazy loading
** help
*** installing help indices
converting help for package 'scAlign'
finding HTML links ... done
PlotTSNE html
alignment_score html
cellbench html
compute_kernel_matrix html
decoderModel_add_mse_loss html
decoderModel_calc_projection html
decoderModel_create_train_op html
decoderModel_emb_to_proj html
decoderModel_train_decoder html
decoder_large html
decoder_medium html
decoder_small html
define_kernel_matrix html
dot-check_all_args html
dot-check_tensorflow html
dot-data_setup html
dot-early_stop html
dot-is.wholenumber html
dot-learning_rate html
dot-plotTSNE html
encoderModel_add_logit_loss html
encoderModel_add_semisup_loss_data_driven
html
encoderModel_calc_embedding html
encoderModel_calc_logit html
encoderModel_create_train_op html
encoderModel_data_to_embedding html
encoderModel_embedding_to_logit html
encoderModel_gaussian_kernel html
encoderModel_train_encoder html
encoderModel_train_encoder_multi html
encoder_large html
encoder_medium html
encoder_small html
gaussianKernel html
scAlign html
scAlignArguments html
scAlignCreateObject html
scAlignMulti html
scAlignOptions html
** building package indices
** installing vignettes
** testing if installed package can be loaded from temporary location
** testing if installed package can be loaded from final location
** testing if installed package keeps a record of temporary installation path
install for x64
* installing *source* package 'scAlign' ...
** testing if installed package can be loaded
* MD5 sums
packaged installation of 'scAlign' as scAlign_1.4.0.zip
* DONE (scAlign)
* installing to library 'C:/Users/biocbuild/bbs-3.12-bioc/R/library'
package 'scAlign' successfully unpacked and MD5 sums checked