| Back to Multiple platform build/check report for BioC 3.12 |
|
This page was generated on 2021-05-06 12:33:24 -0400 (Thu, 06 May 2021).
|
To the developers/maintainers of the safe package: Please make sure to use the following settings in order to reproduce any error or warning you see on this page. |
| Package 1609/1974 | Hostname | OS / Arch | INSTALL | BUILD | CHECK | BUILD BIN | ||||||||
| safe 3.30.0 (landing page) Ludwig Geistlinger
| malbec1 | Linux (Ubuntu 18.04.5 LTS) / x86_64 | OK | OK | OK | |||||||||
| tokay1 | Windows Server 2012 R2 Standard / x64 | OK | OK | OK | OK | |||||||||
| merida1 | macOS 10.14.6 Mojave / x86_64 | OK | OK | OK | OK | |||||||||
| Package: safe |
| Version: 3.30.0 |
| Command: rm -rf safe.buildbin-libdir && mkdir safe.buildbin-libdir && C:\Users\biocbuild\bbs-3.12-bioc\R\bin\R.exe CMD INSTALL --merge-multiarch --build --library=safe.buildbin-libdir safe_3.30.0.tar.gz |
| StartedAt: 2021-05-06 10:01:56 -0400 (Thu, 06 May 2021) |
| EndedAt: 2021-05-06 10:02:21 -0400 (Thu, 06 May 2021) |
| EllapsedTime: 25.2 seconds |
| RetCode: 0 |
| Status: OK |
| PackageFile: safe_3.30.0.zip |
| PackageFileSize: 738.4 KiB |
##############################################################################
##############################################################################
###
### Running command:
###
### rm -rf safe.buildbin-libdir && mkdir safe.buildbin-libdir && C:\Users\biocbuild\bbs-3.12-bioc\R\bin\R.exe CMD INSTALL --merge-multiarch --build --library=safe.buildbin-libdir safe_3.30.0.tar.gz
###
##############################################################################
##############################################################################
install for i386
* installing *source* package 'safe' ...
** using staged installation
** R
** data
** inst
** byte-compile and prepare package for lazy loading
** help
*** installing help indices
converting help for package 'safe'
finding HTML links ... done
SAFE-class html
gene.results html
getCmatrix html
p53.stat html
safe-internal html
safe-package html
safe html
safe.toptable html
safedag html
safeplot html
** building package indices
** installing vignettes
** testing if installed package can be loaded from temporary location
** testing if installed package can be loaded from final location
** testing if installed package keeps a record of temporary installation path
install for x64
* installing *source* package 'safe' ...
** testing if installed package can be loaded
* MD5 sums
packaged installation of 'safe' as safe_3.30.0.zip
* DONE (safe)