| Back to Multiple platform build/check report for BioC 3.12 |
|
This page was generated on 2021-05-06 12:33:47 -0400 (Thu, 06 May 2021).
|
To the developers/maintainers of the sSeq package: Please make sure to use the following settings in order to reproduce any error or warning you see on this page. |
| Package 1789/1974 | Hostname | OS / Arch | INSTALL | BUILD | CHECK | BUILD BIN | ||||||||
| sSeq 1.28.0 (landing page) Danni Yu
| malbec1 | Linux (Ubuntu 18.04.5 LTS) / x86_64 | OK | OK | OK | |||||||||
| tokay1 | Windows Server 2012 R2 Standard / x64 | OK | OK | OK | OK | |||||||||
| merida1 | macOS 10.14.6 Mojave / x86_64 | OK | OK | OK | OK | |||||||||
| Package: sSeq |
| Version: 1.28.0 |
| Command: rm -rf sSeq.buildbin-libdir && mkdir sSeq.buildbin-libdir && C:\Users\biocbuild\bbs-3.12-bioc\R\bin\R.exe CMD INSTALL --merge-multiarch --build --library=sSeq.buildbin-libdir sSeq_1.28.0.tar.gz |
| StartedAt: 2021-05-06 10:12:03 -0400 (Thu, 06 May 2021) |
| EndedAt: 2021-05-06 10:12:37 -0400 (Thu, 06 May 2021) |
| EllapsedTime: 34.4 seconds |
| RetCode: 0 |
| Status: OK |
| PackageFile: sSeq_1.28.0.zip |
| PackageFileSize: 4.359 MiB |
##############################################################################
##############################################################################
###
### Running command:
###
### rm -rf sSeq.buildbin-libdir && mkdir sSeq.buildbin-libdir && C:\Users\biocbuild\bbs-3.12-bioc\R\bin\R.exe CMD INSTALL --merge-multiarch --build --library=sSeq.buildbin-libdir sSeq_1.28.0.tar.gz
###
##############################################################################
##############################################################################
install for i386
* installing *source* package 'sSeq' ...
** using staged installation
** R
** data
** inst
** byte-compile and prepare package for lazy loading
** help
*** installing help indices
converting help for package 'sSeq'
finding HTML links ... done
Hammer2months html
Sultan html
Tuch html
countsTable html
drawMA_vol html
ecdfAUC html
equalSpace html
exactNBtest1 html
getAdjustDisp html
getNormFactor html
getQ html
getT html
getTgroup html
nbTestSH html
nbinomTestForMatricesSH html
plotDispersion html
rnbinomMV html
rowVars html
sSeq-package html
sim html
** building package indices
** installing vignettes
** testing if installed package can be loaded from temporary location
** testing if installed package can be loaded from final location
** testing if installed package keeps a record of temporary installation path
install for x64
* installing *source* package 'sSeq' ...
** testing if installed package can be loaded
* MD5 sums
packaged installation of 'sSeq' as sSeq_1.28.0.zip
* DONE (sSeq)