| Back to Multiple platform build/check report for BioC 3.12 |
|
This page was generated on 2021-05-06 12:29:18 -0400 (Thu, 06 May 2021).
|
To the developers/maintainers of the sRACIPE package: Please make sure to use the following settings in order to reproduce any error or warning you see on this page. |
| Package 1783/1974 | Hostname | OS / Arch | INSTALL | BUILD | CHECK | BUILD BIN | ||||||||
| sRACIPE 1.6.0 (landing page) Vivek Kohar
| malbec1 | Linux (Ubuntu 18.04.5 LTS) / x86_64 | OK | OK | OK | |||||||||
| tokay1 | Windows Server 2012 R2 Standard / x64 | OK | OK | OK | OK | |||||||||
| merida1 | macOS 10.14.6 Mojave / x86_64 | OK | OK | OK | OK | |||||||||
| Package: sRACIPE |
| Version: 1.6.0 |
| Command: /home/biocbuild/bbs-3.12-bioc/R/bin/R CMD check --install=check:sRACIPE.install-out.txt --library=/home/biocbuild/bbs-3.12-bioc/R/library --no-vignettes --timings sRACIPE_1.6.0.tar.gz |
| StartedAt: 2021-05-06 06:21:40 -0400 (Thu, 06 May 2021) |
| EndedAt: 2021-05-06 06:24:38 -0400 (Thu, 06 May 2021) |
| EllapsedTime: 177.7 seconds |
| RetCode: 0 |
| Status: OK |
| CheckDir: sRACIPE.Rcheck |
| Warnings: 0 |
##############################################################################
##############################################################################
###
### Running command:
###
### /home/biocbuild/bbs-3.12-bioc/R/bin/R CMD check --install=check:sRACIPE.install-out.txt --library=/home/biocbuild/bbs-3.12-bioc/R/library --no-vignettes --timings sRACIPE_1.6.0.tar.gz
###
##############################################################################
##############################################################################
* using log directory ‘/home/biocbuild/bbs-3.12-bioc/meat/sRACIPE.Rcheck’
* using R version 4.0.5 (2021-03-31)
* using platform: x86_64-pc-linux-gnu (64-bit)
* using session charset: UTF-8
* using option ‘--no-vignettes’
* checking for file ‘sRACIPE/DESCRIPTION’ ... OK
* checking extension type ... Package
* this is package ‘sRACIPE’ version ‘1.6.0’
* package encoding: UTF-8
* checking package namespace information ... OK
* checking package dependencies ... OK
* checking if this is a source package ... OK
* checking if there is a namespace ... OK
* checking for hidden files and directories ... OK
* checking for portable file names ... OK
* checking for sufficient/correct file permissions ... OK
* checking whether package ‘sRACIPE’ can be installed ... OK
* checking installed package size ... OK
* checking package directory ... OK
* checking ‘build’ directory ... OK
* checking DESCRIPTION meta-information ... OK
* checking top-level files ... OK
* checking for left-over files ... OK
* checking index information ... OK
* checking package subdirectories ... OK
* checking R files for non-ASCII characters ... OK
* checking R files for syntax errors ... OK
* checking whether the package can be loaded ... OK
* checking whether the package can be loaded with stated dependencies ... OK
* checking whether the package can be unloaded cleanly ... OK
* checking whether the namespace can be loaded with stated dependencies ... OK
* checking whether the namespace can be unloaded cleanly ... OK
* checking dependencies in R code ... OK
* checking S3 generic/method consistency ... OK
* checking replacement functions ... OK
* checking foreign function calls ... OK
* checking R code for possible problems ... NOTE
sracipeSimulate: no visible global function definition for
‘registerDoFuture’
sracipeSimulate: no visible global function definition for ‘plan’
sracipeSimulate: no visible global function definition for ‘%dopar%’
sracipeSimulate: no visible global function definition for ‘foreach’
sracipeSimulate: no visible binding for global variable
‘configurationTmp’
sracipeSimulate: no visible binding for global variable ‘outFileGETmp’
sracipeSimulate: no visible binding for global variable
‘outFileParamsTmp’
sracipeSimulate: no visible binding for global variable ‘outFileICTmp’
Undefined global functions or variables:
%dopar% configurationTmp foreach outFileGETmp outFileICTmp
outFileParamsTmp plan registerDoFuture
* checking Rd files ... OK
* checking Rd metadata ... OK
* checking Rd cross-references ... OK
* checking for missing documentation entries ... OK
* checking for code/documentation mismatches ... OK
* checking Rd \usage sections ... OK
* checking Rd contents ... OK
* checking for unstated dependencies in examples ... OK
* checking contents of ‘data’ directory ... OK
* checking data for non-ASCII characters ... OK
* checking data for ASCII and uncompressed saves ... OK
* checking line endings in C/C++/Fortran sources/headers ... OK
* checking line endings in Makefiles ... OK
* checking compilation flags in Makevars ... OK
* checking for GNU extensions in Makefiles ... OK
* checking for portable use of $(BLAS_LIBS) and $(LAPACK_LIBS) ... OK
* checking use of PKG_*FLAGS in Makefiles ... OK
* checking compiled code ... NOTE
Note: information on .o files is not available
* checking files in ‘vignettes’ ... OK
* checking examples ... OK
Examples with CPU (user + system) or elapsed time > 5s
user system elapsed
sracipeSimulate 9 0.004 9.035
* checking for unstated dependencies in vignettes ... OK
* checking package vignettes in ‘inst/doc’ ... OK
* checking running R code from vignettes ... SKIPPED
* checking re-building of vignette outputs ... SKIPPED
* checking PDF version of manual ... OK
* DONE
Status: 2 NOTEs
See
‘/home/biocbuild/bbs-3.12-bioc/meat/sRACIPE.Rcheck/00check.log’
for details.
sRACIPE.Rcheck/00install.out
############################################################################## ############################################################################## ### ### Running command: ### ### /home/biocbuild/bbs-3.12-bioc/R/bin/R CMD INSTALL sRACIPE ### ############################################################################## ############################################################################## * installing to library ‘/home/biocbuild/bbs-3.12-bioc/R/library’ * installing *source* package ‘sRACIPE’ ... ** using staged installation ** libs g++ -std=gnu++11 -I"/home/biocbuild/bbs-3.12-bioc/R/include" -DNDEBUG -I'/home/biocbuild/bbs-3.12-bioc/R/library/Rcpp/include' -I/usr/local/include -fpic -g -O2 -Wall -c RcppExports.cpp -o RcppExports.o g++ -std=gnu++11 -I"/home/biocbuild/bbs-3.12-bioc/R/include" -DNDEBUG -I'/home/biocbuild/bbs-3.12-bioc/R/library/Rcpp/include' -I/usr/local/include -fpic -g -O2 -Wall -c generateThresholds.cpp -o generateThresholds.o g++ -std=gnu++11 -I"/home/biocbuild/bbs-3.12-bioc/R/include" -DNDEBUG -I'/home/biocbuild/bbs-3.12-bioc/R/library/Rcpp/include' -I/usr/local/include -fpic -g -O2 -Wall -c header.cpp -o header.o g++ -std=gnu++11 -I"/home/biocbuild/bbs-3.12-bioc/R/include" -DNDEBUG -I'/home/biocbuild/bbs-3.12-bioc/R/library/Rcpp/include' -I/usr/local/include -fpic -g -O2 -Wall -c simulateGRC.cpp -o simulateGRC.o g++ -std=gnu++11 -I"/home/biocbuild/bbs-3.12-bioc/R/include" -DNDEBUG -I'/home/biocbuild/bbs-3.12-bioc/R/library/Rcpp/include' -I/usr/local/include -fpic -g -O2 -Wall -c steppers.cpp -o steppers.o g++ -std=gnu++11 -shared -L/home/biocbuild/bbs-3.12-bioc/R/lib -L/usr/local/lib -o sRACIPE.so RcppExports.o generateThresholds.o header.o simulateGRC.o steppers.o -L/home/biocbuild/bbs-3.12-bioc/R/lib -lR installing to /home/biocbuild/bbs-3.12-bioc/R/library/00LOCK-sRACIPE/00new/sRACIPE/libs ** R ** data ** inst ** byte-compile and prepare package for lazy loading ** help *** installing help indices ** building package indices ** installing vignettes ** testing if installed package can be loaded from temporary location ** checking absolute paths in shared objects and dynamic libraries ** testing if installed package can be loaded from final location ** testing if installed package keeps a record of temporary installation path * DONE (sRACIPE)
sRACIPE.Rcheck/sRACIPE-Ex.timings
| name | user | system | elapsed | |
| RacipeSE | 0.06 | 0.00 | 0.06 | |
| annotation-RacipeSE-method | 0.692 | 0.036 | 0.730 | |
| annotation-set-RacipeSE-ANY-method | 0.560 | 0.004 | 0.562 | |
| sracipeCircuit-set | 0.056 | 0.000 | 0.054 | |
| sracipeCircuit | 0.060 | 0.000 | 0.061 | |
| sracipeConfig-set | 0.016 | 0.000 | 0.014 | |
| sracipeConfig | 0.040 | 0.004 | 0.046 | |
| sracipeGenParamNames | 0.044 | 0.004 | 0.049 | |
| sracipeGetTS | 0.128 | 0.000 | 0.126 | |
| sracipeIC-set | 0.216 | 0.000 | 0.217 | |
| sracipeIC | 0.128 | 0.004 | 0.132 | |
| sracipeKnockDown | 0.004 | 0.000 | 0.001 | |
| sracipeNormalize | 0.096 | 0.004 | 0.100 | |
| sracipeOverExp | 0.000 | 0.000 | 0.002 | |
| sracipeParams-set | 0.084 | 0.000 | 0.087 | |
| sracipeParams | 0.076 | 0.000 | 0.079 | |
| sracipePlotCircuit | 0.004 | 0.000 | 0.001 | |
| sracipePlotData | 0.000 | 0.000 | 0.001 | |
| sracipePlotParamBifur | 0.000 | 0.004 | 0.002 | |
| sracipeSimulate | 9.000 | 0.004 | 9.035 | |