| Back to Multiple platform build/check report for BioC 3.12 |
|
This page was generated on 2021-05-06 12:33:20 -0400 (Thu, 06 May 2021).
|
To the developers/maintainers of the rols package: Please make sure to use the following settings in order to reproduce any error or warning you see on this page. |
| Package 1566/1974 | Hostname | OS / Arch | INSTALL | BUILD | CHECK | BUILD BIN | ||||||||
| rols 2.18.3 (landing page) Laurent Gatto
| malbec1 | Linux (Ubuntu 18.04.5 LTS) / x86_64 | OK | OK | OK | |||||||||
| tokay1 | Windows Server 2012 R2 Standard / x64 | OK | OK | OK | OK | |||||||||
| merida1 | macOS 10.14.6 Mojave / x86_64 | OK | OK | OK | OK | |||||||||
| Package: rols |
| Version: 2.18.3 |
| Command: rm -rf rols.buildbin-libdir && mkdir rols.buildbin-libdir && C:\Users\biocbuild\bbs-3.12-bioc\R\bin\R.exe CMD INSTALL --merge-multiarch --build --library=rols.buildbin-libdir rols_2.18.3.tar.gz |
| StartedAt: 2021-05-06 09:59:17 -0400 (Thu, 06 May 2021) |
| EndedAt: 2021-05-06 09:59:35 -0400 (Thu, 06 May 2021) |
| EllapsedTime: 17.8 seconds |
| RetCode: 0 |
| Status: OK |
| PackageFile: rols_2.18.3.zip |
| PackageFileSize: 661.6 KiB |
##############################################################################
##############################################################################
###
### Running command:
###
### rm -rf rols.buildbin-libdir && mkdir rols.buildbin-libdir && C:\Users\biocbuild\bbs-3.12-bioc\R\bin\R.exe CMD INSTALL --merge-multiarch --build --library=rols.buildbin-libdir rols_2.18.3.tar.gz
###
##############################################################################
##############################################################################
install for i386
* installing *source* package 'rols' ...
** using staged installation
** R
** inst
** byte-compile and prepare package for lazy loading
Creating a generic function for 'lapply' from package 'base' in package 'rols'
** help
*** installing help indices
converting help for package 'rols'
finding HTML links ... done
CVParam-class html
finding level-2 HTML links ... done
OlsSearch-class html
Ontology-class html
Properties-class html
Term-class html
dot-properties html
dot-term html
dot-terms html
makeOntologies html
makeOntology html
makeProperty html
makeTerm html
** building package indices
** installing vignettes
** testing if installed package can be loaded from temporary location
** testing if installed package can be loaded from final location
** testing if installed package keeps a record of temporary installation path
install for x64
* installing *source* package 'rols' ...
** testing if installed package can be loaded
* MD5 sums
packaged installation of 'rols' as rols_2.18.3.zip
* DONE (rols)