| Back to Multiple platform build/check report for BioC 3.12 |
|
This page was generated on 2021-05-06 12:33:18 -0400 (Thu, 06 May 2021).
|
To the developers/maintainers of the rnaEditr package: Please make sure to use the following settings in order to reproduce any error or warning you see on this page. |
| Package 1546/1974 | Hostname | OS / Arch | INSTALL | BUILD | CHECK | BUILD BIN | ||||||||
| rnaEditr 1.0.0 (landing page) Lanyu Zhang
| malbec1 | Linux (Ubuntu 18.04.5 LTS) / x86_64 | OK | OK | OK | |||||||||
| tokay1 | Windows Server 2012 R2 Standard / x64 | OK | OK | OK | OK | |||||||||
| merida1 | macOS 10.14.6 Mojave / x86_64 | OK | OK | OK | OK | |||||||||
| Package: rnaEditr |
| Version: 1.0.0 |
| Command: C:\cygwin\bin\curl.exe -O http://172.29.0.3/BBS/3.12/bioc/src/contrib/rnaEditr_1.0.0.tar.gz && rm -rf rnaEditr.buildbin-libdir && mkdir rnaEditr.buildbin-libdir && C:\Users\biocbuild\bbs-3.12-bioc\R\bin\R.exe CMD INSTALL --merge-multiarch --build --library=rnaEditr.buildbin-libdir rnaEditr_1.0.0.tar.gz && C:\Users\biocbuild\bbs-3.12-bioc\R\bin\R.exe CMD INSTALL rnaEditr_1.0.0.zip && rm rnaEditr_1.0.0.tar.gz rnaEditr_1.0.0.zip |
| StartedAt: 2021-05-05 18:52:16 -0400 (Wed, 05 May 2021) |
| EndedAt: 2021-05-05 18:53:52 -0400 (Wed, 05 May 2021) |
| EllapsedTime: 95.6 seconds |
| RetCode: 0 |
| Status: OK |
##############################################################################
##############################################################################
###
### Running command:
###
### C:\cygwin\bin\curl.exe -O http://172.29.0.3/BBS/3.12/bioc/src/contrib/rnaEditr_1.0.0.tar.gz && rm -rf rnaEditr.buildbin-libdir && mkdir rnaEditr.buildbin-libdir && C:\Users\biocbuild\bbs-3.12-bioc\R\bin\R.exe CMD INSTALL --merge-multiarch --build --library=rnaEditr.buildbin-libdir rnaEditr_1.0.0.tar.gz && C:\Users\biocbuild\bbs-3.12-bioc\R\bin\R.exe CMD INSTALL rnaEditr_1.0.0.zip && rm rnaEditr_1.0.0.tar.gz rnaEditr_1.0.0.zip
###
##############################################################################
##############################################################################
% Total % Received % Xferd Average Speed Time Time Time Current
Dload Upload Total Spent Left Speed
0 0 0 0 0 0 0 0 --:--:-- --:--:-- --:--:-- 0
100 887k 100 887k 0 0 40.3M 0 --:--:-- --:--:-- --:--:-- 43.3M
install for i386
* installing *source* package 'rnaEditr' ...
** using staged installation
** R
** data
** inst
** byte-compile and prepare package for lazy loading
** help
*** installing help indices
converting help for package 'rnaEditr'
finding HTML links ... done
AddMetaData html
AllCloseByRegions html
AllCoeditedRegions html
AnnotateResults html
CountSamplesPerGroup html
CreateEditingTable html
CreateOutputDF html
CreateRdrop html
FindCorrelatedRegions html
GetMinPairwiseCor html
GetSitesLocations html
MakeModelFormula html
MarkCoeditedSites html
OrderSitesByLocation html
PlotEditingCorrelations html
RegionSummaryMethod html
SingleCloseByRegion html
SingleCoeditedRegion html
SitesToRegion html
SummarizeAllRegions html
SummarizeSingleRegion html
TestAssociations html
TestSingleRegion html
TransformToGR html
rnaedit_df html
t_rnaedit_df html
** building package indices
** installing vignettes
** testing if installed package can be loaded from temporary location
** testing if installed package can be loaded from final location
** testing if installed package keeps a record of temporary installation path
install for x64
* installing *source* package 'rnaEditr' ...
** testing if installed package can be loaded
* MD5 sums
packaged installation of 'rnaEditr' as rnaEditr_1.0.0.zip
* DONE (rnaEditr)
* installing to library 'C:/Users/biocbuild/bbs-3.12-bioc/R/library'
package 'rnaEditr' successfully unpacked and MD5 sums checked