| Back to Multiple platform build/check report for BioC 3.12 |
|
This page was generated on 2021-05-06 12:33:16 -0400 (Thu, 06 May 2021).
|
To the developers/maintainers of the ribosomeProfilingQC package: Please make sure to use the following settings in order to reproduce any error or warning you see on this page. |
| Package 1530/1974 | Hostname | OS / Arch | INSTALL | BUILD | CHECK | BUILD BIN | ||||||||
| ribosomeProfilingQC 1.2.1 (landing page) Jianhong Ou
| malbec1 | Linux (Ubuntu 18.04.5 LTS) / x86_64 | OK | OK | OK | |||||||||
| tokay1 | Windows Server 2012 R2 Standard / x64 | OK | OK | OK | OK | |||||||||
| merida1 | macOS 10.14.6 Mojave / x86_64 | OK | OK | OK | OK | |||||||||
| Package: ribosomeProfilingQC |
| Version: 1.2.1 |
| Command: C:\cygwin\bin\curl.exe -O http://172.29.0.3/BBS/3.12/bioc/src/contrib/ribosomeProfilingQC_1.2.1.tar.gz && rm -rf ribosomeProfilingQC.buildbin-libdir && mkdir ribosomeProfilingQC.buildbin-libdir && C:\Users\biocbuild\bbs-3.12-bioc\R\bin\R.exe CMD INSTALL --merge-multiarch --build --library=ribosomeProfilingQC.buildbin-libdir ribosomeProfilingQC_1.2.1.tar.gz && C:\Users\biocbuild\bbs-3.12-bioc\R\bin\R.exe CMD INSTALL ribosomeProfilingQC_1.2.1.zip && rm ribosomeProfilingQC_1.2.1.tar.gz ribosomeProfilingQC_1.2.1.zip |
| StartedAt: 2021-05-05 18:01:51 -0400 (Wed, 05 May 2021) |
| EndedAt: 2021-05-05 18:03:06 -0400 (Wed, 05 May 2021) |
| EllapsedTime: 75.2 seconds |
| RetCode: 0 |
| Status: OK |
##############################################################################
##############################################################################
###
### Running command:
###
### C:\cygwin\bin\curl.exe -O http://172.29.0.3/BBS/3.12/bioc/src/contrib/ribosomeProfilingQC_1.2.1.tar.gz && rm -rf ribosomeProfilingQC.buildbin-libdir && mkdir ribosomeProfilingQC.buildbin-libdir && C:\Users\biocbuild\bbs-3.12-bioc\R\bin\R.exe CMD INSTALL --merge-multiarch --build --library=ribosomeProfilingQC.buildbin-libdir ribosomeProfilingQC_1.2.1.tar.gz && C:\Users\biocbuild\bbs-3.12-bioc\R\bin\R.exe CMD INSTALL ribosomeProfilingQC_1.2.1.zip && rm ribosomeProfilingQC_1.2.1.tar.gz ribosomeProfilingQC_1.2.1.zip
###
##############################################################################
##############################################################################
% Total % Received % Xferd Average Speed Time Time Time Current
Dload Upload Total Spent Left Speed
0 0 0 0 0 0 0 0 --:--:-- --:--:-- --:--:-- 0
100 2158k 100 2158k 0 0 32.0M 0 --:--:-- --:--:-- --:--:-- 32.4M
install for i386
* installing *source* package 'ribosomeProfilingQC' ...
** using staged installation
** R
** inst
** byte-compile and prepare package for lazy loading
** help
*** installing help indices
converting help for package 'ribosomeProfilingQC'
finding HTML links ... done
FLOSS html
PAmotif html
assignReadingFrame html
codonUsage html
countReads html
coverageDepth html
coverageRates html
cvgd-class html
estimatePsite html
filterCDS html
frameCounts html
getFPKM html
getORFscore html
getPsiteCoordinates html
ggBar html
metaPlot html
normByRUVs html
plotDistance2Codon html
plotFrameDensity html
plotSpliceEvent html
plotTE html
plotTranscript html
prepareCDS html
readsDistribution html
readsEndPlot html
readsLenToKeep html
ribosomeReleaseScore html
shiftReadsByFrame html
simulateRPF html
spliceEvent html
strandPlot html
summaryReadsLength html
translationalEfficiency html
** building package indices
** installing vignettes
** testing if installed package can be loaded from temporary location
** testing if installed package can be loaded from final location
** testing if installed package keeps a record of temporary installation path
install for x64
* installing *source* package 'ribosomeProfilingQC' ...
** testing if installed package can be loaded
* MD5 sums
packaged installation of 'ribosomeProfilingQC' as ribosomeProfilingQC_1.2.1.zip
* DONE (ribosomeProfilingQC)
* installing to library 'C:/Users/biocbuild/bbs-3.12-bioc/R/library'
package 'ribosomeProfilingQC' successfully unpacked and MD5 sums checked