| Back to Multiple platform build/check report for BioC 3.12 |
|
This page was generated on 2021-05-06 12:33:16 -0400 (Thu, 06 May 2021).
|
To the developers/maintainers of the riboSeqR package: Please make sure to use the following settings in order to reproduce any error or warning you see on this page. |
| Package 1529/1974 | Hostname | OS / Arch | INSTALL | BUILD | CHECK | BUILD BIN | ||||||||
| riboSeqR 1.24.0 (landing page) Thomas J. Hardcastle
| malbec1 | Linux (Ubuntu 18.04.5 LTS) / x86_64 | OK | OK | OK | |||||||||
| tokay1 | Windows Server 2012 R2 Standard / x64 | OK | OK | OK | OK | |||||||||
| merida1 | macOS 10.14.6 Mojave / x86_64 | OK | OK | OK | OK | |||||||||
| Package: riboSeqR |
| Version: 1.24.0 |
| Command: rm -rf riboSeqR.buildbin-libdir && mkdir riboSeqR.buildbin-libdir && C:\Users\biocbuild\bbs-3.12-bioc\R\bin\R.exe CMD INSTALL --merge-multiarch --build --library=riboSeqR.buildbin-libdir riboSeqR_1.24.0.tar.gz |
| StartedAt: 2021-05-06 09:56:45 -0400 (Thu, 06 May 2021) |
| EndedAt: 2021-05-06 09:57:10 -0400 (Thu, 06 May 2021) |
| EllapsedTime: 24.9 seconds |
| RetCode: 0 |
| Status: OK |
| PackageFile: riboSeqR_1.24.0.zip |
| PackageFileSize: 3.965 MiB |
##############################################################################
##############################################################################
###
### Running command:
###
### rm -rf riboSeqR.buildbin-libdir && mkdir riboSeqR.buildbin-libdir && C:\Users\biocbuild\bbs-3.12-bioc\R\bin\R.exe CMD INSTALL --merge-multiarch --build --library=riboSeqR.buildbin-libdir riboSeqR_1.24.0.tar.gz
###
##############################################################################
##############################################################################
install for i386
* installing *source* package 'riboSeqR' ...
** using staged installation
** R
** inst
** byte-compile and prepare package for lazy loading
** help
*** installing help indices
converting help for package 'riboSeqR'
finding HTML links ... done
filterHits html
findCDS html
frameCounting html
frameShift html
lengthDist html
libScales html
logoContext html
plotCDS html
plotTranscript html
readRibodata html
riboCoding-class html
riboData-class html
riboSeqR-package html
rnaCounts html
sliceCounts html
** building package indices
** installing vignettes
** testing if installed package can be loaded from temporary location
** testing if installed package can be loaded from final location
** testing if installed package keeps a record of temporary installation path
install for x64
* installing *source* package 'riboSeqR' ...
** testing if installed package can be loaded
* MD5 sums
packaged installation of 'riboSeqR' as riboSeqR_1.24.0.zip
* DONE (riboSeqR)