| Back to Multiple platform build/check report for BioC 3.12 |
|
This page was generated on 2021-05-06 12:33:15 -0400 (Thu, 06 May 2021).
|
To the developers/maintainers of the rhdf5 package: Please make sure to use the following settings in order to reproduce any error or warning you see on this page. |
| Package 1521/1974 | Hostname | OS / Arch | INSTALL | BUILD | CHECK | BUILD BIN | ||||||||
| rhdf5 2.34.0 (landing page) Mike Smith
| malbec1 | Linux (Ubuntu 18.04.5 LTS) / x86_64 | OK | OK | OK | |||||||||
| tokay1 | Windows Server 2012 R2 Standard / x64 | OK | OK | OK | OK | |||||||||
| merida1 | macOS 10.14.6 Mojave / x86_64 | OK | OK | OK | OK | |||||||||
| Package: rhdf5 |
| Version: 2.34.0 |
| Command: rm -rf rhdf5.buildbin-libdir && mkdir rhdf5.buildbin-libdir && C:\Users\biocbuild\bbs-3.12-bioc\R\bin\R.exe CMD INSTALL --merge-multiarch --build --library=rhdf5.buildbin-libdir rhdf5_2.34.0.tar.gz |
| StartedAt: 2021-05-06 09:56:12 -0400 (Thu, 06 May 2021) |
| EndedAt: 2021-05-06 09:57:06 -0400 (Thu, 06 May 2021) |
| EllapsedTime: 54.8 seconds |
| RetCode: 0 |
| Status: OK |
| PackageFile: rhdf5_2.34.0.zip |
| PackageFileSize: 7.121 MiB |
##############################################################################
##############################################################################
###
### Running command:
###
### rm -rf rhdf5.buildbin-libdir && mkdir rhdf5.buildbin-libdir && C:\Users\biocbuild\bbs-3.12-bioc\R\bin\R.exe CMD INSTALL --merge-multiarch --build --library=rhdf5.buildbin-libdir rhdf5_2.34.0.tar.gz
###
##############################################################################
##############################################################################
install for i386
* installing *source* package 'rhdf5' ...
** using staged installation
** libs
"C:/rtools40/mingw32/bin/"gcc -I"C:/Users/BIOCBU~1/BBS-3~1.12-/R/include" -DNDEBUG -I'C:/Users/biocbuild/bbs-3.12-bioc/R/library/Rhdf5lib/include' -I"C:/extsoft/include" "-w" -O2 -Wall -std=gnu99 -mfpmath=sse -msse2 -mstackrealign -c H5.c -o H5.o
"C:/rtools40/mingw32/bin/"gcc -I"C:/Users/BIOCBU~1/BBS-3~1.12-/R/include" -DNDEBUG -I'C:/Users/biocbuild/bbs-3.12-bioc/R/library/Rhdf5lib/include' -I"C:/extsoft/include" "-w" -O2 -Wall -std=gnu99 -mfpmath=sse -msse2 -mstackrealign -c H5A.c -o H5A.o
"C:/rtools40/mingw32/bin/"gcc -I"C:/Users/BIOCBU~1/BBS-3~1.12-/R/include" -DNDEBUG -I'C:/Users/biocbuild/bbs-3.12-bioc/R/library/Rhdf5lib/include' -I"C:/extsoft/include" "-w" -O2 -Wall -std=gnu99 -mfpmath=sse -msse2 -mstackrealign -c H5D.c -o H5D.o
"C:/rtools40/mingw32/bin/"gcc -I"C:/Users/BIOCBU~1/BBS-3~1.12-/R/include" -DNDEBUG -I'C:/Users/biocbuild/bbs-3.12-bioc/R/library/Rhdf5lib/include' -I"C:/extsoft/include" "-w" -O2 -Wall -std=gnu99 -mfpmath=sse -msse2 -mstackrealign -c H5E.c -o H5E.o
"C:/rtools40/mingw32/bin/"gcc -I"C:/Users/BIOCBU~1/BBS-3~1.12-/R/include" -DNDEBUG -I'C:/Users/biocbuild/bbs-3.12-bioc/R/library/Rhdf5lib/include' -I"C:/extsoft/include" "-w" -O2 -Wall -std=gnu99 -mfpmath=sse -msse2 -mstackrealign -c H5F.c -o H5F.o
"C:/rtools40/mingw32/bin/"gcc -I"C:/Users/BIOCBU~1/BBS-3~1.12-/R/include" -DNDEBUG -I'C:/Users/biocbuild/bbs-3.12-bioc/R/library/Rhdf5lib/include' -I"C:/extsoft/include" "-w" -O2 -Wall -std=gnu99 -mfpmath=sse -msse2 -mstackrealign -c H5G.c -o H5G.o
"C:/rtools40/mingw32/bin/"gcc -I"C:/Users/BIOCBU~1/BBS-3~1.12-/R/include" -DNDEBUG -I'C:/Users/biocbuild/bbs-3.12-bioc/R/library/Rhdf5lib/include' -I"C:/extsoft/include" "-w" -O2 -Wall -std=gnu99 -mfpmath=sse -msse2 -mstackrealign -c H5I.c -o H5I.o
"C:/rtools40/mingw32/bin/"gcc -I"C:/Users/BIOCBU~1/BBS-3~1.12-/R/include" -DNDEBUG -I'C:/Users/biocbuild/bbs-3.12-bioc/R/library/Rhdf5lib/include' -I"C:/extsoft/include" "-w" -O2 -Wall -std=gnu99 -mfpmath=sse -msse2 -mstackrealign -c H5L.c -o H5L.o
"C:/rtools40/mingw32/bin/"gcc -I"C:/Users/BIOCBU~1/BBS-3~1.12-/R/include" -DNDEBUG -I'C:/Users/biocbuild/bbs-3.12-bioc/R/library/Rhdf5lib/include' -I"C:/extsoft/include" "-w" -O2 -Wall -std=gnu99 -mfpmath=sse -msse2 -mstackrealign -c H5O.c -o H5O.o
"C:/rtools40/mingw32/bin/"gcc -I"C:/Users/BIOCBU~1/BBS-3~1.12-/R/include" -DNDEBUG -I'C:/Users/biocbuild/bbs-3.12-bioc/R/library/Rhdf5lib/include' -I"C:/extsoft/include" "-w" -O2 -Wall -std=gnu99 -mfpmath=sse -msse2 -mstackrealign -c H5P.c -o H5P.o
"C:/rtools40/mingw32/bin/"gcc -I"C:/Users/BIOCBU~1/BBS-3~1.12-/R/include" -DNDEBUG -I'C:/Users/biocbuild/bbs-3.12-bioc/R/library/Rhdf5lib/include' -I"C:/extsoft/include" "-w" -O2 -Wall -std=gnu99 -mfpmath=sse -msse2 -mstackrealign -c H5S.c -o H5S.o
"C:/rtools40/mingw32/bin/"gcc -I"C:/Users/BIOCBU~1/BBS-3~1.12-/R/include" -DNDEBUG -I'C:/Users/biocbuild/bbs-3.12-bioc/R/library/Rhdf5lib/include' -I"C:/extsoft/include" "-w" -O2 -Wall -std=gnu99 -mfpmath=sse -msse2 -mstackrealign -c H5T.c -o H5T.o
"C:/rtools40/mingw32/bin/"gcc -I"C:/Users/BIOCBU~1/BBS-3~1.12-/R/include" -DNDEBUG -I'C:/Users/biocbuild/bbs-3.12-bioc/R/library/Rhdf5lib/include' -I"C:/extsoft/include" "-w" -O2 -Wall -std=gnu99 -mfpmath=sse -msse2 -mstackrealign -c H5Z.c -o H5Z.o
"C:/rtools40/mingw32/bin/"gcc -I"C:/Users/BIOCBU~1/BBS-3~1.12-/R/include" -DNDEBUG -I'C:/Users/biocbuild/bbs-3.12-bioc/R/library/Rhdf5lib/include' -I"C:/extsoft/include" "-w" -O2 -Wall -std=gnu99 -mfpmath=sse -msse2 -mstackrealign -c H5constants.c -o H5constants.o
"C:/rtools40/mingw32/bin/"g++ -std=gnu++11 -I"C:/Users/BIOCBU~1/BBS-3~1.12-/R/include" -DNDEBUG -I'C:/Users/biocbuild/bbs-3.12-bioc/R/library/Rhdf5lib/include' -I"C:/extsoft/include" -O2 -Wall -mfpmath=sse -msse2 -mstackrealign -c HandleList.cpp -o HandleList.o
"C:/rtools40/mingw32/bin/"gcc -I"C:/Users/BIOCBU~1/BBS-3~1.12-/R/include" -DNDEBUG -I'C:/Users/biocbuild/bbs-3.12-bioc/R/library/Rhdf5lib/include' -I"C:/extsoft/include" "-w" -O2 -Wall -std=gnu99 -mfpmath=sse -msse2 -mstackrealign -c HandleListWrap.c -o HandleListWrap.o
"C:/rtools40/mingw32/bin/"gcc -I"C:/Users/BIOCBU~1/BBS-3~1.12-/R/include" -DNDEBUG -I'C:/Users/biocbuild/bbs-3.12-bioc/R/library/Rhdf5lib/include' -I"C:/extsoft/include" "-w" -O2 -Wall -std=gnu99 -mfpmath=sse -msse2 -mstackrealign -c external_filters.c -o external_filters.o
"C:/rtools40/mingw32/bin/"gcc -I"C:/Users/BIOCBU~1/BBS-3~1.12-/R/include" -DNDEBUG -I'C:/Users/biocbuild/bbs-3.12-bioc/R/library/Rhdf5lib/include' -I"C:/extsoft/include" "-w" -O2 -Wall -std=gnu99 -mfpmath=sse -msse2 -mstackrealign -c h5dump.c -o h5dump.o
"C:/rtools40/mingw32/bin/"gcc -I"C:/Users/BIOCBU~1/BBS-3~1.12-/R/include" -DNDEBUG -I'C:/Users/biocbuild/bbs-3.12-bioc/R/library/Rhdf5lib/include' -I"C:/extsoft/include" "-w" -O2 -Wall -std=gnu99 -mfpmath=sse -msse2 -mstackrealign -c h5ls.c -o h5ls.o
"C:/rtools40/mingw32/bin/"gcc -I"C:/Users/BIOCBU~1/BBS-3~1.12-/R/include" -DNDEBUG -I'C:/Users/biocbuild/bbs-3.12-bioc/R/library/Rhdf5lib/include' -I"C:/extsoft/include" "-w" -O2 -Wall -std=gnu99 -mfpmath=sse -msse2 -mstackrealign -c h5testLock.c -o h5testLock.o
"C:/rtools40/mingw32/bin/"gcc -I"C:/Users/BIOCBU~1/BBS-3~1.12-/R/include" -DNDEBUG -I'C:/Users/biocbuild/bbs-3.12-bioc/R/library/Rhdf5lib/include' -I"C:/extsoft/include" "-w" -O2 -Wall -std=gnu99 -mfpmath=sse -msse2 -mstackrealign -c h5writeDataFrame.c -o h5writeDataFrame.o
"C:/rtools40/mingw32/bin/"gcc -I"C:/Users/BIOCBU~1/BBS-3~1.12-/R/include" -DNDEBUG -I'C:/Users/biocbuild/bbs-3.12-bioc/R/library/Rhdf5lib/include' -I"C:/extsoft/include" "-w" -O2 -Wall -std=gnu99 -mfpmath=sse -msse2 -mstackrealign -c printdatatype.c -o printdatatype.o
"C:/rtools40/mingw32/bin/"gcc -I"C:/Users/BIOCBU~1/BBS-3~1.12-/R/include" -DNDEBUG -I'C:/Users/biocbuild/bbs-3.12-bioc/R/library/Rhdf5lib/include' -I"C:/extsoft/include" "-w" -O2 -Wall -std=gnu99 -mfpmath=sse -msse2 -mstackrealign -c utils.c -o utils.o
"C:/rtools40/mingw32/bin/"gcc -I"C:/Users/BIOCBU~1/BBS-3~1.12-/R/include" -DNDEBUG -I'C:/Users/biocbuild/bbs-3.12-bioc/R/library/Rhdf5lib/include' -I"C:/extsoft/include" "-w" -O2 -Wall -std=gnu99 -mfpmath=sse -msse2 -mstackrealign -c wrap.c -o wrap.o
C:/rtools40/mingw32/bin/g++ -std=gnu++11 -shared -s -static-libgcc -o rhdf5.dll tmp.def H5.o H5A.o H5D.o H5E.o H5F.o H5G.o H5I.o H5L.o H5O.o H5P.o H5S.o H5T.o H5Z.o H5constants.o HandleList.o HandleListWrap.o external_filters.o h5dump.o h5ls.o h5testLock.o h5writeDataFrame.o printdatatype.o utils.o wrap.o -LC:/Users/BIOCBU~1/BBS-3~1.12-/R/library/Rhdf5lib/lib/i386 -lhdf5 -lcurl -lssh2 -lssl -lcrypto -lwldap32 -lws2_32 -lcrypt32 -lszip -lz -lpsapi -LC:/extsoft/lib/i386 -LC:/extsoft/lib -LC:/Users/BIOCBU~1/BBS-3~1.12-/R/bin/i386 -lR
installing to C:/Users/biocbuild/bbs-3.12-bioc/meat/rhdf5.buildbin-libdir/00LOCK-rhdf5/00new/rhdf5/libs/i386
** R
** inst
** byte-compile and prepare package for lazy loading
** help
*** installing help indices
converting help for package 'rhdf5'
finding HTML links ... done
H5 html
H5A html
H5D html
H5F html
H5G html
H5I html
H5IdComponent-class html
H5L html
H5O html
H5P html
H5P_DATASET_ACCESS html
H5P_DATASET_CREATE html
H5P_FILE_ACCESS html
H5P_LINK_CREATE html
H5S html
H5T html
h5closeAll html
h5const html
h5createAttribute html
h5createDataset html
h5createFile html
h5createGroup html
h5delete html
h5errorHandling html
h5fileLocking html
h5listIdentifier html
h5ls html
h5save html
h5set_extent html
h5version html
h5write html
methods-And html
methods-Dollar1 html
methods-Dollar2 html
methods-subset1 html
methods-subset2 html
rhdf5 html
** building package indices
** installing vignettes
** testing if installed package can be loaded from temporary location
** testing if installed package can be loaded from final location
** testing if installed package keeps a record of temporary installation path
install for x64
* installing *source* package 'rhdf5' ...
** libs
"C:/rtools40/mingw64/bin/"gcc -I"C:/Users/BIOCBU~1/BBS-3~1.12-/R/include" -DNDEBUG -I'C:/Users/biocbuild/bbs-3.12-bioc/R/library/Rhdf5lib/include' -I"C:/extsoft/include" "-w" -O2 -Wall -std=gnu99 -mfpmath=sse -msse2 -mstackrealign -c H5.c -o H5.o
"C:/rtools40/mingw64/bin/"gcc -I"C:/Users/BIOCBU~1/BBS-3~1.12-/R/include" -DNDEBUG -I'C:/Users/biocbuild/bbs-3.12-bioc/R/library/Rhdf5lib/include' -I"C:/extsoft/include" "-w" -O2 -Wall -std=gnu99 -mfpmath=sse -msse2 -mstackrealign -c H5A.c -o H5A.o
"C:/rtools40/mingw64/bin/"gcc -I"C:/Users/BIOCBU~1/BBS-3~1.12-/R/include" -DNDEBUG -I'C:/Users/biocbuild/bbs-3.12-bioc/R/library/Rhdf5lib/include' -I"C:/extsoft/include" "-w" -O2 -Wall -std=gnu99 -mfpmath=sse -msse2 -mstackrealign -c H5D.c -o H5D.o
"C:/rtools40/mingw64/bin/"gcc -I"C:/Users/BIOCBU~1/BBS-3~1.12-/R/include" -DNDEBUG -I'C:/Users/biocbuild/bbs-3.12-bioc/R/library/Rhdf5lib/include' -I"C:/extsoft/include" "-w" -O2 -Wall -std=gnu99 -mfpmath=sse -msse2 -mstackrealign -c H5E.c -o H5E.o
"C:/rtools40/mingw64/bin/"gcc -I"C:/Users/BIOCBU~1/BBS-3~1.12-/R/include" -DNDEBUG -I'C:/Users/biocbuild/bbs-3.12-bioc/R/library/Rhdf5lib/include' -I"C:/extsoft/include" "-w" -O2 -Wall -std=gnu99 -mfpmath=sse -msse2 -mstackrealign -c H5F.c -o H5F.o
"C:/rtools40/mingw64/bin/"gcc -I"C:/Users/BIOCBU~1/BBS-3~1.12-/R/include" -DNDEBUG -I'C:/Users/biocbuild/bbs-3.12-bioc/R/library/Rhdf5lib/include' -I"C:/extsoft/include" "-w" -O2 -Wall -std=gnu99 -mfpmath=sse -msse2 -mstackrealign -c H5G.c -o H5G.o
"C:/rtools40/mingw64/bin/"gcc -I"C:/Users/BIOCBU~1/BBS-3~1.12-/R/include" -DNDEBUG -I'C:/Users/biocbuild/bbs-3.12-bioc/R/library/Rhdf5lib/include' -I"C:/extsoft/include" "-w" -O2 -Wall -std=gnu99 -mfpmath=sse -msse2 -mstackrealign -c H5I.c -o H5I.o
"C:/rtools40/mingw64/bin/"gcc -I"C:/Users/BIOCBU~1/BBS-3~1.12-/R/include" -DNDEBUG -I'C:/Users/biocbuild/bbs-3.12-bioc/R/library/Rhdf5lib/include' -I"C:/extsoft/include" "-w" -O2 -Wall -std=gnu99 -mfpmath=sse -msse2 -mstackrealign -c H5L.c -o H5L.o
"C:/rtools40/mingw64/bin/"gcc -I"C:/Users/BIOCBU~1/BBS-3~1.12-/R/include" -DNDEBUG -I'C:/Users/biocbuild/bbs-3.12-bioc/R/library/Rhdf5lib/include' -I"C:/extsoft/include" "-w" -O2 -Wall -std=gnu99 -mfpmath=sse -msse2 -mstackrealign -c H5O.c -o H5O.o
"C:/rtools40/mingw64/bin/"gcc -I"C:/Users/BIOCBU~1/BBS-3~1.12-/R/include" -DNDEBUG -I'C:/Users/biocbuild/bbs-3.12-bioc/R/library/Rhdf5lib/include' -I"C:/extsoft/include" "-w" -O2 -Wall -std=gnu99 -mfpmath=sse -msse2 -mstackrealign -c H5P.c -o H5P.o
"C:/rtools40/mingw64/bin/"gcc -I"C:/Users/BIOCBU~1/BBS-3~1.12-/R/include" -DNDEBUG -I'C:/Users/biocbuild/bbs-3.12-bioc/R/library/Rhdf5lib/include' -I"C:/extsoft/include" "-w" -O2 -Wall -std=gnu99 -mfpmath=sse -msse2 -mstackrealign -c H5S.c -o H5S.o
"C:/rtools40/mingw64/bin/"gcc -I"C:/Users/BIOCBU~1/BBS-3~1.12-/R/include" -DNDEBUG -I'C:/Users/biocbuild/bbs-3.12-bioc/R/library/Rhdf5lib/include' -I"C:/extsoft/include" "-w" -O2 -Wall -std=gnu99 -mfpmath=sse -msse2 -mstackrealign -c H5T.c -o H5T.o
"C:/rtools40/mingw64/bin/"gcc -I"C:/Users/BIOCBU~1/BBS-3~1.12-/R/include" -DNDEBUG -I'C:/Users/biocbuild/bbs-3.12-bioc/R/library/Rhdf5lib/include' -I"C:/extsoft/include" "-w" -O2 -Wall -std=gnu99 -mfpmath=sse -msse2 -mstackrealign -c H5Z.c -o H5Z.o
"C:/rtools40/mingw64/bin/"gcc -I"C:/Users/BIOCBU~1/BBS-3~1.12-/R/include" -DNDEBUG -I'C:/Users/biocbuild/bbs-3.12-bioc/R/library/Rhdf5lib/include' -I"C:/extsoft/include" "-w" -O2 -Wall -std=gnu99 -mfpmath=sse -msse2 -mstackrealign -c H5constants.c -o H5constants.o
"C:/rtools40/mingw64/bin/"g++ -std=gnu++11 -I"C:/Users/BIOCBU~1/BBS-3~1.12-/R/include" -DNDEBUG -I'C:/Users/biocbuild/bbs-3.12-bioc/R/library/Rhdf5lib/include' -I"C:/extsoft/include" -O2 -Wall -mfpmath=sse -msse2 -mstackrealign -c HandleList.cpp -o HandleList.o
"C:/rtools40/mingw64/bin/"gcc -I"C:/Users/BIOCBU~1/BBS-3~1.12-/R/include" -DNDEBUG -I'C:/Users/biocbuild/bbs-3.12-bioc/R/library/Rhdf5lib/include' -I"C:/extsoft/include" "-w" -O2 -Wall -std=gnu99 -mfpmath=sse -msse2 -mstackrealign -c HandleListWrap.c -o HandleListWrap.o
"C:/rtools40/mingw64/bin/"gcc -I"C:/Users/BIOCBU~1/BBS-3~1.12-/R/include" -DNDEBUG -I'C:/Users/biocbuild/bbs-3.12-bioc/R/library/Rhdf5lib/include' -I"C:/extsoft/include" "-w" -O2 -Wall -std=gnu99 -mfpmath=sse -msse2 -mstackrealign -c external_filters.c -o external_filters.o
"C:/rtools40/mingw64/bin/"gcc -I"C:/Users/BIOCBU~1/BBS-3~1.12-/R/include" -DNDEBUG -I'C:/Users/biocbuild/bbs-3.12-bioc/R/library/Rhdf5lib/include' -I"C:/extsoft/include" "-w" -O2 -Wall -std=gnu99 -mfpmath=sse -msse2 -mstackrealign -c h5dump.c -o h5dump.o
"C:/rtools40/mingw64/bin/"gcc -I"C:/Users/BIOCBU~1/BBS-3~1.12-/R/include" -DNDEBUG -I'C:/Users/biocbuild/bbs-3.12-bioc/R/library/Rhdf5lib/include' -I"C:/extsoft/include" "-w" -O2 -Wall -std=gnu99 -mfpmath=sse -msse2 -mstackrealign -c h5ls.c -o h5ls.o
"C:/rtools40/mingw64/bin/"gcc -I"C:/Users/BIOCBU~1/BBS-3~1.12-/R/include" -DNDEBUG -I'C:/Users/biocbuild/bbs-3.12-bioc/R/library/Rhdf5lib/include' -I"C:/extsoft/include" "-w" -O2 -Wall -std=gnu99 -mfpmath=sse -msse2 -mstackrealign -c h5testLock.c -o h5testLock.o
"C:/rtools40/mingw64/bin/"gcc -I"C:/Users/BIOCBU~1/BBS-3~1.12-/R/include" -DNDEBUG -I'C:/Users/biocbuild/bbs-3.12-bioc/R/library/Rhdf5lib/include' -I"C:/extsoft/include" "-w" -O2 -Wall -std=gnu99 -mfpmath=sse -msse2 -mstackrealign -c h5writeDataFrame.c -o h5writeDataFrame.o
"C:/rtools40/mingw64/bin/"gcc -I"C:/Users/BIOCBU~1/BBS-3~1.12-/R/include" -DNDEBUG -I'C:/Users/biocbuild/bbs-3.12-bioc/R/library/Rhdf5lib/include' -I"C:/extsoft/include" "-w" -O2 -Wall -std=gnu99 -mfpmath=sse -msse2 -mstackrealign -c printdatatype.c -o printdatatype.o
"C:/rtools40/mingw64/bin/"gcc -I"C:/Users/BIOCBU~1/BBS-3~1.12-/R/include" -DNDEBUG -I'C:/Users/biocbuild/bbs-3.12-bioc/R/library/Rhdf5lib/include' -I"C:/extsoft/include" "-w" -O2 -Wall -std=gnu99 -mfpmath=sse -msse2 -mstackrealign -c utils.c -o utils.o
"C:/rtools40/mingw64/bin/"gcc -I"C:/Users/BIOCBU~1/BBS-3~1.12-/R/include" -DNDEBUG -I'C:/Users/biocbuild/bbs-3.12-bioc/R/library/Rhdf5lib/include' -I"C:/extsoft/include" "-w" -O2 -Wall -std=gnu99 -mfpmath=sse -msse2 -mstackrealign -c wrap.c -o wrap.o
C:/rtools40/mingw64/bin/g++ -std=gnu++11 -shared -s -static-libgcc -o rhdf5.dll tmp.def H5.o H5A.o H5D.o H5E.o H5F.o H5G.o H5I.o H5L.o H5O.o H5P.o H5S.o H5T.o H5Z.o H5constants.o HandleList.o HandleListWrap.o external_filters.o h5dump.o h5ls.o h5testLock.o h5writeDataFrame.o printdatatype.o utils.o wrap.o -LC:/Users/BIOCBU~1/BBS-3~1.12-/R/library/Rhdf5lib/lib/x64 -lhdf5 -lcurl -lssh2 -lssl -lcrypto -lwldap32 -lws2_32 -lcrypt32 -lszip -lz -lpsapi -LC:/extsoft/lib/x64 -LC:/extsoft/lib -LC:/Users/BIOCBU~1/BBS-3~1.12-/R/bin/x64 -lR
installing to C:/Users/biocbuild/bbs-3.12-bioc/meat/rhdf5.buildbin-libdir/rhdf5/libs/x64
** testing if installed package can be loaded
* MD5 sums
packaged installation of 'rhdf5' as rhdf5_2.34.0.zip
* DONE (rhdf5)