| Back to Multiple platform build/check report for BioC 3.12 |
|
This page was generated on 2021-05-06 12:33:12 -0400 (Thu, 06 May 2021).
|
To the developers/maintainers of the restfulSE package: Please make sure to use the following settings in order to reproduce any error or warning you see on this page. |
| Package 1507/1974 | Hostname | OS / Arch | INSTALL | BUILD | CHECK | BUILD BIN | ||||||||
| restfulSE 1.12.0 (landing page) Shweta Gopaulakrishnan
| malbec1 | Linux (Ubuntu 18.04.5 LTS) / x86_64 | OK | OK | WARNINGS | |||||||||
| tokay1 | Windows Server 2012 R2 Standard / x64 | OK | OK | WARNINGS | OK | |||||||||
| merida1 | macOS 10.14.6 Mojave / x86_64 | OK | OK | WARNINGS | OK | |||||||||
| Package: restfulSE |
| Version: 1.12.0 |
| Command: rm -rf restfulSE.buildbin-libdir && mkdir restfulSE.buildbin-libdir && C:\Users\biocbuild\bbs-3.12-bioc\R\bin\R.exe CMD INSTALL --merge-multiarch --build --library=restfulSE.buildbin-libdir restfulSE_1.12.0.tar.gz |
| StartedAt: 2021-05-06 09:55:26 -0400 (Thu, 06 May 2021) |
| EndedAt: 2021-05-06 09:56:08 -0400 (Thu, 06 May 2021) |
| EllapsedTime: 42.5 seconds |
| RetCode: 0 |
| Status: OK |
| PackageFile: restfulSE_1.12.0.zip |
| PackageFileSize: 861.9 KiB |
##############################################################################
##############################################################################
###
### Running command:
###
### rm -rf restfulSE.buildbin-libdir && mkdir restfulSE.buildbin-libdir && C:\Users\biocbuild\bbs-3.12-bioc\R\bin\R.exe CMD INSTALL --merge-multiarch --build --library=restfulSE.buildbin-libdir restfulSE_1.12.0.tar.gz
###
##############################################################################
##############################################################################
install for i386
* installing *source* package 'restfulSE' ...
** using staged installation
** R
** inst
** byte-compile and prepare package for lazy loading
** help
*** installing help indices
converting help for package 'restfulSE'
finding HTML links ... done
BQ3_Array-class html
BQ3_Array html
BQ3_ArraySeed-class html
BQ3_Matrix-class html
BQ3_Source-class html
BQ3_Source html
BQM_Array-class html
BQM_Array html
BQM_ArraySeed-class html
BQM_Matrix-class html
BQM_Source-class html
BQM_Source html
BQSummarizedExperiment html
RESTfulSummarizedExperiment-class html
RESTfulSummarizedExperiment html
assay-BQSummarizedExperiment-missing-method
html
assayNames-BQSummarizedExperiment-method
html
assays-RESTfulSummarizedExperiment-method
html
basic_clinvars html
bqConn html
cgcConn html
dim-BQ3_ArraySeed-method html
dim-BQM_ArraySeed-method html
dim-RESTfulSummarizedExperiment-method
html
dimnames-BQ3_ArraySeed-method html
dimnames-BQM_ArraySeed-method html
goPatt html
gtexTiss html
isbCgcDatasets html
isbCgcTables html
newDA html
pancan_SE html
se100k html
seByTumor html
seByTumor_2016 html
tasicCortex html
** building package indices
** installing vignettes
** testing if installed package can be loaded from temporary location
** testing if installed package can be loaded from final location
** testing if installed package keeps a record of temporary installation path
install for x64
* installing *source* package 'restfulSE' ...
** testing if installed package can be loaded
* MD5 sums
packaged installation of 'restfulSE' as restfulSE_1.12.0.zip
* DONE (restfulSE)