| Back to Multiple platform build/check report for BioC 3.12 | 
  | 
This page was generated on 2021-05-06 12:36:22 -0400 (Thu, 06 May 2021).
| 
To the developers/maintainers of the regutools package: Please make sure to use the following settings in order to reproduce any error or warning you see on this page.  | 
| Package 1500/1974 | Hostname | OS / Arch | INSTALL | BUILD | CHECK | BUILD BIN | ||||||||
| regutools 1.2.3  (landing page) Joselyn Chavez 
  | malbec1 | Linux (Ubuntu 18.04.5 LTS) / x86_64 | OK | OK | OK | |||||||||
| tokay1 | Windows Server 2012 R2 Standard / x64 | OK | OK | OK | OK | |||||||||
| merida1 | macOS 10.14.6 Mojave / x86_64 | OK | OK | OK | OK | |||||||||
| Package: regutools | 
| Version: 1.2.3 | 
| Command: /Library/Frameworks/R.framework/Versions/Current/Resources/bin/R CMD check --install=check:regutools.install-out.txt --library=/Library/Frameworks/R.framework/Versions/Current/Resources/library --no-vignettes --timings regutools_1.2.3.tar.gz | 
| StartedAt: 2021-05-06 05:19:10 -0400 (Thu, 06 May 2021) | 
| EndedAt: 2021-05-06 05:29:25 -0400 (Thu, 06 May 2021) | 
| EllapsedTime: 615.2 seconds | 
| RetCode: 0 | 
| Status: OK | 
| CheckDir: regutools.Rcheck | 
| Warnings: 0 | 
##############################################################################
##############################################################################
###
### Running command:
###
###   /Library/Frameworks/R.framework/Versions/Current/Resources/bin/R CMD check --install=check:regutools.install-out.txt --library=/Library/Frameworks/R.framework/Versions/Current/Resources/library --no-vignettes --timings regutools_1.2.3.tar.gz
###
##############################################################################
##############################################################################
* using log directory ‘/Users/biocbuild/bbs-3.12-bioc/meat/regutools.Rcheck’
* using R version 4.0.5 (2021-03-31)
* using platform: x86_64-apple-darwin17.0 (64-bit)
* using session charset: UTF-8
* using option ‘--no-vignettes’
* checking for file ‘regutools/DESCRIPTION’ ... OK
* this is package ‘regutools’ version ‘1.2.3’
* package encoding: UTF-8
* checking package namespace information ... OK
* checking package dependencies ... OK
* checking if this is a source package ... OK
* checking if there is a namespace ... OK
* checking for hidden files and directories ... OK
* checking for portable file names ... OK
* checking for sufficient/correct file permissions ... OK
* checking whether package ‘regutools’ can be installed ... OK
* checking installed package size ... OK
* checking package directory ... OK
* checking ‘build’ directory ... OK
* checking DESCRIPTION meta-information ... OK
* checking top-level files ... OK
* checking for left-over files ... OK
* checking index information ... OK
* checking package subdirectories ... OK
* checking R files for non-ASCII characters ... OK
* checking R files for syntax errors ... OK
* checking whether the package can be loaded ... OK
* checking whether the package can be loaded with stated dependencies ... OK
* checking whether the package can be unloaded cleanly ... OK
* checking whether the namespace can be loaded with stated dependencies ... OK
* checking whether the namespace can be unloaded cleanly ... OK
* checking dependencies in R code ... OK
* checking S3 generic/method consistency ... OK
* checking replacement functions ... OK
* checking foreign function calls ... OK
* checking R code for possible problems ... OK
* checking Rd files ... OK
* checking Rd metadata ... OK
* checking Rd cross-references ... OK
* checking for missing documentation entries ... OK
* checking for code/documentation mismatches ... OK
* checking Rd \usage sections ... OK
* checking Rd contents ... OK
* checking for unstated dependencies in examples ... OK
* checking files in ‘vignettes’ ... OK
* checking examples ... OK
Examples with CPU (user + system) or elapsed time > 5s
                         user system elapsed
plot_dna_objects       10.759  0.338  11.441
build_condition         7.611  0.361   8.260
get_regulatory_summary  7.214  0.297   7.931
connect_database        6.662  0.285   7.182
get_regulatory_network  6.574  0.209   7.121
convert_to_biostrings   6.342  0.338   6.989
convert_to_granges      6.296  0.284   6.916
guess_id                6.256  0.246   6.807
get_dataset             6.227  0.269   6.752
get_gene_regulators     6.087  0.296   6.764
get_binding_sites       6.009  0.225   6.470
get_dna_objects         5.933  0.238   6.424
list_datasets           5.708  0.181   6.124
get_gene_synonyms       5.630  0.186   6.120
list_attributes         5.536  0.259   6.026
regulondb               5.486  0.224   6.091
* checking for unstated dependencies in ‘tests’ ... OK
* checking tests ...
  Running ‘testthat.R’
 OK
* checking for unstated dependencies in vignettes ... OK
* checking package vignettes in ‘inst/doc’ ... OK
* checking running R code from vignettes ... SKIPPED
* checking re-building of vignette outputs ... SKIPPED
* checking PDF version of manual ... OK
* DONE
Status: OK
regutools.Rcheck/00install.out
############################################################################## ############################################################################## ### ### Running command: ### ### /Library/Frameworks/R.framework/Versions/Current/Resources/bin/R CMD INSTALL regutools ### ############################################################################## ############################################################################## * installing to library ‘/Library/Frameworks/R.framework/Versions/4.0/Resources/library’ * installing *source* package ‘regutools’ ... ** using staged installation ** R ** inst ** byte-compile and prepare package for lazy loading ** help *** installing help indices *** copying figures ** building package indices ** installing vignettes ** testing if installed package can be loaded from temporary location ** testing if installed package can be loaded from final location ** testing if installed package keeps a record of temporary installation path * DONE (regutools)
regutools.Rcheck/tests/testthat.Rout
R version 4.0.5 (2021-03-31) -- "Shake and Throw"
Copyright (C) 2021 The R Foundation for Statistical Computing
Platform: x86_64-apple-darwin17.0 (64-bit)
R is free software and comes with ABSOLUTELY NO WARRANTY.
You are welcome to redistribute it under certain conditions.
Type 'license()' or 'licence()' for distribution details.
R is a collaborative project with many contributors.
Type 'contributors()' for more information and
'citation()' on how to cite R or R packages in publications.
Type 'demo()' for some demos, 'help()' for on-line help, or
'help.start()' for an HTML browser interface to help.
Type 'q()' to quit R.
> library("testthat")
> library("regutools")
> 
> test_check("regutools")
[ FAIL 0 | WARN 0 | SKIP 0 | PASS 110 ]
Warning message:
call dbDisconnect() when finished working with a connection 
> 
> proc.time()
   user  system elapsed 
107.378   4.522 126.451 
regutools.Rcheck/regutools-Ex.timings
| name | user | system | elapsed | |
| build_condition | 7.611 | 0.361 | 8.260 | |
| connect_database | 6.662 | 0.285 | 7.182 | |
| convert_to_biostrings | 6.342 | 0.338 | 6.989 | |
| convert_to_granges | 6.296 | 0.284 | 6.916 | |
| existing_intervals | 0.001 | 0.000 | 0.001 | |
| existing_partial_match | 0 | 0 | 0 | |
| get_binding_sites | 6.009 | 0.225 | 6.470 | |
| get_dataset | 6.227 | 0.269 | 6.752 | |
| get_dna_objects | 5.933 | 0.238 | 6.424 | |
| get_gene_regulators | 6.087 | 0.296 | 6.764 | |
| get_gene_synonyms | 5.630 | 0.186 | 6.120 | |
| get_regulatory_network | 6.574 | 0.209 | 7.121 | |
| get_regulatory_summary | 7.214 | 0.297 | 7.931 | |
| guess_id | 6.256 | 0.246 | 6.807 | |
| list_attributes | 5.536 | 0.259 | 6.026 | |
| list_datasets | 5.708 | 0.181 | 6.124 | |
| non_existing_intervals | 0.000 | 0.001 | 0.001 | |
| plot_dna_objects | 10.759 | 0.338 | 11.441 | |
| regulondb | 5.486 | 0.224 | 6.091 | |