| Back to Multiple platform build/check report for BioC 3.12 |
|
This page was generated on 2021-05-06 12:33:06 -0400 (Thu, 06 May 2021).
|
To the developers/maintainers of the randRotation package: Please make sure to use the following settings in order to reproduce any error or warning you see on this page. |
| Package 1452/1974 | Hostname | OS / Arch | INSTALL | BUILD | CHECK | BUILD BIN | ||||||||
| randRotation 1.2.2 (landing page) Peter Hettegger
| malbec1 | Linux (Ubuntu 18.04.5 LTS) / x86_64 | OK | OK | OK | |||||||||
| tokay1 | Windows Server 2012 R2 Standard / x64 | OK | OK | OK | OK | |||||||||
| merida1 | macOS 10.14.6 Mojave / x86_64 | OK | OK | OK | OK | |||||||||
| Package: randRotation |
| Version: 1.2.2 |
| Command: rm -rf randRotation.buildbin-libdir && mkdir randRotation.buildbin-libdir && C:\Users\biocbuild\bbs-3.12-bioc\R\bin\R.exe CMD INSTALL --merge-multiarch --build --library=randRotation.buildbin-libdir randRotation_1.2.2.tar.gz |
| StartedAt: 2021-05-06 09:52:11 -0400 (Thu, 06 May 2021) |
| EndedAt: 2021-05-06 09:52:32 -0400 (Thu, 06 May 2021) |
| EllapsedTime: 21.1 seconds |
| RetCode: 0 |
| Status: OK |
| PackageFile: randRotation_1.2.2.zip |
| PackageFileSize: 1.136 MiB |
##############################################################################
##############################################################################
###
### Running command:
###
### rm -rf randRotation.buildbin-libdir && mkdir randRotation.buildbin-libdir && C:\Users\biocbuild\bbs-3.12-bioc\R\bin\R.exe CMD INSTALL --merge-multiarch --build --library=randRotation.buildbin-libdir randRotation_1.2.2.tar.gz
###
##############################################################################
##############################################################################
install for i386
* installing *source* package 'randRotation' ...
** using staged installation
** R
** inst
** byte-compile and prepare package for lazy loading
** help
*** installing help indices
converting help for package 'randRotation'
finding HTML links ... done
X_decomp html
contrastModel html
df_estimate html
dim html
dimnames html
fdr_p html
initBatchRandrot-class html
initRandrot-class html
initRandrot html
initRandrotW html
pFdr html
qqunif html
randRotation-deprecated html
randRotation-package html
randorth html
randpermut html
randrot html
rotateStat-class html
rotateStat html
show html
weights html
** building package indices
** installing vignettes
** testing if installed package can be loaded from temporary location
** testing if installed package can be loaded from final location
** testing if installed package keeps a record of temporary installation path
install for x64
* installing *source* package 'randRotation' ...
** testing if installed package can be loaded
* MD5 sums
packaged installation of 'randRotation' as randRotation_1.2.2.zip
* DONE (randRotation)