| Back to Multiple platform build/check report for BioC 3.12 |
|
This page was generated on 2021-05-06 12:28:57 -0400 (Thu, 06 May 2021).
|
To the developers/maintainers of the rWikiPathways package: Please make sure to use the following settings in order to reproduce any error or warning you see on this page. |
| Package 1607/1974 | Hostname | OS / Arch | INSTALL | BUILD | CHECK | BUILD BIN | ||||||||
| rWikiPathways 1.10.2 (landing page) Egon Willighagen
| malbec1 | Linux (Ubuntu 18.04.5 LTS) / x86_64 | OK | OK | OK | |||||||||
| tokay1 | Windows Server 2012 R2 Standard / x64 | OK | OK | OK | OK | |||||||||
| merida1 | macOS 10.14.6 Mojave / x86_64 | OK | OK | ERROR | OK | |||||||||
| Package: rWikiPathways |
| Version: 1.10.2 |
| Command: /home/biocbuild/bbs-3.12-bioc/R/bin/R CMD check --install=check:rWikiPathways.install-out.txt --library=/home/biocbuild/bbs-3.12-bioc/R/library --no-vignettes --timings rWikiPathways_1.10.2.tar.gz |
| StartedAt: 2021-05-06 05:36:36 -0400 (Thu, 06 May 2021) |
| EndedAt: 2021-05-06 05:38:22 -0400 (Thu, 06 May 2021) |
| EllapsedTime: 105.8 seconds |
| RetCode: 0 |
| Status: OK |
| CheckDir: rWikiPathways.Rcheck |
| Warnings: 0 |
##############################################################################
##############################################################################
###
### Running command:
###
### /home/biocbuild/bbs-3.12-bioc/R/bin/R CMD check --install=check:rWikiPathways.install-out.txt --library=/home/biocbuild/bbs-3.12-bioc/R/library --no-vignettes --timings rWikiPathways_1.10.2.tar.gz
###
##############################################################################
##############################################################################
* using log directory ‘/home/biocbuild/bbs-3.12-bioc/meat/rWikiPathways.Rcheck’
* using R version 4.0.5 (2021-03-31)
* using platform: x86_64-pc-linux-gnu (64-bit)
* using session charset: UTF-8
* using option ‘--no-vignettes’
* checking for file ‘rWikiPathways/DESCRIPTION’ ... OK
* checking extension type ... Package
* this is package ‘rWikiPathways’ version ‘1.10.2’
* checking package namespace information ... OK
* checking package dependencies ... OK
* checking if this is a source package ... OK
* checking if there is a namespace ... OK
* checking for hidden files and directories ... NOTE
Found the following hidden files and directories:
.travis.yml
These were most likely included in error. See section ‘Package
structure’ in the ‘Writing R Extensions’ manual.
* checking for portable file names ... OK
* checking for sufficient/correct file permissions ... OK
* checking whether package ‘rWikiPathways’ can be installed ... OK
* checking installed package size ... OK
* checking package directory ... OK
* checking ‘build’ directory ... OK
* checking DESCRIPTION meta-information ... OK
* checking top-level files ... OK
* checking for left-over files ... OK
* checking index information ... OK
* checking package subdirectories ... OK
* checking R files for non-ASCII characters ... OK
* checking R files for syntax errors ... OK
* checking whether the package can be loaded ... OK
* checking whether the package can be loaded with stated dependencies ... OK
* checking whether the package can be unloaded cleanly ... OK
* checking whether the namespace can be loaded with stated dependencies ... OK
* checking whether the namespace can be unloaded cleanly ... OK
* checking dependencies in R code ... OK
* checking S3 generic/method consistency ... OK
* checking replacement functions ... OK
* checking foreign function calls ... OK
* checking R code for possible problems ... NOTE
readPathwayGMT: no visible binding for global variable ‘pathway’
Undefined global functions or variables:
pathway
* checking Rd files ... OK
* checking Rd metadata ... OK
* checking Rd cross-references ... OK
* checking for missing documentation entries ... OK
* checking for code/documentation mismatches ... OK
* checking Rd \usage sections ... OK
* checking Rd contents ... OK
* checking for unstated dependencies in examples ... OK
* checking files in ‘vignettes’ ... OK
* checking examples ... OK
Examples with CPU (user + system) or elapsed time > 5s
user system elapsed
findPathwayIdsByLiterature 0.38 0.02 5.198
* checking for unstated dependencies in ‘tests’ ... OK
* checking tests ...
Running ‘testthat.R’
OK
* checking for unstated dependencies in vignettes ... OK
* checking package vignettes in ‘inst/doc’ ... OK
* checking running R code from vignettes ... SKIPPED
* checking re-building of vignette outputs ... SKIPPED
* checking PDF version of manual ... OK
* DONE
Status: 2 NOTEs
See
‘/home/biocbuild/bbs-3.12-bioc/meat/rWikiPathways.Rcheck/00check.log’
for details.
rWikiPathways.Rcheck/00install.out
############################################################################## ############################################################################## ### ### Running command: ### ### /home/biocbuild/bbs-3.12-bioc/R/bin/R CMD INSTALL rWikiPathways ### ############################################################################## ############################################################################## * installing to library ‘/home/biocbuild/bbs-3.12-bioc/R/library’ * installing *source* package ‘rWikiPathways’ ... ** using staged installation ** R ** inst ** byte-compile and prepare package for lazy loading ** help *** installing help indices ** building package indices ** installing vignettes ** testing if installed package can be loaded from temporary location ** testing if installed package can be loaded from final location ** testing if installed package keeps a record of temporary installation path * DONE (rWikiPathways)
rWikiPathways.Rcheck/tests/testthat.Rout
R version 4.0.5 (2021-03-31) -- "Shake and Throw"
Copyright (C) 2021 The R Foundation for Statistical Computing
Platform: x86_64-pc-linux-gnu (64-bit)
R is free software and comes with ABSOLUTELY NO WARRANTY.
You are welcome to redistribute it under certain conditions.
Type 'license()' or 'licence()' for distribution details.
R is a collaborative project with many contributors.
Type 'contributors()' for more information and
'citation()' on how to cite R or R packages in publications.
Type 'demo()' for some demos, 'help()' for on-line help, or
'help.start()' for an HTML browser interface to help.
Type 'q()' to quit R.
> library(testthat)
> library(rWikiPathways)
>
> test_check("rWikiPathways")
[ FAIL 0 | WARN 0 | SKIP 0 | PASS 27 ]
>
> proc.time()
user system elapsed
2.996 0.092 22.149
rWikiPathways.Rcheck/rWikiPathways-Ex.timings
| name | user | system | elapsed | |
| downloadPathwayArchive | 0.000 | 0.000 | 0.001 | |
| findPathwayIdsByLiterature | 0.380 | 0.020 | 5.198 | |
| findPathwayIdsByText | 0.012 | 0.000 | 0.268 | |
| findPathwayIdsByXref | 0.024 | 0.000 | 0.477 | |
| findPathwayNamesByLiterature | 0.280 | 0.004 | 3.703 | |
| findPathwayNamesByText | 0.012 | 0.000 | 0.265 | |
| findPathwayNamesByXref | 0.028 | 0.000 | 0.301 | |
| findPathwayUrlsByLiterature | 0.240 | 0.000 | 3.868 | |
| findPathwayUrlsByText | 0.016 | 0.000 | 0.252 | |
| findPathwayUrlsByXref | 0.032 | 0.000 | 0.297 | |
| findPathwaysByLiterature | 0.196 | 0.004 | 3.820 | |
| findPathwaysByText | 0.016 | 0.000 | 0.261 | |
| findPathwaysByXref | 0.060 | 0.004 | 0.341 | |
| getCurationTagNames | 0.008 | 0.000 | 0.067 | |
| getCurationTags | 0.012 | 0.000 | 0.066 | |
| getEveryCurationTag | 0.060 | 0.044 | 0.945 | |
| getOntologyTermIds | 0.008 | 0.000 | 0.055 | |
| getOntologyTermNames | 0.008 | 0.000 | 0.050 | |
| getOntologyTerms | 0.008 | 0.000 | 0.051 | |
| getPathway | 0.028 | 0.000 | 0.073 | |
| getPathwayHistory | 0.008 | 0.000 | 0.059 | |
| getPathwayIdsByCurationTag | 0.016 | 0.000 | 0.693 | |
| getPathwayIdsByOntologyTerm | 0.004 | 0.000 | 0.075 | |
| getPathwayIdsByParentOntologyTerm | 0.008 | 0.000 | 0.067 | |
| getPathwayInfo | 0.020 | 0.004 | 0.066 | |
| getPathwaysByCurationTag | 0.040 | 0.012 | 0.724 | |
| getPathwaysByOntologyTerm | 0.008 | 0.004 | 0.065 | |
| getPathwaysByParentOntologyTerm | 0.008 | 0.000 | 0.066 | |
| getRecentChanges | 0.020 | 0.008 | 0.292 | |
| getRecentChangesIds | 0.008 | 0.000 | 0.228 | |
| getRecentChangesNames | 0.012 | 0.004 | 0.229 | |
| getXrefList | 0.008 | 0.000 | 0.056 | |
| listOrganisms | 0.004 | 0.004 | 0.049 | |
| listPathwayIds | 0.012 | 0.004 | 4.887 | |
| listPathwayNames | 0.016 | 0.000 | 3.962 | |
| listPathwayUrls | 0.016 | 0.004 | 4.621 | |
| listPathways | 0.016 | 0.000 | 4.617 | |
| readPathwayGMT | 0.000 | 0.000 | 0.001 | |
| wikipathwaysAPI | 0.000 | 0.008 | 0.013 | |
| wikipathwaysGET | 0.004 | 0.004 | 0.050 | |