| Back to Multiple platform build/check report for BioC 3.12 |
|
This page was generated on 2021-05-06 12:33:23 -0400 (Thu, 06 May 2021).
|
To the developers/maintainers of the rTRM package: Please make sure to use the following settings in order to reproduce any error or warning you see on this page. |
| Package 1600/1974 | Hostname | OS / Arch | INSTALL | BUILD | CHECK | BUILD BIN | ||||||||
| rTRM 1.28.0 (landing page) Diego Diez
| malbec1 | Linux (Ubuntu 18.04.5 LTS) / x86_64 | OK | OK | OK | |||||||||
| tokay1 | Windows Server 2012 R2 Standard / x64 | OK | OK | OK | OK | |||||||||
| merida1 | macOS 10.14.6 Mojave / x86_64 | OK | OK | OK | OK | |||||||||
| Package: rTRM |
| Version: 1.28.0 |
| Command: chmod a+r rTRM -R && C:\Users\biocbuild\bbs-3.12-bioc\R\bin\R.exe CMD build --keep-empty-dirs --no-resave-data rTRM |
| StartedAt: 2021-05-05 23:17:29 -0400 (Wed, 05 May 2021) |
| EndedAt: 2021-05-05 23:20:23 -0400 (Wed, 05 May 2021) |
| EllapsedTime: 174.2 seconds |
| RetCode: 0 |
| Status: OK |
| PackageFile: rTRM_1.28.0.tar.gz |
| PackageFileSize: 3.175 MiB |
##############################################################################
##############################################################################
###
### Running command:
###
### chmod a+r rTRM -R && C:\Users\biocbuild\bbs-3.12-bioc\R\bin\R.exe CMD build --keep-empty-dirs --no-resave-data rTRM
###
##############################################################################
##############################################################################
* checking for file 'rTRM/DESCRIPTION' ... OK
* preparing 'rTRM':
* checking DESCRIPTION meta-information ... OK
* installing the package to process help pages
* building the PDF package manual
Hmm ... looks like a package
Converting Rd files to LaTeX Loading required package: igraph
Attaching package: 'igraph'
The following objects are masked from 'package:stats':
decompose, spectrum
The following object is masked from 'package:base':
union
...
Creating pdf output from LaTeX ...
Saving output to 'C:/Users/biocbuild/bbs-3.12-bioc/tmpdir/RtmpMRDL40/Rbuild261c78c55236/rTRM/build/rTRM.pdf' ...
Done
* creating vignettes ... OK
* checking for LF line-endings in source and make files and shell scripts
* checking for empty or unneeded directories
* looking to see if a 'data/datalist' file should be added
* building 'rTRM_1.28.0.tar.gz'