| Back to Multiple platform build/check report for BioC 3.12 |
|
This page was generated on 2021-05-06 12:33:22 -0400 (Thu, 06 May 2021).
|
To the developers/maintainers of the rTANDEM package: Please make sure to use the following settings in order to reproduce any error or warning you see on this page. |
| Package 1589/1974 | Hostname | OS / Arch | INSTALL | BUILD | CHECK | BUILD BIN | ||||||||
Frederic Fournier
| malbec1 | Linux (Ubuntu 18.04.5 LTS) / x86_64 | OK | OK | ERROR | |||||||||
| tokay1 | Windows Server 2012 R2 Standard / x64 | OK | OK | ERROR | OK | |||||||||
| merida1 | macOS 10.14.6 Mojave / x86_64 | ERROR | ERROR | skipped | skipped | |||||||||
| Package: rTANDEM |
| Version: 1.30.0 |
| Command: chmod a+r rTANDEM -R && C:\Users\biocbuild\bbs-3.12-bioc\R\bin\R.exe CMD build --keep-empty-dirs --no-resave-data rTANDEM |
| StartedAt: 2021-05-05 23:16:12 -0400 (Wed, 05 May 2021) |
| EndedAt: 2021-05-05 23:19:11 -0400 (Wed, 05 May 2021) |
| EllapsedTime: 179.0 seconds |
| RetCode: 0 |
| Status: OK |
| PackageFile: rTANDEM_1.30.0.tar.gz |
| PackageFileSize: 2.017 MiB |
##############################################################################
##############################################################################
###
### Running command:
###
### chmod a+r rTANDEM -R && C:\Users\biocbuild\bbs-3.12-bioc\R\bin\R.exe CMD build --keep-empty-dirs --no-resave-data rTANDEM
###
##############################################################################
##############################################################################
* checking for file 'rTANDEM/DESCRIPTION' ... OK
* preparing 'rTANDEM':
* checking DESCRIPTION meta-information ... OK
* cleaning src
* installing the package to build vignettes
* creating vignettes ... OK
Warning: 'inst/doc' file
'rTANDEM.Rnw'
ignored as vignettes have been rebuilt.
Run R CMD build with --no-build-vignettes to prevent rebuilding.
* cleaning src
* checking for LF line-endings in source and make files and shell scripts
* checking for empty or unneeded directories
* building 'rTANDEM_1.30.0.tar.gz'