| Back to Multiple platform build/check report for BioC 3.12 |
|
This page was generated on 2021-05-06 12:32:57 -0400 (Thu, 06 May 2021).
|
To the developers/maintainers of the qcmetrics package: Please make sure to use the following settings in order to reproduce any error or warning you see on this page. |
| Package 1422/1974 | Hostname | OS / Arch | INSTALL | BUILD | CHECK | BUILD BIN | ||||||||
| qcmetrics 1.28.0 (landing page) Laurent Gatto
| malbec1 | Linux (Ubuntu 18.04.5 LTS) / x86_64 | OK | OK | OK | |||||||||
| tokay1 | Windows Server 2012 R2 Standard / x64 | OK | OK | OK | OK | |||||||||
| merida1 | macOS 10.14.6 Mojave / x86_64 | OK | OK | OK | OK | |||||||||
| Package: qcmetrics |
| Version: 1.28.0 |
| Command: rm -rf qcmetrics.buildbin-libdir && mkdir qcmetrics.buildbin-libdir && C:\Users\biocbuild\bbs-3.12-bioc\R\bin\R.exe CMD INSTALL --merge-multiarch --build --library=qcmetrics.buildbin-libdir qcmetrics_1.28.0.tar.gz |
| StartedAt: 2021-05-06 09:50:25 -0400 (Thu, 06 May 2021) |
| EndedAt: 2021-05-06 09:50:46 -0400 (Thu, 06 May 2021) |
| EllapsedTime: 21.6 seconds |
| RetCode: 0 |
| Status: OK |
| PackageFile: qcmetrics_1.28.0.zip |
| PackageFileSize: 3.757 MiB |
##############################################################################
##############################################################################
###
### Running command:
###
### rm -rf qcmetrics.buildbin-libdir && mkdir qcmetrics.buildbin-libdir && C:\Users\biocbuild\bbs-3.12-bioc\R\bin\R.exe CMD INSTALL --merge-multiarch --build --library=qcmetrics.buildbin-libdir qcmetrics_1.28.0.tar.gz
###
##############################################################################
##############################################################################
install for i386
* installing *source* package 'qcmetrics' ...
** using staged installation
** R
** data
** inst
** byte-compile and prepare package for lazy loading
** help
*** installing help indices
converting help for package 'qcmetrics'
finding HTML links ... done
Qc2Tex html
QcMetadata-class html
QcMetric-class html
QcMetrics-class html
finding level-2 HTML links ... done
n15qc html
psm html
qcReport-methods html
rnadeg html
** building package indices
** installing vignettes
** testing if installed package can be loaded from temporary location
** testing if installed package can be loaded from final location
** testing if installed package keeps a record of temporary installation path
install for x64
* installing *source* package 'qcmetrics' ...
** testing if installed package can be loaded
* MD5 sums
packaged installation of 'qcmetrics' as qcmetrics_1.28.0.zip
* DONE (qcmetrics)