| Back to Multiple platform build/check report for BioC 3.12 |
|
This page was generated on 2021-05-06 12:28:42 -0400 (Thu, 06 May 2021).
|
To the developers/maintainers of the qckitfastq package: Please make sure to use the following settings in order to reproduce any error or warning you see on this page. |
| Package 1421/1974 | Hostname | OS / Arch | INSTALL | BUILD | CHECK | BUILD BIN | ||||||||
| qckitfastq 1.6.0 (landing page) August Guang
| malbec1 | Linux (Ubuntu 18.04.5 LTS) / x86_64 | OK | OK | OK | |||||||||
| tokay1 | Windows Server 2012 R2 Standard / x64 | OK | OK | OK | OK | |||||||||
| merida1 | macOS 10.14.6 Mojave / x86_64 | OK | OK | OK | OK | |||||||||
| Package: qckitfastq |
| Version: 1.6.0 |
| Command: /home/biocbuild/bbs-3.12-bioc/R/bin/R CMD INSTALL qckitfastq |
| StartedAt: 2021-05-05 16:18:32 -0400 (Wed, 05 May 2021) |
| EndedAt: 2021-05-05 16:18:57 -0400 (Wed, 05 May 2021) |
| EllapsedTime: 24.7 seconds |
| RetCode: 0 |
| Status: OK |
##############################################################################
##############################################################################
###
### Running command:
###
### /home/biocbuild/bbs-3.12-bioc/R/bin/R CMD INSTALL qckitfastq
###
##############################################################################
##############################################################################
* installing to library ‘/home/biocbuild/bbs-3.12-bioc/R/library’
* installing *source* package ‘qckitfastq’ ...
** using staged installation
** libs
g++ -std=gnu++14 -I"/home/biocbuild/bbs-3.12-bioc/R/include" -DNDEBUG -I'/home/biocbuild/bbs-3.12-bioc/R/library/Rcpp/include' -I'/home/biocbuild/bbs-3.12-bioc/R/library/RSeqAn/include' -I/usr/local/include -fpic -g -O2 -Wall -c RcppExports.cpp -o RcppExports.o
g++ -std=gnu++14 -I"/home/biocbuild/bbs-3.12-bioc/R/include" -DNDEBUG -I'/home/biocbuild/bbs-3.12-bioc/R/library/Rcpp/include' -I'/home/biocbuild/bbs-3.12-bioc/R/library/RSeqAn/include' -I/usr/local/include -fpic -g -O2 -Wall -c calc_adapter_content.cpp -o calc_adapter_content.o
g++ -std=gnu++14 -I"/home/biocbuild/bbs-3.12-bioc/R/include" -DNDEBUG -I'/home/biocbuild/bbs-3.12-bioc/R/library/Rcpp/include' -I'/home/biocbuild/bbs-3.12-bioc/R/library/RSeqAn/include' -I/usr/local/include -fpic -g -O2 -Wall -c gzstream.cpp -o gzstream.o
g++ -std=gnu++14 -I"/home/biocbuild/bbs-3.12-bioc/R/include" -DNDEBUG -I'/home/biocbuild/bbs-3.12-bioc/R/library/Rcpp/include' -I'/home/biocbuild/bbs-3.12-bioc/R/library/RSeqAn/include' -I/usr/local/include -fpic -g -O2 -Wall -c read_fastq.cpp -o read_fastq.o
read_fastq.cpp: In function ‘Rcpp::List qual_score_per_read(std::__cxx11::string)’:
read_fastq.cpp:181:33: warning: comparison between signed and unsigned integer expressions [-Wsign-compare]
if (pos_counter <= qual_score_matrix.size()) {
~~~~~~~~~~~~^~~~~~~~~~~~~~~~~~~~~~~~~~~
g++ -std=gnu++14 -shared -L/home/biocbuild/bbs-3.12-bioc/R/lib -L/usr/local/lib -o qckitfastq.so RcppExports.o calc_adapter_content.o gzstream.o read_fastq.o -lz -L/home/biocbuild/bbs-3.12-bioc/R/lib -lR
installing to /home/biocbuild/bbs-3.12-bioc/R/library/00LOCK-qckitfastq/00new/qckitfastq/libs
** R
** inst
** byte-compile and prepare package for lazy loading
** help
*** installing help indices
** building package indices
** installing vignettes
** testing if installed package can be loaded from temporary location
** checking absolute paths in shared objects and dynamic libraries
** testing if installed package can be loaded from final location
** testing if installed package keeps a record of temporary installation path
* DONE (qckitfastq)