| Back to Multiple platform build/check report for BioC 3.12 |
|
This page was generated on 2021-05-06 12:32:50 -0400 (Thu, 06 May 2021).
|
To the developers/maintainers of the profileplyr package: Please make sure to use the following settings in order to reproduce any error or warning you see on this page. |
| Package 1393/1974 | Hostname | OS / Arch | INSTALL | BUILD | CHECK | BUILD BIN | ||||||||
| profileplyr 1.6.0 (landing page) Tom Carroll
| malbec1 | Linux (Ubuntu 18.04.5 LTS) / x86_64 | OK | OK | WARNINGS | |||||||||
| tokay1 | Windows Server 2012 R2 Standard / x64 | OK | OK | WARNINGS | OK | |||||||||
| merida1 | macOS 10.14.6 Mojave / x86_64 | OK | OK | WARNINGS | OK | |||||||||
| Package: profileplyr |
| Version: 1.6.0 |
| Command: rm -rf profileplyr.buildbin-libdir && mkdir profileplyr.buildbin-libdir && C:\Users\biocbuild\bbs-3.12-bioc\R\bin\R.exe CMD INSTALL --merge-multiarch --build --library=profileplyr.buildbin-libdir profileplyr_1.6.0.tar.gz |
| StartedAt: 2021-05-06 09:48:41 -0400 (Thu, 06 May 2021) |
| EndedAt: 2021-05-06 09:50:25 -0400 (Thu, 06 May 2021) |
| EllapsedTime: 103.4 seconds |
| RetCode: 0 |
| Status: OK |
| PackageFile: profileplyr_1.6.0.zip |
| PackageFileSize: 2.381 MiB |
##############################################################################
##############################################################################
###
### Running command:
###
### rm -rf profileplyr.buildbin-libdir && mkdir profileplyr.buildbin-libdir && C:\Users\biocbuild\bbs-3.12-bioc\R\bin\R.exe CMD INSTALL --merge-multiarch --build --library=profileplyr.buildbin-libdir profileplyr_1.6.0.tar.gz
###
##############################################################################
##############################################################################
install for i386
* installing *source* package 'profileplyr' ...
** using staged installation
** R
** data
** inst
** byte-compile and prepare package for lazy loading
Warning: replacing previous import 'ComplexHeatmap::pheatmap' by 'pheatmap::pheatmap' when loading 'profileplyr'
** help
*** installing help indices
converting help for package 'profileplyr'
finding HTML links ... done
BamBigwig_to_chipProfile html
K27ac_GRlist_hind_liver_top5000 html
annotateRanges html
annotateRanges_great html
as_profileplyr html
clusterRanges html
convertToEnrichedHeatmapMat html
export_deepToolsMat html
gene_list_character html
gene_list_dataframe html
generateEnrichedHeatmap html
groupBy html
inherit_group_function html
orderBy html
params html
profileplyr html
sampleData html
subset_GR_GL_common_top html
subsetbyGeneListOverlap html
subsetbyRangeOverlap html
summarize html
** building package indices
** installing vignettes
** testing if installed package can be loaded from temporary location
Warning: replacing previous import 'ComplexHeatmap::pheatmap' by 'pheatmap::pheatmap' when loading 'profileplyr'
** testing if installed package can be loaded from final location
Warning: replacing previous import 'ComplexHeatmap::pheatmap' by 'pheatmap::pheatmap' when loading 'profileplyr'
** testing if installed package keeps a record of temporary installation path
install for x64
* installing *source* package 'profileplyr' ...
** testing if installed package can be loaded
Warning: replacing previous import 'ComplexHeatmap::pheatmap' by 'pheatmap::pheatmap' when loading 'profileplyr'
* MD5 sums
packaged installation of 'profileplyr' as profileplyr_1.6.0.zip
* DONE (profileplyr)