| Back to Multiple platform build/check report for BioC 3.12 |
|
This page was generated on 2021-05-06 12:32:50 -0400 (Thu, 06 May 2021).
|
To the developers/maintainers of the proDA package: Please make sure to use the following settings in order to reproduce any error or warning you see on this page. |
| Package 1391/1974 | Hostname | OS / Arch | INSTALL | BUILD | CHECK | BUILD BIN | ||||||||
| proDA 1.4.0 (landing page) Constantin Ahlmann-Eltze
| malbec1 | Linux (Ubuntu 18.04.5 LTS) / x86_64 | OK | OK | OK | |||||||||
| tokay1 | Windows Server 2012 R2 Standard / x64 | OK | OK | OK | OK | |||||||||
| merida1 | macOS 10.14.6 Mojave / x86_64 | OK | OK | OK | OK | |||||||||
| Package: proDA |
| Version: 1.4.0 |
| Command: C:\cygwin\bin\curl.exe -O http://172.29.0.3/BBS/3.12/bioc/src/contrib/proDA_1.4.0.tar.gz && rm -rf proDA.buildbin-libdir && mkdir proDA.buildbin-libdir && C:\Users\biocbuild\bbs-3.12-bioc\R\bin\R.exe CMD INSTALL --merge-multiarch --build --library=proDA.buildbin-libdir proDA_1.4.0.tar.gz && C:\Users\biocbuild\bbs-3.12-bioc\R\bin\R.exe CMD INSTALL proDA_1.4.0.zip && rm proDA_1.4.0.tar.gz proDA_1.4.0.zip |
| StartedAt: 2021-05-05 17:40:51 -0400 (Wed, 05 May 2021) |
| EndedAt: 2021-05-05 17:41:36 -0400 (Wed, 05 May 2021) |
| EllapsedTime: 45.6 seconds |
| RetCode: 0 |
| Status: OK |
##############################################################################
##############################################################################
###
### Running command:
###
### C:\cygwin\bin\curl.exe -O http://172.29.0.3/BBS/3.12/bioc/src/contrib/proDA_1.4.0.tar.gz && rm -rf proDA.buildbin-libdir && mkdir proDA.buildbin-libdir && C:\Users\biocbuild\bbs-3.12-bioc\R\bin\R.exe CMD INSTALL --merge-multiarch --build --library=proDA.buildbin-libdir proDA_1.4.0.tar.gz && C:\Users\biocbuild\bbs-3.12-bioc\R\bin\R.exe CMD INSTALL proDA_1.4.0.zip && rm proDA_1.4.0.tar.gz proDA_1.4.0.zip
###
##############################################################################
##############################################################################
% Total % Received % Xferd Average Speed Time Time Time Current
Dload Upload Total Spent Left Speed
0 0 0 0 0 0 0 0 --:--:-- --:--:-- --:--:-- 0
100 1355k 100 1355k 0 0 5658k 0 --:--:-- --:--:-- --:--:-- 5696k
install for i386
* installing *source* package 'proDA' ...
** using staged installation
** R
** inst
** byte-compile and prepare package for lazy loading
** help
*** installing help indices
converting help for package 'proDA'
finding HTML links ... done
abundances html
accessor_methods html
as_replicate html
cash-proDAFit-method html
coefficient_variance_matrices html
coefficients html
convergence html
dist_approx html
dist_approx_impl html
distance_sq html
feature_parameters html
generate_synthetic_data html
grapes-zero_dom_mat_mult-grapes html
hyper_parameters html
invprobit html
invprobit_fast html
median_normalization html
mply_dbl html
pd_lm html
pd_lm.fit html
pd_row_t_test html
predict-proDAFit-method html
proDA html
proDAFit-class html
proDA_package html
reference_level html
result_names html
test_diff html
** building package indices
** installing vignettes
** testing if installed package can be loaded from temporary location
** testing if installed package can be loaded from final location
** testing if installed package keeps a record of temporary installation path
install for x64
* installing *source* package 'proDA' ...
** testing if installed package can be loaded
* MD5 sums
packaged installation of 'proDA' as proDA_1.4.0.zip
* DONE (proDA)
* installing to library 'C:/Users/biocbuild/bbs-3.12-bioc/R/library'
package 'proDA' successfully unpacked and MD5 sums checked