| Back to Multiple platform build/check report for BioC 3.12 |
|
This page was generated on 2021-05-06 12:28:39 -0400 (Thu, 06 May 2021).
|
To the developers/maintainers of the proBatch package: Please make sure to use the following settings in order to reproduce any error or warning you see on this page. |
| Package 1388/1974 | Hostname | OS / Arch | INSTALL | BUILD | CHECK | BUILD BIN | ||||||||
| proBatch 1.6.0 (landing page) Chloe H. Lee
| malbec1 | Linux (Ubuntu 18.04.5 LTS) / x86_64 | OK | OK | OK | |||||||||
| tokay1 | Windows Server 2012 R2 Standard / x64 | OK | OK | OK | OK | |||||||||
| merida1 | macOS 10.14.6 Mojave / x86_64 | OK | OK | OK | OK | |||||||||
| Package: proBatch |
| Version: 1.6.0 |
| Command: /home/biocbuild/bbs-3.12-bioc/R/bin/R CMD check --install=check:proBatch.install-out.txt --library=/home/biocbuild/bbs-3.12-bioc/R/library --no-vignettes --timings proBatch_1.6.0.tar.gz |
| StartedAt: 2021-05-06 04:41:32 -0400 (Thu, 06 May 2021) |
| EndedAt: 2021-05-06 04:47:22 -0400 (Thu, 06 May 2021) |
| EllapsedTime: 349.6 seconds |
| RetCode: 0 |
| Status: OK |
| CheckDir: proBatch.Rcheck |
| Warnings: 0 |
##############################################################################
##############################################################################
###
### Running command:
###
### /home/biocbuild/bbs-3.12-bioc/R/bin/R CMD check --install=check:proBatch.install-out.txt --library=/home/biocbuild/bbs-3.12-bioc/R/library --no-vignettes --timings proBatch_1.6.0.tar.gz
###
##############################################################################
##############################################################################
* using log directory ‘/home/biocbuild/bbs-3.12-bioc/meat/proBatch.Rcheck’
* using R version 4.0.5 (2021-03-31)
* using platform: x86_64-pc-linux-gnu (64-bit)
* using session charset: UTF-8
* using option ‘--no-vignettes’
* checking for file ‘proBatch/DESCRIPTION’ ... OK
* checking extension type ... Package
* this is package ‘proBatch’ version ‘1.6.0’
* package encoding: UTF-8
* checking package namespace information ... OK
* checking package dependencies ... OK
* checking if this is a source package ... OK
* checking if there is a namespace ... OK
* checking for hidden files and directories ... OK
* checking for portable file names ... OK
* checking for sufficient/correct file permissions ... OK
* checking whether package ‘proBatch’ can be installed ... OK
* checking installed package size ... OK
* checking package directory ... OK
* checking ‘build’ directory ... OK
* checking DESCRIPTION meta-information ... OK
* checking top-level files ... OK
* checking for left-over files ... OK
* checking index information ... OK
* checking package subdirectories ... OK
* checking R files for non-ASCII characters ... OK
* checking R files for syntax errors ... OK
* checking whether the package can be loaded ... OK
* checking whether the package can be loaded with stated dependencies ... OK
* checking whether the package can be unloaded cleanly ... OK
* checking whether the namespace can be loaded with stated dependencies ... OK
* checking whether the namespace can be unloaded cleanly ... OK
* checking dependencies in R code ... OK
* checking S3 generic/method consistency ... OK
* checking replacement functions ... OK
* checking foreign function calls ... OK
* checking R code for possible problems ... OK
* checking Rd files ... OK
* checking Rd metadata ... OK
* checking Rd cross-references ... OK
* checking for missing documentation entries ... OK
* checking for code/documentation mismatches ... OK
* checking Rd \usage sections ... OK
* checking Rd contents ... OK
* checking for unstated dependencies in examples ... OK
* checking contents of ‘data’ directory ... OK
* checking data for non-ASCII characters ... OK
* checking data for ASCII and uncompressed saves ... OK
* checking files in ‘vignettes’ ... OK
* checking examples ... OK
Examples with CPU (user + system) or elapsed time > 5s
user system elapsed
prepare_PVCA_df 25.708 0.004 25.764
plot_PVCA 25.168 0.032 25.254
plot_PVCA.df 24.480 0.020 24.540
calculate_PVCA 23.124 0.044 23.190
correct_batch_effects 8.152 0.248 8.458
plot_sample_mean_or_boxplot 5.352 0.000 5.371
* checking for unstated dependencies in ‘tests’ ... OK
* checking tests ...
Running ‘spelling.R’
Running ‘testthat.R’
OK
* checking for unstated dependencies in vignettes ... OK
* checking package vignettes in ‘inst/doc’ ... OK
* checking running R code from vignettes ... SKIPPED
* checking re-building of vignette outputs ... SKIPPED
* checking PDF version of manual ... OK
* DONE
Status: OK
proBatch.Rcheck/00install.out
############################################################################## ############################################################################## ### ### Running command: ### ### /home/biocbuild/bbs-3.12-bioc/R/bin/R CMD INSTALL proBatch ### ############################################################################## ############################################################################## * installing to library ‘/home/biocbuild/bbs-3.12-bioc/R/library’ * installing *source* package ‘proBatch’ ... ** using staged installation ** R ** data *** moving datasets to lazyload DB ** inst ** byte-compile and prepare package for lazy loading ** help *** installing help indices ** building package indices ** installing vignettes ** testing if installed package can be loaded from temporary location ** testing if installed package can be loaded from final location ** testing if installed package keeps a record of temporary installation path * DONE (proBatch)
proBatch.Rcheck/tests/spelling.Rout
R version 4.0.5 (2021-03-31) -- "Shake and Throw"
Copyright (C) 2021 The R Foundation for Statistical Computing
Platform: x86_64-pc-linux-gnu (64-bit)
R is free software and comes with ABSOLUTELY NO WARRANTY.
You are welcome to redistribute it under certain conditions.
Type 'license()' or 'licence()' for distribution details.
R is a collaborative project with many contributors.
Type 'contributors()' for more information and
'citation()' on how to cite R or R packages in publications.
Type 'demo()' for some demos, 'help()' for on-line help, or
'help.start()' for an HTML browser interface to help.
Type 'q()' to quit R.
> if(requireNamespace('spelling', quietly = TRUE))
+ spelling::spell_check_test(vignettes = TRUE, error = FALSE,
+ skip_on_cran = TRUE)
NULL
>
> proc.time()
user system elapsed
0.252 0.024 0.275
proBatch.Rcheck/tests/testthat.Rout
R version 4.0.5 (2021-03-31) -- "Shake and Throw"
Copyright (C) 2021 The R Foundation for Statistical Computing
Platform: x86_64-pc-linux-gnu (64-bit)
R is free software and comes with ABSOLUTELY NO WARRANTY.
You are welcome to redistribute it under certain conditions.
Type 'license()' or 'licence()' for distribution details.
R is a collaborative project with many contributors.
Type 'contributors()' for more information and
'citation()' on how to cite R or R packages in publications.
Type 'demo()' for some demos, 'help()' for on-line help, or
'help.start()' for an HTML browser interface to help.
Type 'q()' to quit R.
> library(testthat)
> library(proBatch)
>
> test_check("proBatch")
[ FAIL 0 | WARN 30 | SKIP 0 | PASS 159 ]
>
> proc.time()
user system elapsed
43.152 0.684 44.090
proBatch.Rcheck/proBatch-Ex.timings
| name | user | system | elapsed | |
| calculate_PVCA | 23.124 | 0.044 | 23.190 | |
| calculate_feature_CV | 0.464 | 0.016 | 0.479 | |
| calculate_peptide_corr_distr | 0.028 | 0.000 | 0.028 | |
| calculate_sample_corr_distr | 1.416 | 0.008 | 1.424 | |
| check_sample_consistency | 0.012 | 0.004 | 0.015 | |
| correct_batch_effects | 8.152 | 0.248 | 8.458 | |
| create_peptide_annotation | 0.008 | 0.000 | 0.009 | |
| date_to_sample_order | 0.148 | 0.000 | 0.152 | |
| dates_to_posix | 0.008 | 0.000 | 0.010 | |
| define_sample_order | 0.012 | 0.000 | 0.013 | |
| feature_level_diagnostics | 4.860 | 0.008 | 4.906 | |
| fit_nonlinear | 0.008 | 0.000 | 0.008 | |
| long_to_matrix | 0.044 | 0.000 | 0.041 | |
| matrix_to_long | 0.008 | 0.000 | 0.010 | |
| normalize | 0.076 | 0.000 | 0.085 | |
| plot_CV_distr | 0.744 | 0.000 | 0.743 | |
| plot_PCA | 1.044 | 0.000 | 1.045 | |
| plot_PVCA | 25.168 | 0.032 | 25.254 | |
| plot_PVCA.df | 24.48 | 0.02 | 24.54 | |
| plot_corr_matrix | 0.056 | 0.000 | 0.058 | |
| plot_heatmap_diagnostic | 1.312 | 0.004 | 1.321 | |
| plot_heatmap_generic | 0.584 | 0.008 | 0.591 | |
| plot_hierarchical_clustering | 0.560 | 0.008 | 0.570 | |
| plot_peptide_corr_distribution | 1.700 | 0.000 | 1.704 | |
| plot_protein_corrplot | 0.268 | 0.000 | 0.265 | |
| plot_sample_corr_distribution | 2.236 | 0.004 | 2.249 | |
| plot_sample_corr_heatmap | 0.760 | 0.000 | 0.761 | |
| plot_sample_mean_or_boxplot | 5.352 | 0.000 | 5.371 | |
| prepare_PVCA_df | 25.708 | 0.004 | 25.764 | |
| sample_annotation_to_colors | 0.064 | 0.000 | 0.062 | |
| transform_raw_data | 0.016 | 0.000 | 0.017 | |