| Back to Multiple platform build/check report for BioC 3.12 |
|
This page was generated on 2021-05-06 12:32:50 -0400 (Thu, 06 May 2021).
|
To the developers/maintainers of the proBAMr package: Please make sure to use the following settings in order to reproduce any error or warning you see on this page. |
| Package 1387/1974 | Hostname | OS / Arch | INSTALL | BUILD | CHECK | BUILD BIN | ||||||||
| proBAMr 1.24.0 (landing page) Xiaojing Wang
| malbec1 | Linux (Ubuntu 18.04.5 LTS) / x86_64 | OK | OK | OK | |||||||||
| tokay1 | Windows Server 2012 R2 Standard / x64 | OK | OK | OK | OK | |||||||||
| merida1 | macOS 10.14.6 Mojave / x86_64 | OK | OK | OK | OK | |||||||||
| Package: proBAMr |
| Version: 1.24.0 |
| Command: C:\cygwin\bin\curl.exe -O http://172.29.0.3/BBS/3.12/bioc/src/contrib/proBAMr_1.24.0.tar.gz && rm -rf proBAMr.buildbin-libdir && mkdir proBAMr.buildbin-libdir && C:\Users\biocbuild\bbs-3.12-bioc\R\bin\R.exe CMD INSTALL --merge-multiarch --build --library=proBAMr.buildbin-libdir proBAMr_1.24.0.tar.gz && C:\Users\biocbuild\bbs-3.12-bioc\R\bin\R.exe CMD INSTALL proBAMr_1.24.0.zip && rm proBAMr_1.24.0.tar.gz proBAMr_1.24.0.zip |
| StartedAt: 2021-05-05 18:23:43 -0400 (Wed, 05 May 2021) |
| EndedAt: 2021-05-05 18:25:17 -0400 (Wed, 05 May 2021) |
| EllapsedTime: 93.5 seconds |
| RetCode: 0 |
| Status: OK |
##############################################################################
##############################################################################
###
### Running command:
###
### C:\cygwin\bin\curl.exe -O http://172.29.0.3/BBS/3.12/bioc/src/contrib/proBAMr_1.24.0.tar.gz && rm -rf proBAMr.buildbin-libdir && mkdir proBAMr.buildbin-libdir && C:\Users\biocbuild\bbs-3.12-bioc\R\bin\R.exe CMD INSTALL --merge-multiarch --build --library=proBAMr.buildbin-libdir proBAMr_1.24.0.tar.gz && C:\Users\biocbuild\bbs-3.12-bioc\R\bin\R.exe CMD INSTALL proBAMr_1.24.0.zip && rm proBAMr_1.24.0.tar.gz proBAMr_1.24.0.zip
###
##############################################################################
##############################################################################
% Total % Received % Xferd Average Speed Time Time Time Current
Dload Upload Total Spent Left Speed
0 0 0 0 0 0 0 0 --:--:-- --:--:-- --:--:-- 0
100 394k 100 394k 0 0 17.2M 0 --:--:-- --:--:-- --:--:-- 18.3M
install for i386
* installing *source* package 'proBAMr' ...
** using staged installation
** R
** inst
** byte-compile and prepare package for lazy loading
** help
*** installing help indices
converting help for package 'proBAMr'
finding HTML links ... done
PSMtab2SAM html
PrepareAnnotationGENCODE html
** building package indices
** installing vignettes
** testing if installed package can be loaded from temporary location
** testing if installed package can be loaded from final location
** testing if installed package keeps a record of temporary installation path
install for x64
* installing *source* package 'proBAMr' ...
** testing if installed package can be loaded
* MD5 sums
packaged installation of 'proBAMr' as proBAMr_1.24.0.zip
* DONE (proBAMr)
* installing to library 'C:/Users/biocbuild/bbs-3.12-bioc/R/library'
package 'proBAMr' successfully unpacked and MD5 sums checked