| Back to Multiple platform build/check report for BioC 3.12 |
|
This page was generated on 2021-05-06 12:32:49 -0400 (Thu, 06 May 2021).
|
To the developers/maintainers of the primirTSS package: Please make sure to use the following settings in order to reproduce any error or warning you see on this page. |
| Package 1383/1974 | Hostname | OS / Arch | INSTALL | BUILD | CHECK | BUILD BIN | ||||||||
| primirTSS 1.8.0 (landing page) Pumin Li
| malbec1 | Linux (Ubuntu 18.04.5 LTS) / x86_64 | OK | OK | WARNINGS | |||||||||
| tokay1 | Windows Server 2012 R2 Standard / x64 | OK | OK | WARNINGS | OK | |||||||||
| merida1 | macOS 10.14.6 Mojave / x86_64 | OK | OK | WARNINGS | OK | |||||||||
| Package: primirTSS |
| Version: 1.8.0 |
| Command: rm -rf primirTSS.buildbin-libdir && mkdir primirTSS.buildbin-libdir && C:\Users\biocbuild\bbs-3.12-bioc\R\bin\R.exe --arch x64 CMD INSTALL --no-multiarch --build --library=primirTSS.buildbin-libdir primirTSS_1.8.0.tar.gz |
| StartedAt: 2021-05-06 09:47:49 -0400 (Thu, 06 May 2021) |
| EndedAt: 2021-05-06 09:49:12 -0400 (Thu, 06 May 2021) |
| EllapsedTime: 83.5 seconds |
| RetCode: 0 |
| Status: OK |
| PackageFile: primirTSS_1.8.0.zip |
| PackageFileSize: 3.841 MiB |
##############################################################################
##############################################################################
###
### Running command:
###
### rm -rf primirTSS.buildbin-libdir && mkdir primirTSS.buildbin-libdir && C:\Users\biocbuild\bbs-3.12-bioc\R\bin\R.exe --arch x64 CMD INSTALL --no-multiarch --build --library=primirTSS.buildbin-libdir primirTSS_1.8.0.tar.gz
###
##############################################################################
##############################################################################
* installing *source* package 'primirTSS' ...
** using staged installation
** R
** inst
** byte-compile and prepare package for lazy loading
** help
*** installing help indices
converting help for package 'primirTSS'
finding HTML links ... done
find_tss html
peak_join html
peak_merge html
plot_primiRNA html
primirTSS html
run_primirTSSapp html
trans_cor html
** building package indices
** installing vignettes
** testing if installed package can be loaded from temporary location
** testing if installed package can be loaded from final location
** testing if installed package keeps a record of temporary installation path
* MD5 sums
packaged installation of 'primirTSS' as primirTSS_1.8.0.zip
* DONE (primirTSS)