| Back to Multiple platform build/check report for BioC 3.12 |
|
This page was generated on 2021-05-06 12:36:10 -0400 (Thu, 06 May 2021).
|
To the developers/maintainers of the preciseTAD package: Please make sure to use the following settings in order to reproduce any error or warning you see on this page. |
| Package 1378/1974 | Hostname | OS / Arch | INSTALL | BUILD | CHECK | BUILD BIN | ||||||||
| preciseTAD 1.0.0 (landing page) Spiro Stilianoudakis
| malbec1 | Linux (Ubuntu 18.04.5 LTS) / x86_64 | ERROR | ERROR | skipped | |||||||||
| tokay1 | Windows Server 2012 R2 Standard / x64 | ERROR | ERROR | skipped | skipped | |||||||||
| merida1 | macOS 10.14.6 Mojave / x86_64 | ERROR | ERROR | skipped | skipped | |||||||||
| Package: preciseTAD |
| Version: 1.0.0 |
| Command: /Library/Frameworks/R.framework/Versions/Current/Resources/bin/R CMD build --keep-empty-dirs --no-resave-data preciseTAD |
| StartedAt: 2021-05-05 21:21:47 -0400 (Wed, 05 May 2021) |
| EndedAt: 2021-05-05 21:21:48 -0400 (Wed, 05 May 2021) |
| EllapsedTime: 1.2 seconds |
| RetCode: 1 |
| Status: ERROR |
| PackageFile: None |
| PackageFileSize: NA |
##############################################################################
##############################################################################
###
### Running command:
###
### /Library/Frameworks/R.framework/Versions/Current/Resources/bin/R CMD build --keep-empty-dirs --no-resave-data preciseTAD
###
##############################################################################
##############################################################################
* checking for file ‘preciseTAD/DESCRIPTION’ ... OK
* preparing ‘preciseTAD’:
* checking DESCRIPTION meta-information ... OK
* installing the package to build vignettes
-----------------------------------
ERROR: dependency ‘DMwR’ is not available for package ‘preciseTAD’
* removing ‘/private/tmp/RtmpfOUTZ2/Rinst10d7d26167bd5/preciseTAD’
-----------------------------------
ERROR: package installation failed