| Back to Multiple platform build/check report for BioC 3.12 |
|
This page was generated on 2021-05-06 12:32:48 -0400 (Thu, 06 May 2021).
|
To the developers/maintainers of the powerTCR package: Please make sure to use the following settings in order to reproduce any error or warning you see on this page. |
| Package 1371/1974 | Hostname | OS / Arch | INSTALL | BUILD | CHECK | BUILD BIN | ||||||||
| powerTCR 1.10.3 (landing page) Hillary Koch
| malbec1 | Linux (Ubuntu 18.04.5 LTS) / x86_64 | OK | OK | WARNINGS | |||||||||
| tokay1 | Windows Server 2012 R2 Standard / x64 | OK | OK | WARNINGS | OK | |||||||||
| merida1 | macOS 10.14.6 Mojave / x86_64 | OK | OK | WARNINGS | OK | |||||||||
| Package: powerTCR |
| Version: 1.10.3 |
| Command: rm -rf powerTCR.buildbin-libdir && mkdir powerTCR.buildbin-libdir && C:\Users\biocbuild\bbs-3.12-bioc\R\bin\R.exe CMD INSTALL --merge-multiarch --build --library=powerTCR.buildbin-libdir powerTCR_1.10.3.tar.gz |
| StartedAt: 2021-05-06 09:47:14 -0400 (Thu, 06 May 2021) |
| EndedAt: 2021-05-06 09:47:52 -0400 (Thu, 06 May 2021) |
| EllapsedTime: 38.0 seconds |
| RetCode: 0 |
| Status: OK |
| PackageFile: powerTCR_1.10.3.zip |
| PackageFileSize: 420.9 KiB |
##############################################################################
##############################################################################
###
### Running command:
###
### rm -rf powerTCR.buildbin-libdir && mkdir powerTCR.buildbin-libdir && C:\Users\biocbuild\bbs-3.12-bioc\R\bin\R.exe CMD INSTALL --merge-multiarch --build --library=powerTCR.buildbin-libdir powerTCR_1.10.3.tar.gz
###
##############################################################################
##############################################################################
install for i386
* installing *source* package 'powerTCR' ...
** using staged installation
** R
** data
*** moving datasets to lazyload DB
** inst
** byte-compile and prepare package for lazy loading
** help
*** installing help indices
converting help for package 'powerTCR'
finding HTML links ... done
Accessors html
JS_desponds html
JS_dist html
JS_spliced html
clusterPlot html
discgammagpd html
fdesponds html
fdiscgammagpd html
get_bootstraps html
get_distances html
parse html
repertoires html
** building package indices
** installing vignettes
** testing if installed package can be loaded from temporary location
** testing if installed package can be loaded from final location
** testing if installed package keeps a record of temporary installation path
install for x64
* installing *source* package 'powerTCR' ...
** testing if installed package can be loaded
* MD5 sums
packaged installation of 'powerTCR' as powerTCR_1.10.3.zip
* DONE (powerTCR)