| Back to Multiple platform build/check report for BioC 3.12 |
|
This page was generated on 2021-05-06 12:32:47 -0400 (Thu, 06 May 2021).
|
To the developers/maintainers of the pmp package: Please make sure to use the following settings in order to reproduce any error or warning you see on this page. |
| Package 1363/1974 | Hostname | OS / Arch | INSTALL | BUILD | CHECK | BUILD BIN | ||||||||
| pmp 1.2.1 (landing page) Andris Jankevics
| malbec1 | Linux (Ubuntu 18.04.5 LTS) / x86_64 | OK | OK | OK | |||||||||
| tokay1 | Windows Server 2012 R2 Standard / x64 | OK | OK | OK | OK | |||||||||
| merida1 | macOS 10.14.6 Mojave / x86_64 | OK | OK | OK | OK | |||||||||
| Package: pmp |
| Version: 1.2.1 |
| Command: rm -rf pmp.buildbin-libdir && mkdir pmp.buildbin-libdir && C:\Users\biocbuild\bbs-3.12-bioc\R\bin\R.exe CMD INSTALL --merge-multiarch --build --library=pmp.buildbin-libdir pmp_1.2.1.tar.gz |
| StartedAt: 2021-05-06 09:46:50 -0400 (Thu, 06 May 2021) |
| EndedAt: 2021-05-06 09:47:28 -0400 (Thu, 06 May 2021) |
| EllapsedTime: 38.2 seconds |
| RetCode: 0 |
| Status: OK |
| PackageFile: pmp_1.2.1.zip |
| PackageFileSize: 3.288 MiB |
##############################################################################
##############################################################################
###
### Running command:
###
### rm -rf pmp.buildbin-libdir && mkdir pmp.buildbin-libdir && C:\Users\biocbuild\bbs-3.12-bioc\R\bin\R.exe CMD INSTALL --merge-multiarch --build --library=pmp.buildbin-libdir pmp_1.2.1.tar.gz
###
##############################################################################
##############################################################################
install for i386
* installing *source* package 'pmp' ...
** using staged installation
** R
** data
*** moving datasets to lazyload DB
** inst
** byte-compile and prepare package for lazy loading
** help
*** installing help indices
converting help for package 'pmp'
finding HTML links ... done
MTBLS79 html
QCRSC html
filter_peaks_by_blank html
filter_peaks_by_fraction html
filter_peaks_by_rsd html
filter_samples_by_mv html
glog_plot_optimised_lambda html
glog_transformation html
mv_imputation html
normalise_to_sum html
pqn_normalisation html
processing_history html
remove_peaks html
sbc_plot html
** building package indices
** installing vignettes
** testing if installed package can be loaded from temporary location
** testing if installed package can be loaded from final location
** testing if installed package keeps a record of temporary installation path
install for x64
* installing *source* package 'pmp' ...
** testing if installed package can be loaded
* MD5 sums
packaged installation of 'pmp' as pmp_1.2.1.zip
* DONE (pmp)