| Back to Multiple platform build/check report for BioC 3.12 |
|
This page was generated on 2021-05-06 12:32:47 -0400 (Thu, 06 May 2021).
|
To the developers/maintainers of the plrs package: Please make sure to use the following settings in order to reproduce any error or warning you see on this page. |
| Package 1360/1974 | Hostname | OS / Arch | INSTALL | BUILD | CHECK | BUILD BIN | ||||||||
Gwenael G.R. Leday to
| malbec1 | Linux (Ubuntu 18.04.5 LTS) / x86_64 | OK | OK | ERROR | |||||||||
| tokay1 | Windows Server 2012 R2 Standard / x64 | OK | OK | ERROR | OK | |||||||||
| merida1 | macOS 10.14.6 Mojave / x86_64 | OK | OK | ERROR | OK | |||||||||
| Package: plrs |
| Version: 1.30.0 |
| Command: rm -rf plrs.buildbin-libdir && mkdir plrs.buildbin-libdir && C:\Users\biocbuild\bbs-3.12-bioc\R\bin\R.exe CMD INSTALL --merge-multiarch --build --library=plrs.buildbin-libdir plrs_1.30.0.tar.gz |
| StartedAt: 2021-05-06 09:46:39 -0400 (Thu, 06 May 2021) |
| EndedAt: 2021-05-06 09:47:14 -0400 (Thu, 06 May 2021) |
| EllapsedTime: 34.8 seconds |
| RetCode: 0 |
| Status: OK |
| PackageFile: plrs_1.30.0.zip |
| PackageFileSize: 1.162 MiB |
##############################################################################
##############################################################################
###
### Running command:
###
### rm -rf plrs.buildbin-libdir && mkdir plrs.buildbin-libdir && C:\Users\biocbuild\bbs-3.12-bioc\R\bin\R.exe CMD INSTALL --merge-multiarch --build --library=plrs.buildbin-libdir plrs_1.30.0.tar.gz
###
##############################################################################
##############################################################################
install for i386
* installing *source* package 'plrs' ...
** using staged installation
** R
** data
** inst
** byte-compile and prepare package for lazy loading
** help
*** installing help indices
converting help for package 'plrs'
finding HTML links ... done
criteria html
modify.conf html
neveCN17 html
Rd warning: C:/Users/biocbuild/bbs-3.12-bioc/tmpdir/RtmpWe87Xm/R.INSTALL2f907d2d1ce/plrs/man/neveCN17.Rd:15: file link 'cghCall' in package 'CGHbase' does not exist and so has been treated as a topic
neveGE17 html
Rd warning: C:/Users/biocbuild/bbs-3.12-bioc/tmpdir/RtmpWe87Xm/R.INSTALL2f907d2d1ce/plrs/man/neveGE17.Rd:15: file link 'ExpressionSet' in package 'Biobase' does not exist and so has been treated as a topic
plot-methods html
plrs-class html
plrs-package html
plrs html
plrs.cb html
plrs.select-class html
plrs.select html
plrs.series-class html
plrs.series html
Rd warning: C:/Users/biocbuild/bbs-3.12-bioc/tmpdir/RtmpWe87Xm/R.INSTALL2f907d2d1ce/plrs/man/plrs.series.Rd:32: file link 'ExpressionSet' in package 'Biobase' does not exist and so has been treated as a topic
Rd warning: C:/Users/biocbuild/bbs-3.12-bioc/tmpdir/RtmpWe87Xm/R.INSTALL2f907d2d1ce/plrs/man/plrs.series.Rd:33: file link 'cghSeg' in package 'CGHbase' does not exist and so has been treated as a topic
Rd warning: C:/Users/biocbuild/bbs-3.12-bioc/tmpdir/RtmpWe87Xm/R.INSTALL2f907d2d1ce/plrs/man/plrs.series.Rd:33: file link 'cghCall' in package 'CGHbase' does not exist and so has been treated as a topic
Rd warning: C:/Users/biocbuild/bbs-3.12-bioc/tmpdir/RtmpWe87Xm/R.INSTALL2f907d2d1ce/plrs/man/plrs.series.Rd:47: file link 'ExpressionSet' in package 'Biobase' does not exist and so has been treated as a topic
Rd warning: C:/Users/biocbuild/bbs-3.12-bioc/tmpdir/RtmpWe87Xm/R.INSTALL2f907d2d1ce/plrs/man/plrs.series.Rd:48: file link 'cghSeg' in package 'CGHbase' does not exist and so has been treated as a topic
Rd warning: C:/Users/biocbuild/bbs-3.12-bioc/tmpdir/RtmpWe87Xm/R.INSTALL2f907d2d1ce/plrs/man/plrs.series.Rd:48: file link 'cghCall' in package 'CGHbase' does not exist and so has been treated as a topic
Rd warning: C:/Users/biocbuild/bbs-3.12-bioc/tmpdir/RtmpWe87Xm/R.INSTALL2f907d2d1ce/plrs/man/plrs.series.Rd:50: file link 'cghSeg' in package 'CGHbase' does not exist and so has been treated as a topic
plrs.sim html
plrs.test html
predict.plrs html
** building package indices
** installing vignettes
** testing if installed package can be loaded from temporary location
Warning: Package 'plrs' is deprecated and will be removed from Bioconductor
version 3.13
** testing if installed package can be loaded from final location
Warning: Package 'plrs' is deprecated and will be removed from Bioconductor
version 3.13
** testing if installed package keeps a record of temporary installation path
install for x64
* installing *source* package 'plrs' ...
** testing if installed package can be loaded
Warning: Package 'plrs' is deprecated and will be removed from Bioconductor
version 3.13
* MD5 sums
packaged installation of 'plrs' as plrs_1.30.0.zip
* DONE (plrs)