| Back to Multiple platform build/check report for BioC 3.12 |
|
This page was generated on 2021-05-06 12:32:46 -0400 (Thu, 06 May 2021).
|
To the developers/maintainers of the pipeFrame package: Please make sure to use the following settings in order to reproduce any error or warning you see on this page. |
| Package 1352/1974 | Hostname | OS / Arch | INSTALL | BUILD | CHECK | BUILD BIN | ||||||||
| pipeFrame 1.6.0 (landing page) Zheng Wei
| malbec1 | Linux (Ubuntu 18.04.5 LTS) / x86_64 | OK | OK | OK | |||||||||
| tokay1 | Windows Server 2012 R2 Standard / x64 | OK | OK | OK | OK | |||||||||
| merida1 | macOS 10.14.6 Mojave / x86_64 | OK | OK | OK | OK | |||||||||
| Package: pipeFrame |
| Version: 1.6.0 |
| Command: C:\Users\biocbuild\bbs-3.12-bioc\R\bin\R.exe CMD check --force-multiarch --install=check:pipeFrame.install-out.txt --library=C:\Users\biocbuild\bbs-3.12-bioc\R\library --no-vignettes --timings pipeFrame_1.6.0.tar.gz |
| StartedAt: 2021-05-06 05:35:14 -0400 (Thu, 06 May 2021) |
| EndedAt: 2021-05-06 05:41:07 -0400 (Thu, 06 May 2021) |
| EllapsedTime: 352.4 seconds |
| RetCode: 0 |
| Status: OK |
| CheckDir: pipeFrame.Rcheck |
| Warnings: 0 |
##############################################################################
##############################################################################
###
### Running command:
###
### C:\Users\biocbuild\bbs-3.12-bioc\R\bin\R.exe CMD check --force-multiarch --install=check:pipeFrame.install-out.txt --library=C:\Users\biocbuild\bbs-3.12-bioc\R\library --no-vignettes --timings pipeFrame_1.6.0.tar.gz
###
##############################################################################
##############################################################################
* using log directory 'C:/Users/biocbuild/bbs-3.12-bioc/meat/pipeFrame.Rcheck'
* using R version 4.0.5 (2021-03-31)
* using platform: x86_64-w64-mingw32 (64-bit)
* using session charset: ISO8859-1
* using option '--no-vignettes'
* checking for file 'pipeFrame/DESCRIPTION' ... OK
* checking extension type ... Package
* this is package 'pipeFrame' version '1.6.0'
* package encoding: UTF-8
* checking package namespace information ... OK
* checking package dependencies ... OK
* checking if this is a source package ... OK
* checking if there is a namespace ... OK
* checking for hidden files and directories ... OK
* checking for portable file names ... OK
* checking whether package 'pipeFrame' can be installed ... OK
* checking installed package size ... OK
* checking package directory ... OK
* checking 'build' directory ... OK
* checking DESCRIPTION meta-information ... OK
* checking top-level files ... OK
* checking for left-over files ... OK
* checking index information ... OK
* checking package subdirectories ... OK
* checking R files for non-ASCII characters ... OK
* checking R files for syntax errors ... OK
* loading checks for arch 'i386'
** checking whether the package can be loaded ... OK
** checking whether the package can be loaded with stated dependencies ... OK
** checking whether the package can be unloaded cleanly ... OK
** checking whether the namespace can be loaded with stated dependencies ... OK
** checking whether the namespace can be unloaded cleanly ... OK
* loading checks for arch 'x64'
** checking whether the package can be loaded ... OK
** checking whether the package can be loaded with stated dependencies ... OK
** checking whether the package can be unloaded cleanly ... OK
** checking whether the namespace can be loaded with stated dependencies ... OK
** checking whether the namespace can be unloaded cleanly ... OK
* checking dependencies in R code ... OK
* checking S3 generic/method consistency ... OK
* checking replacement functions ... OK
* checking foreign function calls ... OK
* checking R code for possible problems ... OK
* checking Rd files ... OK
* checking Rd metadata ... OK
* checking Rd cross-references ... OK
* checking for missing documentation entries ... OK
* checking for code/documentation mismatches ... OK
* checking Rd \usage sections ... OK
* checking Rd contents ... OK
* checking for unstated dependencies in examples ... OK
* checking files in 'vignettes' ... OK
* checking examples ...
** running examples for arch 'i386' ... OK
Examples with CPU (user + system) or elapsed time > 5s
user system elapsed
Step-class 7.39 2.01 9.58
** running examples for arch 'x64' ... OK
Examples with CPU (user + system) or elapsed time > 5s
user system elapsed
Step-class 7.56 0.81 8.53
* checking for unstated dependencies in 'tests' ... OK
* checking tests ...
** running tests for arch 'i386' ...
Running 'testthat.R'
OK
** running tests for arch 'x64' ...
Running 'testthat.R'
OK
* checking for unstated dependencies in vignettes ... OK
* checking package vignettes in 'inst/doc' ... OK
* checking running R code from vignettes ... SKIPPED
* checking re-building of vignette outputs ... SKIPPED
* checking PDF version of manual ... OK
* DONE
Status: OK
pipeFrame.Rcheck/00install.out
##############################################################################
##############################################################################
###
### Running command:
###
### C:\cygwin\bin\curl.exe -O http://172.29.0.3/BBS/3.12/bioc/src/contrib/pipeFrame_1.6.0.tar.gz && rm -rf pipeFrame.buildbin-libdir && mkdir pipeFrame.buildbin-libdir && C:\Users\biocbuild\bbs-3.12-bioc\R\bin\R.exe CMD INSTALL --merge-multiarch --build --library=pipeFrame.buildbin-libdir pipeFrame_1.6.0.tar.gz && C:\Users\biocbuild\bbs-3.12-bioc\R\bin\R.exe CMD INSTALL pipeFrame_1.6.0.zip && rm pipeFrame_1.6.0.tar.gz pipeFrame_1.6.0.zip
###
##############################################################################
##############################################################################
% Total % Received % Xferd Average Speed Time Time Time Current
Dload Upload Total Spent Left Speed
0 0 0 0 0 0 0 0 --:--:-- --:--:-- --:--:-- 0
100 388k 100 388k 0 0 14.7M 0 --:--:-- --:--:-- --:--:-- 15.1M
install for i386
* installing *source* package 'pipeFrame' ...
** using staged installation
** R
** inst
** byte-compile and prepare package for lazy loading
** help
*** installing help indices
converting help for package 'pipeFrame'
finding HTML links ... done
Step-class html
Utils html
getObjsInPipe html
graphMng html
ignoreCheck html
initPipeFrame html
loadConfig html
loadStep html
runWithFinishCheck html
setGenome html
setJobName html
setPipeName html
setRefDir html
setThreads html
setTmpDir html
** building package indices
** installing vignettes
** testing if installed package can be loaded from temporary location
** testing if installed package can be loaded from final location
** testing if installed package keeps a record of temporary installation path
install for x64
* installing *source* package 'pipeFrame' ...
** testing if installed package can be loaded
* MD5 sums
packaged installation of 'pipeFrame' as pipeFrame_1.6.0.zip
* DONE (pipeFrame)
* installing to library 'C:/Users/biocbuild/bbs-3.12-bioc/R/library'
package 'pipeFrame' successfully unpacked and MD5 sums checked
|
pipeFrame.Rcheck/tests_i386/testthat.Rout
R version 4.0.5 (2021-03-31) -- "Shake and Throw"
Copyright (C) 2021 The R Foundation for Statistical Computing
Platform: i386-w64-mingw32/i386 (32-bit)
R is free software and comes with ABSOLUTELY NO WARRANTY.
You are welcome to redistribute it under certain conditions.
Type 'license()' or 'licence()' for distribution details.
R is a collaborative project with many contributors.
Type 'contributors()' for more information and
'citation()' on how to cite R or R packages in publications.
Type 'demo()' for some demos, 'help()' for on-line help, or
'help.start()' for an HTML browser interface to help.
Type 'q()' to quit R.
> library(testthat)
> library(pipeFrame)
>
> test_check("pipeFrame")
[1] "2021-05-06 05:40:40 EDT"
[1] "2021-05-06 05:40:40 EDT"
[1] "2021-05-06 05:40:40 EDT"
[1] "2021-05-06 05:40:40 EDT"
[1] "2021-05-06 05:40:40 EDT"
[1] "2021-05-06 05:40:40 EDT"
[1] "2021-05-06 05:40:40 EDT"
[1] "2021-05-06 05:40:40 EDT"
[1] "2021-05-06 05:40:41 EDT"
[1] "2021-05-06 05:40:41 EDT"
[1] "2021-05-06 05:40:41 EDT"
[1] "2021-05-06 05:40:41 EDT"
[1] "2021-05-06 05:40:41 EDT"
[1] "2021-05-06 05:40:41 EDT"
[1] "2021-05-06 05:40:41 EDT"
[1] "2021-05-06 05:40:41 EDT"
[1] "2021-05-06 05:40:41 EDT"
[1] "2021-05-06 05:40:41 EDT"
[1] "2021-05-06 05:40:41 EDT"
[1] "2021-05-06 05:40:41 EDT"
[1] "2021-05-06 05:40:41 EDT"
[1] "2021-05-06 05:40:41 EDT"
[1] "2021-05-06 05:40:41 EDT"
[1] "2021-05-06 05:40:41 EDT"
[1] "2021-05-06 05:40:41 EDT"
[1] "2021-05-06 05:40:41 EDT"
[1] "2021-05-06 05:40:41 EDT"
[1] "2021-05-06 05:40:41 EDT"
[1] "2021-05-06 05:40:41 EDT"
[1] "2021-05-06 05:40:41 EDT"
[1] "C:\\Users\\biocbuild\\bbs-3.12-bioc\\meat\\pipeFrame.Rcheck\\tests_i386\\testthat\\testJobName\\Step_01_pipe_OverlappedRandomRegion\\test.bed"
[1] "2021-05-06 05:40:42 EDT"
[1] "2021-05-06 05:40:42 EDT"
[1] "2021-05-06 05:40:42 EDT"
[1] "2021-05-06 05:40:42 EDT"
[1] "2021-05-06 05:40:42 EDT"
[1] "2021-05-06 05:40:42 EDT"
[1] "2021-05-06 05:40:42 EDT"
[1] "2021-05-06 05:40:42 EDT"
[1] "2021-05-06 05:40:42 EDT"
[1] "2021-05-06 05:40:42 EDT"
[1] "2021-05-06 05:40:42 EDT"
[1] "2021-05-06 05:40:42 EDT"
[1] "C:\\Users\\biocbuild\\bbs-3.12-bioc\\meat\\pipeFrame.Rcheck\\tests_i386\\testthat\\testJobName\\Step_00_pipe_RandomRegionOnGenome\\random.bed"
[1] "2021-05-06 05:40:42 EDT"
[1] "2021-05-06 05:40:42 EDT"
[1] "C:\\Users\\biocbuild\\bbs-3.12-bioc\\meat\\pipeFrame.Rcheck\\tests_i386\\testthat\\testJobName\\Step_01_pipe_OverlappedRandomRegion\\test.bed"
[1] "2021-05-06 05:40:43 EDT"
[1] "2021-05-06 05:40:43 EDT"
[1] "2021-05-06 05:40:43 EDT"
[1] "2021-05-06 05:40:43 EDT"
[1] "2021-05-06 05:40:43 EDT"
[1] "2021-05-06 05:40:43 EDT"
[1] "2021-05-06 05:40:43 EDT"
[1] "2021-05-06 05:40:43 EDT"
[1] "2021-05-06 05:40:43 EDT"
[1] "2021-05-06 05:40:43 EDT"
[1] "2021-05-06 05:40:43 EDT"
[1] "2021-05-06 05:40:43 EDT"
[1] "2021-05-06 05:40:43 EDT"
[1] "2021-05-06 05:40:43 EDT"
[ FAIL 0 | WARN 47 | SKIP 0 | PASS 29 ]
>
> proc.time()
user system elapsed
16.64 2.51 19.31
|
pipeFrame.Rcheck/tests_x64/testthat.Rout
R version 4.0.5 (2021-03-31) -- "Shake and Throw"
Copyright (C) 2021 The R Foundation for Statistical Computing
Platform: x86_64-w64-mingw32/x64 (64-bit)
R is free software and comes with ABSOLUTELY NO WARRANTY.
You are welcome to redistribute it under certain conditions.
Type 'license()' or 'licence()' for distribution details.
R is a collaborative project with many contributors.
Type 'contributors()' for more information and
'citation()' on how to cite R or R packages in publications.
Type 'demo()' for some demos, 'help()' for on-line help, or
'help.start()' for an HTML browser interface to help.
Type 'q()' to quit R.
> library(testthat)
> library(pipeFrame)
>
> test_check("pipeFrame")
[1] "2021-05-06 05:40:58 EDT"
[1] "2021-05-06 05:40:58 EDT"
[1] "2021-05-06 05:40:59 EDT"
[1] "2021-05-06 05:40:59 EDT"
[1] "2021-05-06 05:40:59 EDT"
[1] "2021-05-06 05:40:59 EDT"
[1] "2021-05-06 05:40:59 EDT"
[1] "2021-05-06 05:40:59 EDT"
[1] "2021-05-06 05:40:59 EDT"
[1] "2021-05-06 05:40:59 EDT"
[1] "2021-05-06 05:40:59 EDT"
[1] "2021-05-06 05:40:59 EDT"
[1] "2021-05-06 05:41:00 EDT"
[1] "2021-05-06 05:41:00 EDT"
[1] "2021-05-06 05:41:00 EDT"
[1] "2021-05-06 05:41:00 EDT"
[1] "2021-05-06 05:41:00 EDT"
[1] "2021-05-06 05:41:00 EDT"
[1] "2021-05-06 05:41:00 EDT"
[1] "2021-05-06 05:41:00 EDT"
[1] "2021-05-06 05:41:00 EDT"
[1] "2021-05-06 05:41:00 EDT"
[1] "2021-05-06 05:41:00 EDT"
[1] "2021-05-06 05:41:00 EDT"
[1] "2021-05-06 05:41:00 EDT"
[1] "2021-05-06 05:41:00 EDT"
[1] "2021-05-06 05:41:00 EDT"
[1] "2021-05-06 05:41:00 EDT"
[1] "2021-05-06 05:41:00 EDT"
[1] "2021-05-06 05:41:00 EDT"
[1] "C:\\Users\\biocbuild\\bbs-3.12-bioc\\meat\\pipeFrame.Rcheck\\tests_x64\\testthat\\testJobName\\Step_01_pipe_OverlappedRandomRegion\\test.bed"
[1] "2021-05-06 05:41:01 EDT"
[1] "2021-05-06 05:41:01 EDT"
[1] "2021-05-06 05:41:01 EDT"
[1] "2021-05-06 05:41:01 EDT"
[1] "2021-05-06 05:41:01 EDT"
[1] "2021-05-06 05:41:01 EDT"
[1] "2021-05-06 05:41:01 EDT"
[1] "2021-05-06 05:41:01 EDT"
[1] "2021-05-06 05:41:01 EDT"
[1] "2021-05-06 05:41:01 EDT"
[1] "2021-05-06 05:41:01 EDT"
[1] "2021-05-06 05:41:01 EDT"
[1] "C:\\Users\\biocbuild\\bbs-3.12-bioc\\meat\\pipeFrame.Rcheck\\tests_x64\\testthat\\testJobName\\Step_00_pipe_RandomRegionOnGenome\\random.bed"
[1] "2021-05-06 05:41:01 EDT"
[1] "2021-05-06 05:41:01 EDT"
[1] "C:\\Users\\biocbuild\\bbs-3.12-bioc\\meat\\pipeFrame.Rcheck\\tests_x64\\testthat\\testJobName\\Step_01_pipe_OverlappedRandomRegion\\test.bed"
[1] "2021-05-06 05:41:02 EDT"
[1] "2021-05-06 05:41:02 EDT"
[1] "2021-05-06 05:41:02 EDT"
[1] "2021-05-06 05:41:02 EDT"
[1] "2021-05-06 05:41:02 EDT"
[1] "2021-05-06 05:41:02 EDT"
[1] "2021-05-06 05:41:02 EDT"
[1] "2021-05-06 05:41:02 EDT"
[1] "2021-05-06 05:41:02 EDT"
[1] "2021-05-06 05:41:02 EDT"
[1] "2021-05-06 05:41:02 EDT"
[1] "2021-05-06 05:41:02 EDT"
[1] "2021-05-06 05:41:02 EDT"
[1] "2021-05-06 05:41:02 EDT"
[ FAIL 0 | WARN 47 | SKIP 0 | PASS 29 ]
>
> proc.time()
user system elapsed
17.10 1.10 18.43
|
|
pipeFrame.Rcheck/examples_i386/pipeFrame-Ex.timings
|
pipeFrame.Rcheck/examples_x64/pipeFrame-Ex.timings
|