| Back to Multiple platform build/check report for BioC 3.12 |
|
This page was generated on 2021-05-06 12:32:46 -0400 (Thu, 06 May 2021).
|
To the developers/maintainers of the pipeComp package: Please make sure to use the following settings in order to reproduce any error or warning you see on this page. |
| Package 1351/1974 | Hostname | OS / Arch | INSTALL | BUILD | CHECK | BUILD BIN | ||||||||
| pipeComp 1.0.0 (landing page) Pierre-Luc Germain
| malbec1 | Linux (Ubuntu 18.04.5 LTS) / x86_64 | OK | OK | OK | |||||||||
| tokay1 | Windows Server 2012 R2 Standard / x64 | OK | OK | OK | OK | |||||||||
| merida1 | macOS 10.14.6 Mojave / x86_64 | OK | OK | OK | OK | |||||||||
| Package: pipeComp |
| Version: 1.0.0 |
| Command: C:\cygwin\bin\curl.exe -O http://172.29.0.3/BBS/3.12/bioc/src/contrib/pipeComp_1.0.0.tar.gz && rm -rf pipeComp.buildbin-libdir && mkdir pipeComp.buildbin-libdir && C:\Users\biocbuild\bbs-3.12-bioc\R\bin\R.exe CMD INSTALL --merge-multiarch --build --library=pipeComp.buildbin-libdir pipeComp_1.0.0.tar.gz && C:\Users\biocbuild\bbs-3.12-bioc\R\bin\R.exe CMD INSTALL pipeComp_1.0.0.zip && rm pipeComp_1.0.0.tar.gz pipeComp_1.0.0.zip |
| StartedAt: 2021-05-05 18:39:45 -0400 (Wed, 05 May 2021) |
| EndedAt: 2021-05-05 18:41:54 -0400 (Wed, 05 May 2021) |
| EllapsedTime: 128.4 seconds |
| RetCode: 0 |
| Status: OK |
##############################################################################
##############################################################################
###
### Running command:
###
### C:\cygwin\bin\curl.exe -O http://172.29.0.3/BBS/3.12/bioc/src/contrib/pipeComp_1.0.0.tar.gz && rm -rf pipeComp.buildbin-libdir && mkdir pipeComp.buildbin-libdir && C:\Users\biocbuild\bbs-3.12-bioc\R\bin\R.exe CMD INSTALL --merge-multiarch --build --library=pipeComp.buildbin-libdir pipeComp_1.0.0.tar.gz && C:\Users\biocbuild\bbs-3.12-bioc\R\bin\R.exe CMD INSTALL pipeComp_1.0.0.zip && rm pipeComp_1.0.0.tar.gz pipeComp_1.0.0.zip
###
##############################################################################
##############################################################################
% Total % Received % Xferd Average Speed Time Time Time Current
Dload Upload Total Spent Left Speed
0 0 0 0 0 0 0 0 --:--:-- --:--:-- --:--:-- 0
100 1051k 100 1051k 0 0 42.8M 0 --:--:-- --:--:-- --:--:-- 44.6M
install for i386
* installing *source* package 'pipeComp' ...
** using staged installation
** R
** data
** inst
** byte-compile and prepare package for lazy loading
** help
*** installing help indices
converting help for package 'pipeComp'
finding HTML links ... done
PipelineDefinition-methods html
PipelineDefinition html
addPipelineStep html
aggregatePipelineResults html
buildCombMatrix html
checkPipelinePackages html
clustMetricsCorr html
colCenterScale html
ctrlgenes html
dea_evalPlot_curve html
dea_pipeline html
defaultStepAggregation html
evalHeatmap html
evaluateClustering html
evaluateDEA html
evaluateDimRed html
evaluateNorm html
exampleDEAresults html
exampleResults html
farthestPoint html
getDimensionality html
getQualitativePalette html
match_evaluate_multiple html
mergePipelineResults html
mockPipeline html
parsePipNames html
pipeComp-package html
plotElapsed html
readPipelineResults html
runPipeline html
scrna_describeDatasets html
scrna_evalPlot_filtering html
scrna_evalPlot_overall html
scrna_evalPlot_silh html
scrna_pipeline html
stableG html
** building package indices
** installing vignettes
** testing if installed package can be loaded from temporary location
** testing if installed package can be loaded from final location
** testing if installed package keeps a record of temporary installation path
install for x64
* installing *source* package 'pipeComp' ...
** testing if installed package can be loaded
* MD5 sums
packaged installation of 'pipeComp' as pipeComp_1.0.0.zip
* DONE (pipeComp)
* installing to library 'C:/Users/biocbuild/bbs-3.12-bioc/R/library'
package 'pipeComp' successfully unpacked and MD5 sums checked