| Back to Multiple platform build/check report for BioC 3.12 |
|
This page was generated on 2021-05-06 12:32:44 -0400 (Thu, 06 May 2021).
|
To the developers/maintainers of the phantasus package: Please make sure to use the following settings in order to reproduce any error or warning you see on this page. |
| Package 1334/1974 | Hostname | OS / Arch | INSTALL | BUILD | CHECK | BUILD BIN | ||||||||
| phantasus 1.10.0 (landing page) Alexey Sergushichev
| malbec1 | Linux (Ubuntu 18.04.5 LTS) / x86_64 | OK | OK | OK | |||||||||
| tokay1 | Windows Server 2012 R2 Standard / x64 | OK | OK | OK | OK | |||||||||
| merida1 | macOS 10.14.6 Mojave / x86_64 | OK | OK | OK | OK | |||||||||
| Package: phantasus |
| Version: 1.10.0 |
| Command: rm -rf phantasus.buildbin-libdir && mkdir phantasus.buildbin-libdir && C:\Users\biocbuild\bbs-3.12-bioc\R\bin\R.exe CMD INSTALL --merge-multiarch --build --library=phantasus.buildbin-libdir phantasus_1.10.0.tar.gz |
| StartedAt: 2021-05-06 09:45:08 -0400 (Thu, 06 May 2021) |
| EndedAt: 2021-05-06 09:45:51 -0400 (Thu, 06 May 2021) |
| EllapsedTime: 42.4 seconds |
| RetCode: 0 |
| Status: OK |
| PackageFile: phantasus_1.10.0.zip |
| PackageFileSize: 7.938 MiB |
##############################################################################
##############################################################################
###
### Running command:
###
### rm -rf phantasus.buildbin-libdir && mkdir phantasus.buildbin-libdir && C:\Users\biocbuild\bbs-3.12-bioc\R\bin\R.exe CMD INSTALL --merge-multiarch --build --library=phantasus.buildbin-libdir phantasus_1.10.0.tar.gz
###
##############################################################################
##############################################################################
install for i386
* installing *source* package 'phantasus' ...
** using staged installation
** R
** data
*** moving datasets to lazyload DB
** inst
** byte-compile and prepare package for lazy loading
** help
*** installing help indices
converting help for package 'phantasus'
finding HTML links ... done
adjustDataset html
annotationDBMeta html
calcPCA html
calculatedAnnotation html
checkGPLsFallback html
colMeansByGroups html
collapseDataset html
convertByAnnotationDB html
createES html
es html
fgseaExample html
generatePreloadedSession html
getArchs4Files html
getES html
getGDS html
getGSE html
gseaPlot html
limmaAnalysis html
loadFromARCHS4 html
loadGEO html
loadPreloaded html
performKmeans html
queryAnnotationDBMeta html
read.gct html
reparseCachedESs html
reproduceInR html
servePhantasus html
shinyGAMAnalysis html
subsetES html
write.gct html
** building package indices
** installing vignettes
** testing if installed package can be loaded from temporary location
** testing if installed package can be loaded from final location
** testing if installed package keeps a record of temporary installation path
install for x64
* installing *source* package 'phantasus' ...
** testing if installed package can be loaded
* MD5 sums
packaged installation of 'phantasus' as phantasus_1.10.0.zip
* DONE (phantasus)