| Back to Multiple platform build/check report for BioC 3.12 |
|
This page was generated on 2021-05-06 12:32:44 -0400 (Thu, 06 May 2021).
|
To the developers/maintainers of the pepStat package: Please make sure to use the following settings in order to reproduce any error or warning you see on this page. |
| Package 1326/1974 | Hostname | OS / Arch | INSTALL | BUILD | CHECK | BUILD BIN | ||||||||
| pepStat 1.24.0 (landing page) Gregory C Imholte
| malbec1 | Linux (Ubuntu 18.04.5 LTS) / x86_64 | OK | OK | OK | |||||||||
| tokay1 | Windows Server 2012 R2 Standard / x64 | OK | OK | OK | OK | |||||||||
| merida1 | macOS 10.14.6 Mojave / x86_64 | OK | OK | OK | OK | |||||||||
| Package: pepStat |
| Version: 1.24.0 |
| Command: rm -rf pepStat.buildbin-libdir && mkdir pepStat.buildbin-libdir && C:\Users\biocbuild\bbs-3.12-bioc\R\bin\R.exe CMD INSTALL --merge-multiarch --build --library=pepStat.buildbin-libdir pepStat_1.24.0.tar.gz |
| StartedAt: 2021-05-06 09:44:39 -0400 (Thu, 06 May 2021) |
| EndedAt: 2021-05-06 09:45:19 -0400 (Thu, 06 May 2021) |
| EllapsedTime: 39.3 seconds |
| RetCode: 0 |
| Status: OK |
| PackageFile: pepStat_1.24.0.zip |
| PackageFileSize: 741 KiB |
##############################################################################
##############################################################################
###
### Running command:
###
### rm -rf pepStat.buildbin-libdir && mkdir pepStat.buildbin-libdir && C:\Users\biocbuild\bbs-3.12-bioc\R\bin\R.exe CMD INSTALL --merge-multiarch --build --library=pepStat.buildbin-libdir pepStat_1.24.0.tar.gz
###
##############################################################################
##############################################################################
install for i386
* installing *source* package 'pepStat' ...
** using staged installation
** R
** inst
** byte-compile and prepare package for lazy loading
No methods found in package 'GenomicRanges' for request: 'mcols<-' when loading 'pepStat'
No methods found in package 'GenomicRanges' for request: 'mcols' when loading 'pepStat'
No methods found in package 'IRanges' for request: 'values<-' when loading 'pepStat'
No methods found in package 'IRanges' for request: 'values' when loading 'pepStat'
** help
*** installing help indices
converting help for package 'pepStat'
finding HTML links ... done
baselineCorrect.pSet html
baseline_correct html
create_db html
finding level-2 HTML links ... done
makeCalls html
makePeptideSet html
normalizeArray html
peptideSet-methods html
peptideSet html
plotArray html
restab html
shinyPepStat html
slidingMean html
summarizePeptides html
** building package indices
** installing vignettes
** testing if installed package can be loaded from temporary location
No methods found in package 'GenomicRanges' for request: 'mcols<-' when loading 'pepStat'
No methods found in package 'GenomicRanges' for request: 'mcols' when loading 'pepStat'
No methods found in package 'IRanges' for request: 'values<-' when loading 'pepStat'
No methods found in package 'IRanges' for request: 'values' when loading 'pepStat'
** testing if installed package can be loaded from final location
No methods found in package 'GenomicRanges' for request: 'mcols<-' when loading 'pepStat'
No methods found in package 'GenomicRanges' for request: 'mcols' when loading 'pepStat'
No methods found in package 'IRanges' for request: 'values<-' when loading 'pepStat'
No methods found in package 'IRanges' for request: 'values' when loading 'pepStat'
** testing if installed package keeps a record of temporary installation path
install for x64
* installing *source* package 'pepStat' ...
** testing if installed package can be loaded
No methods found in package 'GenomicRanges' for request: 'mcols<-' when loading 'pepStat'
No methods found in package 'GenomicRanges' for request: 'mcols' when loading 'pepStat'
No methods found in package 'IRanges' for request: 'values<-' when loading 'pepStat'
No methods found in package 'IRanges' for request: 'values' when loading 'pepStat'
* MD5 sums
packaged installation of 'pepStat' as pepStat_1.24.0.zip
* DONE (pepStat)