| Back to Multiple platform build/check report for BioC 3.12 |
|
This page was generated on 2021-05-06 12:32:43 -0400 (Thu, 06 May 2021).
|
To the developers/maintainers of the peco package: Please make sure to use the following settings in order to reproduce any error or warning you see on this page. |
| Package 1324/1974 | Hostname | OS / Arch | INSTALL | BUILD | CHECK | BUILD BIN | ||||||||
| peco 1.2.0 (landing page) Chiaowen Joyce Hsiao
| malbec1 | Linux (Ubuntu 18.04.5 LTS) / x86_64 | OK | OK | OK | |||||||||
| tokay1 | Windows Server 2012 R2 Standard / x64 | OK | OK | OK | OK | |||||||||
| merida1 | macOS 10.14.6 Mojave / x86_64 | OK | OK | OK | OK | |||||||||
| Package: peco |
| Version: 1.2.0 |
| Command: rm -rf peco.buildbin-libdir && mkdir peco.buildbin-libdir && C:\Users\biocbuild\bbs-3.12-bioc\R\bin\R.exe CMD INSTALL --merge-multiarch --build --library=peco.buildbin-libdir peco_1.2.0.tar.gz |
| StartedAt: 2021-05-06 09:44:32 -0400 (Thu, 06 May 2021) |
| EndedAt: 2021-05-06 09:45:12 -0400 (Thu, 06 May 2021) |
| EllapsedTime: 39.5 seconds |
| RetCode: 0 |
| Status: OK |
| PackageFile: peco_1.2.0.zip |
| PackageFileSize: 1.137 MiB |
##############################################################################
##############################################################################
###
### Running command:
###
### rm -rf peco.buildbin-libdir && mkdir peco.buildbin-libdir && C:\Users\biocbuild\bbs-3.12-bioc\R\bin\R.exe CMD INSTALL --merge-multiarch --build --library=peco.buildbin-libdir peco_1.2.0.tar.gz
###
##############################################################################
##############################################################################
install for i386
* installing *source* package 'peco' ...
** using staged installation
** R
** data
** inst
** byte-compile and prepare package for lazy loading
** help
*** installing help indices
converting help for package 'peco'
finding HTML links ... done
cellcyclegenes_whitfield2002 html
circ_dist html
cycle_npreg_insample html
cycle_npreg_loglik html
cycle_npreg_mstep html
cycle_npreg_outsample html
data_transform_quantile html
fit_bspline html
fit_cyclical_many html
fit_loess html
fit_trendfilter html
initialize_grids html
intensity2circle html
model_5genes_predict html
model_5genes_train html
rotation html
sce_top101genes html
shift_origin html
training_human html
** building package indices
** installing vignettes
** testing if installed package can be loaded from temporary location
** testing if installed package can be loaded from final location
** testing if installed package keeps a record of temporary installation path
install for x64
* installing *source* package 'peco' ...
** testing if installed package can be loaded
* MD5 sums
packaged installation of 'peco' as peco_1.2.0.zip
* DONE (peco)